Workbook

Sheet BASE DE DATOS
B1: NUMERO | C1: NOMBRES | D1: APELLIDOS | E1: T. DOC. | F1: NU. DOC. | G1: TELEFONO | H1: DIA | I1: MES | J1: AÑO DE NACIMIENTO | K1: EDAD | L1: NIVEL DE HABILIDAD | M1: SNH | N1: SCAT | O1: CATEGORIA | P1: CLUB | Q1: COMENTARIOS | R1: NNUEVO
B2: 1 | C2: DANTE | D2: ÁLVAREZ CADAVID | E2: R.C | F2: 1023546562 | G2: 3007671971 | J2: 2018 | K2: =2025-J2 -> 7 | L2: PRINCIPIANTES | M2: =VLOOKUP($L2,CATEGORIAS!$I$2:$J$15,2,0) -> P | N2: =CONCATENATE($J2,$M2) -> 2018P | O2: =VLOOKUP($N2,CATEGORIAS!$B$1:$G$245,2,0) -> PRINCIPIANTES 7 Y 8 AÑOS | P2: AGUILAS BMX | S2: DAMAS | U2: LA DORADA BIKES
B3: 2 | C3: MATEO | D3: ARROYAVE RAMIREZ | E3: T.I | F3: 1017931522 | G3: 3004257738 | J3: 2008 | K3: =2025-J3 -> 17 | L3: NOVATOS | M3: =VLOOKUP($L3,CATEGORIAS!$I$2:$J$15,2,0) -> N | N3: =CONCATENATE($J3,$M3) -> 2008N | O3: =VLOOKUP($N3,CATEGORIAS!$B$1:$G$245,2,0) -> NOVATOS 17 AÑOS Y MAS | P3: AGUILAS BMX | S3: EXPERTOS | U3: INDEPENDIENTES
B4: 3 | C4: RENATO ADRIAN | D4: CHUNG MIRANDA | E4: DNI | F4: 79396579-1 | G4: 57947319125 | J4: 2015 | K4: =2025-J4 -> 10 | L4: PRINCIPIANTES | M4: =VLOOKUP($L4,CATEGORIAS!$I$2:$J$15,2,0) -> P | N4: =CONCATENATE($J4,$M4) -> 2015P | O4: =VLOOKUP($N4,CATEGORIAS!$B$1:$G$245,2,0) -> PRINCIPIANTES 9 Y 10 AÑOS | P4: AGUILAS BMX | S4: FOUR CROSS | U4: ESTRELLAS BMX
B5: 4 | C5: SAMUEL | D5: CUARTAS ARBELÁEZ | E5: T.I | F5: 1011399697 | G5: 3108363465 | J5: 2008 | K5: =2025-J5 -> 17 | L5: NOVATOS | M5: =VLOOKUP($L5,CATEGORIAS!$I$2:$J$15,2,0) -> N | N5: =CONCATENATE($J5,$M5) -> 2008N | O5: =VLOOKUP($N5,CATEGORIAS!$B$1:$G$245,2,0) -> NOVATOS 17 AÑOS Y MAS | P5: AGUILAS BMX | S5: MAMICROSS | U5: YEPES TEAM
B6: 5 | C6: SANTIAGO | D6: GALLÓN PELAEZ | E6: T.I | F6: 1034922986 | G6: 3023162886 | J6: 2012 | K6: =2025-J6 -> 13 | L6: NOVATOS | M6: =VLOOKUP($L6,CATEGORIAS!$I$2:$J$15,2,0) -> N | N6: =CONCATENATE($J6,$M6) -> 2012N | O6: =VLOOKUP($N6,CATEGORIAS!$B$1:$G$245,2,0) -> NOVATOS 13 Y 14 AÑOS | P6: AGUILAS BMX | S6: MASTER | U6: ROCKETS BMX RIONEGRO
B7: 6 | C7: EMMANUEL | D7: GARCÍA GIRALDO | E7: R.C | F7: 1023595478 | G7: 3186664493 | J7: 2019 | K7: =2025-J7 -> 6 | L7: PRINCIPIANTES | M7: =VLOOKUP($L7,CATEGORIAS!$I$2:$J$15,2,0) -> P | N7: =CONCATENATE($J7,$M7) -> 2019P | O7: =VLOOKUP($N7,CATEGORIAS!$B$1:$G$245,2,0) -> PRINCIPIANTES 6 AÑOS Y MENOS | P7: AGUILAS BMX | S7: MINI RIDERS CON PEDALES | U7: SUEÑOS DEPORTIVOS
B8: 7 | C8: MARIA ISABELA | D8: GARCÍA ORDOÑEZ | E8: T.I | F8: 1125282374 | G8: 3214982338 | J8: 2010 | K8: =2025-J8 -> 15 | L8: DAMAS | M8: =VLOOKUP($L8,CATEGORIAS!$I$2:$J$15,2,0) -> D | N8: =CONCATENATE($J8,$M8) -> 2010D | O8: =VLOOKUP($N8,CATEGORIAS!$B$1:$G$245,2,0) -> DAMAS 15 AÑOS Y MAS | P8: AGUILAS BMX | S8: MINI RIDERS SIN PEDALES | U8: FTL RUNNERS
B9: 8 | C9: SAMUEL | D9: GONZÁLEZ RÚA | E9: C.C | F9: 1020415174 | G9: 3005426668 | J9: 2006 | K9: =2025-J9 -> 19 | L9: EXPERTOS | M9: =VLOOKUP($L9,CATEGORIAS!$I$2:$J$15,2,0) -> E | N9: =CONCATENATE($J9,$M9) -> 2006E | O9: =VLOOKUP($N9,CATEGORIAS!$B$1:$G$245,2,0) -> EXPERTOS 17 AÑOS Y MAS | P9: AGUILAS BMX | S9: NOVATOS | U9: TRIPULACIÓN BMX
A10: 9 | B10: 10 | C10: SAMUEL | D10: HURTADO CASTAÑEDA | E10: T.I | F10: 1011517401 | G10: 3008245424 | J10: 2014 | K10: =2025-J10 -> 11 | L10: NOVATOS | M10: =VLOOKUP($L10,CATEGORIAS!$I$2:$J$15,2,0) -> N | N10: =CONCATENATE($J10,$M10) -> 2014N | O10: =VLOOKUP($N10,CATEGORIAS!$B$1:$G$245,2,0) -> NOVATOS 11 Y 12 AÑOS | P10: AGUILAS BMX | S10: OPEN ELITE DAMAS | U10: CICLISMO DONMATÍAS
B11: 11 | C11: EMILIO | D11: LÓPEZ LONDOÑO | E11: T.I | F11: 1011410073 | G11: 3188271579 | J11: 2014 | K11: =2025-J11 -> 11 | L11: PRINCIPIANTES | M11: =VLOOKUP($L11,CATEGORIAS!$I$2:$J$15,2,0) -> P | N11: =CONCATENATE($J11,$M11) -> 2014P | O11: =VLOOKUP($N11,CATEGORIAS!$B$1:$G$245,2,0) -> PRINCIPIANTES 11 Y 12 AÑOS | P11: AGUILAS BMX | S11: OPEN ELITE VARONES | U11: teambmxsantafedeantioquia
B12: 12 | C12: JUAN JOSÉ | D12: LÓPEZ ROSAS | E12: T.I | F12: 1033200108 | G12: 3185282005 | J12: 2016 | K12: =2025-J12 -> 9 | L12: PRINCIPIANTES | M12: =VLOOKUP($L12,CATEGORIAS!$I$2:$J$15,2,0) -> P | N12: =CONCATENATE($J12,$M12) -> 2016P | O12: =VLOOKUP($N12,CATEGORIAS!$B$1:$G$245,2,0) -> PRINCIPIANTES 9 Y 10 AÑOS | P12: AGUILAS BMX | S12: PAPICROSS | U12: SALTAMONTES
B13: 13 | C13: THIAGO | D13: MORENO MARTÍNEZ | E13: T.I | F13: 1033193537 | G13: 3004003892 | J13: 2012 | K13: =2025-J13 -> 13 | L13: NOVATOS | M13: =VLOOKUP($L13,CATEGORIAS!$I$2:$J$15,2,0) -> N | N13: =CONCATENATE($J13,$M13) -> 2012N | O13: =VLOOKUP($N13,CATEGORIAS!$B$1:$G$245,2,0) -> NOVATOS 13 Y 14 AÑOS | P13: AGUILAS BMX | S13: PRINCIPIANTES | U13: TNT
B14: 14 | C14: JUAN JOSÉ | D14: OSORIO LÓPEZ | E14: T.I | F14: 1023646958 | G14: 3163511094 | J14: 2014 | K14: =2025-J14 -> 11 | L14: EXPERTOS | M14: =VLOOKUP($L14,CATEGORIAS!$I$2:$J$15,2,0) -> E | N14: =CONCATENATE($J14,$M14) -> 2014E | O14: =VLOOKUP($N14,CATEGORIAS!$B$1:$G$245,2,0) -> EXPERTOS 11 AÑOS | P14: AGUILAS BMX | S14: SEMILLEROS | U14: ELITE BMX
B15: 15 | C15: MATÍAS | D15: PEÑUELA VARGAS | E15: R.C | F15: 1031944910 | G15: 3175188452 | J15: 2018 | K15: =2025-J15 -> 7 | L15: PRINCIPIANTES | M15: =VLOOKUP($L15,CATEGORIAS!$I$2:$J$15,2,0) -> P | N15: =CONCATENATE($J15,$M15) -> 2018P | O15: =VLOOKUP($N15,CATEGORIAS!$B$1:$G$245,2,0) -> PRINCIPIANTES 7 Y 8 AÑOS | P15: AGUILAS BMX | S15: SENIOR MASTER
B16: 16 | C16: NEILER DAVID | D16: PEREZ UBARNE | E16: T.I | F16: 1028031038 | G16: 3233266317 | J16: 2015 | K16: =2025-J16 -> 10 | L16: EXPERTOS | M16: =VLOOKUP($L16,CATEGORIAS!$I$2:$J$15,2,0) -> E | N16: =CONCATENATE($J16,$M16) -> 2015E | O16: =VLOOKUP($N16,CATEGORIAS!$B$1:$G$245,2,0) -> EXPERTOS 10 AÑOS | P16: AGUILAS BMX
B17: 17 | C17: MATHIAS | D17: RAMÍREZ ARRAUTT | E17: T.I | F17: 1033266111 | G17: 3009790999 | J17: 2015 | K17: =2025-J17 -> 10 | L17: PRINCIPIANTES | M17: =VLOOKUP($L17,CATEGORIAS!$I$2:$J$15,2,0) -> P | N17: =CONCATENATE($J17,$M17) -> 2015P | O17: =VLOOKUP($N17,CATEGORIAS!$B$1:$G$245,2,0) -> PRINCIPIANTES 9 Y 10 AÑOS | P17: AGUILAS BMX
B18: 18 | C18: JERONIMO | D18: SANCHEZ RESTREPO | E18: T.I | F18: 1032188886 | G18: 3108399040 | J18: 2016 | K18: =2025-J18 -> 9 | L18: PRINCIPIANTES | M18: =VLOOKUP($L18,CATEGORIAS!$I$2:$J$15,2,0) -> P | N18: =CONCATENATE($J18,$M18) -> 2016P | O18: =VLOOKUP($N18,CATEGORIAS!$B$1:$G$245,2,0) -> PRINCIPIANTES 9 Y 10 AÑOS | P18: AGUILAS BMX
B19: 19 | C19: CAMILO | D19: TORRES STAND | E19: R.C | F19: 1033202125 | G19: 3117218762 | J19: 2017 | K19: =2025-J19 -> 8 | L19: PRINCIPIANTES | M19: =VLOOKUP($L19,CATEGORIAS!$I$2:$J$15,2,0) -> P | N19: =CONCATENATE($J19,$M19) -> 2017P | O19: =VLOOKUP($N19,CATEGORIAS!$B$1:$G$245,2,0) -> PRINCIPIANTES 7 Y 8 AÑOS | P19: AGUILAS BMX
B20: 20 | C20: ANDREY | D20: ZULUAGA CANO | E20: T.I | F20: 1023648983 | G20: 3147250623 | J20: 2015 | K20: =2025-J20 -> 10 | L20: PRINCIPIANTES | M20: =VLOOKUP($L20,CATEGORIAS!$I$2:$J$15,2,0) -> P | N20: =CONCATENATE($J20,$M20) -> 2015P | O20: =VLOOKUP($N20,CATEGORIAS!$B$1:$G$245,2,0) -> PRINCIPIANTES 9 Y 10 AÑOS | P20: AGUILAS BMX
B21: 21 | C21: samuel | D21: agudelo echavarria | E21: TI | F21: 1036454717 | G21: 3163091919 | J21: 2011 | K21: =2025-J21 -> 14 | L21: PRINCIPIANTES | M21: =VLOOKUP($L21,CATEGORIAS!$I$2:$J$15,2,0) -> P | N21: =CONCATENATE($J21,$M21) -> 2011P | O21: =VLOOKUP($N21,CATEGORIAS!$B$1:$G$245,2,0) -> PRINCIPIANTES 13 Y 14 AÑOS | P21: BMX ENVIGADO
B22: 22 | C22: antonia | D22: arango sanabria | E22: TI | F22: 1020316359 | G22: 3008138460 | J22: 2013 | K22: =2025-J22 -> 12 | L22: PRINCIPIANTES | M22: =VLOOKUP($L22,CATEGORIAS!$I$2:$J$15,2,0) -> P | N22: =CONCATENATE($J22,$M22) -> 2013P | O22: =VLOOKUP($N22,CATEGORIAS!$B$1:$G$245,2,0) -> PRINCIPIANTES 11 Y 12 AÑOS | P22: BMX ENVIGADO
B23: 23 | C23: SOFIA | D23: ARBOLEDA OCHOA | E23: TI | F23: 1027808402 | G23: 3044728743 | J23: 2009 | K23: =2025-J23 -> 16 | L23: DAMAS | M23: =VLOOKUP($L23,CATEGORIAS!$I$2:$J$15,2,0) -> D | N23: =CONCATENATE($J23,$M23) -> 2009D | O23: =VLOOKUP($N23,CATEGORIAS!$B$1:$G$245,2,0) -> DAMAS 15 AÑOS Y MAS | P23: BMX ENVIGADO
B24: 24 | C24: tomas jose | D24: avella peña | E24: TI | F24: 1054681651 | G24: 3152024427 | J24: 2012 | K24: =2025-J24 -> 13 | L24: expertos | M24: =VLOOKUP($L24,CATEGORIAS!$I$2:$J$15,2,0) -> E | N24: =CONCATENATE($J24,$M24) -> 2012E | O24: =VLOOKUP($N24,CATEGORIAS!$B$1:$G$245,2,0) -> EXPERTOS 13 AÑOS | P24: BMX ENVIGADO
B25: 25 | C25: cristobal | D25: benjumea zapata | E25: TI | F25: 1035005103 | G25: 3174343960 | J25: 2014 | K25: =2025-J25 -> 11 | L25: PRINCIPIANTES | M25: =VLOOKUP($L25,CATEGORIAS!$I$2:$J$15,2,0) -> P | N25: =CONCATENATE($J25,$M25) -> 2014P | O25: =VLOOKUP($N25,CATEGORIAS!$B$1:$G$245,2,0) -> PRINCIPIANTES 11 Y 12 AÑOS | P25: BMX ENVIGADO
B26: 26 | C26: JOSE MANUEL | D26: BERRIO GIRALDO | E26: TI | F26: 1034921912 | G26: 30143450959 | J26: 2011 | K26: =2025-J26 -> 14 | L26: novatos | M26: =VLOOKUP($L26,CATEGORIAS!$I$2:$J$15,2,0) -> N | N26: =CONCATENATE($J26,$M26) -> 2011N | O26: =VLOOKUP($N26,CATEGORIAS!$B$1:$G$245,2,0) -> NOVATOS 13 Y 14 AÑOS | P26: BMX ENVIGADO
B27: 27 | C27: JUAN JOSE | D27: CARDENAS CASTAÑO | E27: CC | F27: 1034986172 | G27: 3226264607 | J27: 2004 | K27: =2025-J27 -> 21 | L27: OPEN ELITE VARONES | M27: =VLOOKUP($L27,CATEGORIAS!$I$2:$J$15,2,0) -> T | N27: =CONCATENATE($J27,$M27) -> 2004T | O27: =VLOOKUP($N27,CATEGORIAS!$B$1:$G$245,2,0) -> OPEN ELITE VARONES | P27: BMX ENVIGADO
... B30: 30 | C30: daniel | D30: garcia dominguez | E30: CC | F30: 1033258008 | G30: 3005100809 | J30: 2005 | K30: =2025-J30 -> 20 | L30: OPEN ELITE VARONES | M30: =VLOOKUP($L30,CATEGORIAS!$I$2:$J$15,2,0) -> T | N30: =CONCATENATE($J30,$M30) -> 2005T | O30: =VLOOKUP($N30,CATEGORIAS!$B$1:$G$245,2,0) -> OPEN ELITE VARONES | P30: BMX ENVIGADO
A31: PIERDE PUNTOS. | B31: 31 | C31: SANTIAGO | D31: GONZALEZ ORTIZ | E31: TI | F31: 1155713940 | G31: 3014398221 | J31: 2013 | K31: =2025-J31 -> 12 | L31: PRINCIPIANTES | M31: =VLOOKUP($L31,CATEGORIAS!$I$2:$J$15,2,0) -> P | N31: =CONCATENATE($J31,$M31) -> 2013P | O31: =VLOOKUP($N31,CATEGORIAS!$B$1:$G$245,2,0) -> PRINCIPIANTES 11 Y 12 AÑOS | P31: BMX ENVIGADO
B32: 32 | C32: ISAAC | D32: GRANDA MONTOYA | E32: TI | F32: 1035006539 | G32: 3007734346 | J32: 2015 | K32: =2025-J32 -> 10 | L32: PRINCIPIANTES | M32: =VLOOKUP($L32,CATEGORIAS!$I$2:$J$15,2,0) -> P | N32: =CONCATENATE($J32,$M32) -> 2015P | O32: =VLOOKUP($N32,CATEGORIAS!$B$1:$G$245,2,0) -> PRINCIPIANTES 9 Y 10 AÑOS | P32: BMX ENVIGADO
B33: 33 | C33: MARIO ANDRES | D33: JIMENEZ CARDENAS | E33: TI | F33: 1123810393 | G33: 3113383616 | J33: 2012 | K33: =2025-J33 -> 13 | L33: NOVATOS | M33: =VLOOKUP($L33,CATEGORIAS!$I$2:$J$15,2,0) -> N | N33: =CONCATENATE($J33,$M33) -> 2012N | O33: =VLOOKUP($N33,CATEGORIAS!$B$1:$G$245,2,0) -> NOVATOS 13 Y 14 AÑOS | P33: BMX ENVIGADO
B34: 34 | C34: sebastian | D34: londoiño henao | E34: TI | F34: 1035002651 | G34: 3128378959 | J34: 2013 | K34: =2025-J34 -> 12 | L34: PRINCIPIANTES | M34: =VLOOKUP($L34,CATEGORIAS!$I$2:$J$15,2,0) -> P | N34: =CONCATENATE($J34,$M34) -> 2013P | O34: =VLOOKUP($N34,CATEGORIAS!$B$1:$G$245,2,0) -> PRINCIPIANTES 11 Y 12 AÑOS | P34: BMX ENVIGADO
B35: 35 | C35: JUAN DAVID | D35: LOZADA GRACIA | E35: TI | F35: 1032799804 | G35: 3243027591 | J35: 2010 | K35: =2025-J35 -> 15 | L35: novatos | M35: =VLOOKUP($L35,CATEGORIAS!$I$2:$J$15,2,0) -> N | N35: =CONCATENATE($J35,$M35) -> 2010N | O35: =VLOOKUP($N35,CATEGORIAS!$B$1:$G$245,2,0) -> NOVATOS 15 Y 16 AÑOS | P35: BMX ENVIGADO
B36: 36 | C36: AMALIA | D36: MARIN GONZALEZ | E36: TI | F36: 1036457209 | G36: 3004405685 | J36: 2014 | K36: =2025-J36 -> 11 | L36: DAMAS | M36: =VLOOKUP($L36,CATEGORIAS!$I$2:$J$15,2,0) -> D | N36: =CONCATENATE($J36,$M36) -> 2014D | O36: =VLOOKUP($N36,CATEGORIAS!$B$1:$G$245,2,0) -> DAMAS 11 Y 12 AÑOS | P36: BMX ENVIGADO
B37: 37 | C37: SIMON | D37: MASSEY | E37: TI | F37: 1035000388 | G37: 3005860657 | J37: 2012 | K37: =2025-J37 -> 13 | L37: NOVATOS | M37: =VLOOKUP($L37,CATEGORIAS!$I$2:$J$15,2,0) -> N | N37: =CONCATENATE($J37,$M37) -> 2012N | O37: =VLOOKUP($N37,CATEGORIAS!$B$1:$G$245,2,0) -> NOVATOS 13 Y 14 AÑOS | P37: BMX ENVIGADO
B38: 38 | C38: jeronimo | D38: montoya velez | E38: TI | F38: 1011410841 | G38: 3017936914 | J38: 2015 | K38: =2025-J38 -> 10 | L38: novatos | M38: =VLOOKUP($L38,CATEGORIAS!$I$2:$J$15,2,0) -> N | N38: =CONCATENATE($J38,$M38) -> 2015N | O38: =VLOOKUP($N38,CATEGORIAS!$B$1:$G$245,2,0) -> NOVATOS 9 Y 10 AÑOS | P38: BMX ENVIGADO
B39: 39 | C39: matthew | D39: morales giraldo | E39: TI | F39: 1053847569 | G39: 3192233620 | J39: 2011 | K39: =2025-J39 -> 14 | L39: PRINCIPIANTES | M39: =VLOOKUP($L39,CATEGORIAS!$I$2:$J$15,2,0) -> P | N39: =CONCATENATE($J39,$M39) -> 2011P | O39: =VLOOKUP($N39,CATEGORIAS!$B$1:$G$245,2,0) -> PRINCIPIANTES 13 Y 14 AÑOS | P39: BMX ENVIGADO
B40: 40 | C40: nicolas | D40: moreno garcia | E40: TI | F40: 1025769956 | G40: 3147193549 | J40: 2014 | K40: =2025-J40 -> 11 | L40: novatos | M40: =VLOOKUP($L40,CATEGORIAS!$I$2:$J$15,2,0) -> N | N40: =CONCATENATE($J40,$M40) -> 2014N | O40: =VLOOKUP($N40,CATEGORIAS!$B$1:$G$245,2,0) -> NOVATOS 11 Y 12 AÑOS | P40: BMX ENVIGADO
B41: 41 | C41: matias | D41: munera | E41: TI | F41: 1035004213 | G41: 3148940891 | J41: 2014 | K41: =2025-J41 -> 11 | L41: PRINCIPIANTES | M41: =VLOOKUP($L41,CATEGORIAS!$I$2:$J$15,2,0) -> P | N41: =CONCATENATE($J41,$M41) -> 2014P | O41: =VLOOKUP($N41,CATEGORIAS!$B$1:$G$245,2,0) -> PRINCIPIANTES 11 Y 12 AÑOS | P41: BMX ENVIGADO
B42: 42 | C42: JUAN SEBASTIAN | D42: MURILLO ZULUAGA | E42: TI | F42: 1038266346 | G42: 3052465638 | J42: 2015 | K42: =2025-J42 -> 10 | L42: PRINCIPIANTES | M42: =VLOOKUP($L42,CATEGORIAS!$I$2:$J$15,2,0) -> P | N42: =CONCATENATE($J42,$M42) -> 2015P | O42: =VLOOKUP($N42,CATEGORIAS!$B$1:$G$245,2,0) -> PRINCIPIANTES 9 Y 10 AÑOS | P42: BMX ENVIGADO
B43: 43 | C43: juan manuel | D43: otalvaro peña | E43: TI | F43: 1021929696 | G43: 3113072917 | J43: 2010 | K43: =2025-J43 -> 15 | L43: novatos | M43: =VLOOKUP($L43,CATEGORIAS!$I$2:$J$15,2,0) -> N | N43: =CONCATENATE($J43,$M43) -> 2010N | O43: =VLOOKUP($N43,CATEGORIAS!$B$1:$G$245,2,0) -> NOVATOS 15 Y 16 AÑOS | P43: BMX ENVIGADO
... B48: 48 | C48: MARIA CELESTE | D48: HENAO SERNA | E48: T.I | F48: 1013356796 | G48: 3164281245 | J48: 2015 | K48: =2025-J48 -> 10 | L48: DAMAS | M48: =VLOOKUP($L48,CATEGORIAS!$I$2:$J$15,2,0) -> D | N48: =CONCATENATE($J48,$M48) -> 2015D | O48: =VLOOKUP($N48,CATEGORIAS!$B$1:$G$245,2,0) -> DAMAS 9 Y 10 AÑOS | P48: AGUILAS BMX
B49: nn48 | C49: PEDRO JUAN | D49: ZULUAGA MONTOYA | E49: RC | F49: 1035018636 | H49: 5 | I49: 12 | J49: 2021 | K49: =2025-J49 -> 4 | L49: MINI RIDERS CON PEDALES | M49: =VLOOKUP($L49,CATEGORIAS!$I$2:$J$15,2,0) -> X | N49: =CONCATENATE($J49,$M49) -> 2021X | O49: =VLOOKUP($N49,CATEGORIAS!$B$1:$G$245,2,0) -> MINI RIDERS CON PEDALES 4 Y 5 AÑOS | P49: INDEPENDIENTES
B50: 49 | C50: luciana | D50: suarez velez | E50: TI | F50: 1036451279 | G50: 3164679199 | J50: 2007 | K50: =2025-J50 -> 18 | L50: DAMAS | M50: =VLOOKUP($L50,CATEGORIAS!$I$2:$J$15,2,0) -> D | N50: =CONCATENATE($J50,$M50) -> 2007D | O50: =VLOOKUP($N50,CATEGORIAS!$B$1:$G$245,2,0) -> DAMAS 15 AÑOS Y MAS | P50: BMX ENVIGADO
B51: 50 | C51: lorenzo | D51: toro velez | E51: TI | F51: 1035003545 | G51: 3137591949 | J51: 2014 | K51: =2025-J51 -> 11 | L51: novatos | M51: =VLOOKUP($L51,CATEGORIAS!$I$2:$J$15,2,0) -> N | N51: =CONCATENATE($J51,$M51) -> 2014N | O51: =VLOOKUP($N51,CATEGORIAS!$B$1:$G$245,2,0) -> NOVATOS 11 Y 12 AÑOS | P51: BMX ENVIGADO
B52: 51 | C52: jeronimo | D52: trujillo garcia | E52: TI | F52: 1035005037 | G52: 3122955515 | J52: 2014 | K52: =2025-J52 -> 11 | L52: PRINCIPIANTES | M52: =VLOOKUP($L52,CATEGORIAS!$I$2:$J$15,2,0) -> P | N52: =CONCATENATE($J52,$M52) -> 2014P | O52: =VLOOKUP($N52,CATEGORIAS!$B$1:$G$245,2,0) -> PRINCIPIANTES 11 Y 12 AÑOS | P52: BMX ENVIGADO
B53: 52 | C53: VALENTINA | D53: VALENCIA MUNERA | E53: TI | F53: 1155715972 | G53: 3204053477 | J53: 2016 | K53: =2025-J53 -> 9 | L53: DAMAS | M53: =VLOOKUP($L53,CATEGORIAS!$I$2:$J$15,2,0) -> D | N53: =CONCATENATE($J53,$M53) -> 2016D | O53: =VLOOKUP($N53,CATEGORIAS!$B$1:$G$245,2,0) -> DAMAS 9 Y 10 AÑOS | P53: BMX ENVIGADO
B54: 53 | C54: miguel | D54: velez isaza | E54: TI | F54: 1034998106 | G54: 3113033917 | J54: 2011 | K54: =2025-J54 -> 14 | L54: PRINCIPIANTES | M54: =VLOOKUP($L54,CATEGORIAS!$I$2:$J$15,2,0) -> P | N54: =CONCATENATE($J54,$M54) -> 2011P | O54: =VLOOKUP($N54,CATEGORIAS!$B$1:$G$245,2,0) -> PRINCIPIANTES 13 Y 14 AÑOS | P54: BMX ENVIGADO
B55: 54 | C55: andres felipe | D55: xiques | E55: TI | F55: 1166465639 | G55: 3175754250 | J55: 2014 | K55: =2025-J55 -> 11 | L55: PRINCIPIANTES | M55: =VLOOKUP($L55,CATEGORIAS!$I$2:$J$15,2,0) -> P | N55: =CONCATENATE($J55,$M55) -> 2014P | O55: =VLOOKUP($N55,CATEGORIAS!$B$1:$G$245,2,0) -> PRINCIPIANTES 11 Y 12 AÑOS | P55: BMX ENVIGADO
B56: 55 | C56: TOMAS | D56: BETANCUR VARGAS | E56: TI | F56: 1035006083 | G56: 3137181381 | J56: 2015 | K56: =2025-J56 -> 10 | L56: SEMILLEROS | M56: =VLOOKUP($L56,CATEGORIAS!$I$2:$J$15,2,0) -> S | N56: =CONCATENATE($J56,$M56) -> 2015S | O56: =VLOOKUP($N56,CATEGORIAS!$B$1:$G$245,2,0) -> SEMILLEROS 9 Y 10 AÑOS | P56: BMX LAS PALMAS
B57: 56 | C57: MARTIN | D57: CANO GALLEGO | E57: TI | F57: 1035003384 | G57: 3147919135 | J57: 2014 | K57: =2025-J57 -> 11 | L57: EXPERTOS | M57: =VLOOKUP($L57,CATEGORIAS!$I$2:$J$15,2,0) -> E | N57: =CONCATENATE($J57,$M57) -> 2014E | O57: =VLOOKUP($N57,CATEGORIAS!$B$1:$G$245,2,0) -> EXPERTOS 11 AÑOS | P57: BMX LAS PALMAS
B58: 57 | C58: IGNACIO | D58: SANIN OCHOA | E58: RC | F58: 1035012219 | G58: 3116463681 | J58: 2018 | K58: =2025-J58 -> 7 | L58: SEMILLEROS | M58: =VLOOKUP($L58,CATEGORIAS!$I$2:$J$15,2,0) -> S | N58: =CONCATENATE($J58,$M58) -> 2018S | O58: =VLOOKUP($N58,CATEGORIAS!$B$1:$G$245,2,0) -> SEMILLEROS 7 Y 8 AÑOS | P58: BMX LAS PALMAS
B59: 58 | C59: AGUSTIN | D59: TASCON VELEZ | E59: TI | F59: 1035011524 | G59: 3307230729 | J59: 2017 | K59: =2025-J59 -> 8 | L59: SEMILLEROS | M59: =VLOOKUP($L59,CATEGORIAS!$I$2:$J$15,2,0) -> S | N59: =CONCATENATE($J59,$M59) -> 2017S | O59: =VLOOKUP($N59,CATEGORIAS!$B$1:$G$245,2,0) -> SEMILLEROS 7 Y 8 AÑOS | P59: BMX LAS PALMAS
B60: 59 | C60: PEDRO | D60: URIBE ISAZA | E60: RC | F60: 1035013628 | G60: 317 4279722 | J60: 2018 | K60: =2025-J60 -> 7 | L60: SEMILLEROS | M60: =VLOOKUP($L60,CATEGORIAS!$I$2:$J$15,2,0) -> S | N60: =CONCATENATE($J60,$M60) -> 2018S | O60: =VLOOKUP($N60,CATEGORIAS!$B$1:$G$245,2,0) -> SEMILLEROS 7 Y 8 AÑOS | P60: BMX LAS PALMAS
B61: 60 | C61: JOSE DAVID | D61: ALZATE ARROYAVE | E61: TI | F61: 1041462065 | G61: 3137218716 | J61: 2018 | K61: =2025-J61 -> 7 | L61: SEMILLEROS | M61: =VLOOKUP($L61,CATEGORIAS!$I$2:$J$15,2,0) -> S | N61: =CONCATENATE($J61,$M61) -> 2018S | O61: =VLOOKUP($N61,CATEGORIAS!$B$1:$G$245,2,0) -> SEMILLEROS 7 Y 8 AÑOS | P61: BMX SONSÓN
B62: 61 | C62: ESTEBAN | D62: GIRALDO GONZALEZ | E62: TI | F62: 1013361302 | G62: 3113214415 | J62: 2017 | K62: =2025-J62 -> 8 | L62: SEMILLEROS | M62: =VLOOKUP($L62,CATEGORIAS!$I$2:$J$15,2,0) -> S | N62: =CONCATENATE($J62,$M62) -> 2017S | O62: =VLOOKUP($N62,CATEGORIAS!$B$1:$G$245,2,0) -> SEMILLEROS 7 Y 8 AÑOS | P62: BMX SONSÓN
B63: 62 | C63: MAICOL STIVEN | D63: HENAO OSORIO | E63: TI | F63: 1041461244 | G63: 3108291821 | J63: 2012 | K63: =2025-J63 -> 13 | L63: SEMILLEROS | M63: =VLOOKUP($L63,CATEGORIAS!$I$2:$J$15,2,0) -> S | N63: =CONCATENATE($J63,$M63) -> 2012S | O63: =VLOOKUP($N63,CATEGORIAS!$B$1:$G$245,2,0) -> SEMILLEROS 13 Y 14 AÑOS | P63: BMX SONSÓN
B64: 63 | C64: ANDERSON JULIÁN | D64: LÓPEZ ARCILA | E64: CC | F64: 1058844335 | G64: 3163465311 | J64: 2007 | K64: =2025-J64 -> 18 | L64: NOVATOS | M64: =VLOOKUP($L64,CATEGORIAS!$I$2:$J$15,2,0) -> N | N64: =CONCATENATE($J64,$M64) -> 2007N | O64: =VLOOKUP($N64,CATEGORIAS!$B$1:$G$245,2,0) -> NOVATOS 17 AÑOS Y MAS | P64: BMX SONSÓN
B65: 64 | C65: EMILIANO | D65: OROZCO VALENCIA | E65: RC | F65: 1036405191 | G65: 3218793647 | J65: 2018 | K65: =2025-J65 -> 7 | L65: SEMILLEROS | M65: =VLOOKUP($L65,CATEGORIAS!$I$2:$J$15,2,0) -> S | N65: =CONCATENATE($J65,$M65) -> 2018S | O65: =VLOOKUP($N65,CATEGORIAS!$B$1:$G$245,2,0) -> SEMILLEROS 7 Y 8 AÑOS | P65: BMX SONSÓN
B66: 65 | C66: MAXIMILIANO | D66: TORRES HENAO | E66: RC | F66: 1041462312 | G66: 3117346433 | J66: 2019 | K66: =2025-J66 -> 6 | L66: SEMILLEROS | M66: =VLOOKUP($L66,CATEGORIAS!$I$2:$J$15,2,0) -> S | N66: =CONCATENATE($J66,$M66) -> 2019S | O66: =VLOOKUP($N66,CATEGORIAS!$B$1:$G$245,2,0) -> SEMILLEROS 6 AÑOS Y MENOS | P66: BMX SONSÓN
B67: 66 | C67: SANTIAGO | D67: ALVAREZ VILORIA | E67: TI | F67: 1040508104 | G67: 3146147979 | J67: 2011 | K67: =2025-J67 -> 14 | L67: PRINCIPIANTES | M67: =VLOOKUP($L67,CATEGORIAS!$I$2:$J$15,2,0) -> P | N67: =CONCATENATE($J67,$M67) -> 2011P | O67: =VLOOKUP($N67,CATEGORIAS!$B$1:$G$245,2,0) -> PRINCIPIANTES 13 Y 14 AÑOS | P67: CICLISMO DONMATÍAS
B68: 67 | C68: JEFERSON | D68: AMAYA RUIZ | E68: TI | F68: 1018245711 | G68: 3146147979 | J68: 2009 | K68: =2025-J68 -> 16 | L68: NOVATOS | M68: =VLOOKUP($L68,CATEGORIAS!$I$2:$J$15,2,0) -> N | N68: =CONCATENATE($J68,$M68) -> 2009N | O68: =VLOOKUP($N68,CATEGORIAS!$B$1:$G$245,2,0) -> NOVATOS 15 Y 16 AÑOS | P68: CICLISMO DONMATÍAS
B69: 68 | C69: EYKER MIGUEL | D69: ANDRADE DORIA | E69: TI | F69: 1127052490 | G69: 3146147979 | J69: 2011 | K69: =2025-J69 -> 14 | L69: PRINCIPIANTES | M69: =VLOOKUP($L69,CATEGORIAS!$I$2:$J$15,2,0) -> P | N69: =CONCATENATE($J69,$M69) -> 2011P | O69: =VLOOKUP($N69,CATEGORIAS!$B$1:$G$245,2,0) -> PRINCIPIANTES 13 Y 14 AÑOS | P69: CICLISMO DONMATÍAS
B70: 69 | C70: MADELEIN | D70: CORREA MUÑOZ | E70: TI | F70: 1035801176 | G70: 3146147979 | J70: 2013 | K70: =2025-J70 -> 12 | L70: SEMILLEROS | M70: =VLOOKUP($L70,CATEGORIAS!$I$2:$J$15,2,0) -> S | N70: =CONCATENATE($J70,$M70) -> 2013S | O70: =VLOOKUP($N70,CATEGORIAS!$B$1:$G$245,2,0) -> SEMILLEROS 11 Y 12 AÑOS | P70: CICLISMO DONMATÍAS
B71: 70 | C71: CRISTOFER | D71: GALLEGO TABARES | E71: TI | F71: 1040100790 | G71: 3146147979 | J71: 2015 | K71: =2025-J71 -> 10 | L71: SEMILLEROS | M71: =VLOOKUP($L71,CATEGORIAS!$I$2:$J$15,2,0) -> S | N71: =CONCATENATE($J71,$M71) -> 2015S | O71: =VLOOKUP($N71,CATEGORIAS!$B$1:$G$245,2,0) -> SEMILLEROS 9 Y 10 AÑOS | P71: CICLISMO DONMATÍAS
B72: 71 | C72: EMMANUEL | D72: GOMEZ MONSALVE | E72: TI | F72: 1038545301 | G72: 3146147979 | J72: 2011 | K72: =2025-J72 -> 14 | L72: PRINCIPIANTES | M72: =VLOOKUP($L72,CATEGORIAS!$I$2:$J$15,2,0) -> P | N72: =CONCATENATE($J72,$M72) -> 2011P | O72: =VLOOKUP($N72,CATEGORIAS!$B$1:$G$245,2,0) -> PRINCIPIANTES 13 Y 14 AÑOS | P72: CICLISMO DONMATÍAS
... B113: 112 | C113: SEBASTIAN | D113: VILLA SUAREZ | E113: T.I | F113: 1034997191 | G113: 3138540783 | J113: 2010 | K113: =2025-J113 -> 15 | L113: NOVATOS | M113: =VLOOKUP($L113,CATEGORIAS!$I$2:$J$15,2,0) -> N | N113: =CONCATENATE($J113,$M113) -> 2010N | O113: =VLOOKUP($N113,CATEGORIAS!$B$1:$G$245,2,0) -> NOVATOS 15 Y 16 AÑOS | P113: BACALAOS
B114: 113 | C114: CARLOS ALBERTO | D114: MONSALVE JIMENEZ | E114: TI | F114: 1040738793 | J114: 2008 | K114: =2025-J114 -> 17 | L114: NOVATOS | M114: =VLOOKUP($L114,CATEGORIAS!$I$2:$J$15,2,0) -> N | N114: =CONCATENATE($J114,$M114) -> 2008N | O114: =VLOOKUP($N114,CATEGORIAS!$B$1:$G$245,2,0) -> NOVATOS 17 AÑOS Y MAS | P114: START RIDERS
B115: 114 | C115: AARÓN | D115: ALVAREZ DAVID | E115: T.I | F115: 1025673652 | G115: 3207145877 | J115: 2017 | K115: =2025-J115 -> 8 | L115: PRINCIPIANTES | M115: =VLOOKUP($L115,CATEGORIAS!$I$2:$J$15,2,0) -> P | N115: =CONCATENATE($J115,$M115) -> 2017P | O115: =VLOOKUP($N115,CATEGORIAS!$B$1:$G$245,2,0) -> PRINCIPIANTES 7 Y 8 AÑOS | P115: ESTRELLAS BMX
B116: 115 | C116: JERONIMO | D116: BERMUDEZ SALDARRIAGA | E116: T.I | F116: 1020321052 | G116: 3214406365 | J116: 2015 | K116: =2025-J116 -> 10 | L116: PRINCIPIANTES | M116: =VLOOKUP($L116,CATEGORIAS!$I$2:$J$15,2,0) -> P | N116: =CONCATENATE($J116,$M116) -> 2015P | O116: =VLOOKUP($N116,CATEGORIAS!$B$1:$G$245,2,0) -> PRINCIPIANTES 9 Y 10 AÑOS | P116: LOS PAISITAS
B117: 116 | C117: ALEJANDRO | D117: CASTAÑO CASTAÑO | E117: T.I | F117: 1041151688 | G117: 3012417043 | J117: 2016 | K117: =2025-J117 -> 9 | L117: EXPERTOS | M117: =VLOOKUP($L117,CATEGORIAS!$I$2:$J$15,2,0) -> E | N117: =CONCATENATE($J117,$M117) -> 2016E | O117: =VLOOKUP($N117,CATEGORIAS!$B$1:$G$245,2,0) -> EXPERTOS 9 AÑOS | P117: ESTRELLAS BMX | S117: PRINCIPIANTES
B118: 117 | C118: MIRANDA | D118: GARCIA OSORIO | E118: T.I | F118: 1035002482 | G118: 3122586563 | J118: 2013 | K118: =2025-J118 -> 12 | L118: DAMAS | M118: =VLOOKUP($L118,CATEGORIAS!$I$2:$J$15,2,0) -> D | N118: =CONCATENATE($J118,$M118) -> 2013D | O118: =VLOOKUP($N118,CATEGORIAS!$B$1:$G$245,2,0) -> DAMAS 11 Y 12 AÑOS | P118: ESTRELLAS BMX | S118: PAPICROSS
B119: 119 | C119: JACOBO | D119: MOLINA GARCIA | E119: T.I | F119: 1013358835 | G119: 3504440502 | J119: 2016 | K119: =2025-J119 -> 9 | L119: PRINCIPIANTES | M119: =VLOOKUP($L119,CATEGORIAS!$I$2:$J$15,2,0) -> P | N119: =CONCATENATE($J119,$M119) -> 2016P | O119: =VLOOKUP($N119,CATEGORIAS!$B$1:$G$245,2,0) -> PRINCIPIANTES 9 Y 10 AÑOS | P119: ESTRELLAS BMX | S119: NOVATOS
A120: 118 | B120: 120 | C120: LAURA | D120: MONTOYA CANTOR | E120: T.I | F120: 1033496913 | G120: 3215201583 | J120: 2014 | K120: =2025-J120 -> 11 | L120: EXPERTOS | M120: =VLOOKUP($L120,CATEGORIAS!$I$2:$J$15,2,0) -> E | N120: =CONCATENATE($J120,$M120) -> 2014E | O120: =VLOOKUP($N120,CATEGORIAS!$B$1:$G$245,2,0) -> EXPERTOS 11 AÑOS | P120: ESTRELLAS BMX | S120: OPEN ELITE DAMAS
B121: 121 | C121: JEAN PAUL | D121: QUINTERO VELASQUEZ | E121: RC | F121: 1017286394 | G121: 3014454439 | J121: 2019 | K121: =2025-J121 -> 6 | L121: PRINCIPIANTES | M121: =VLOOKUP($L121,CATEGORIAS!$I$2:$J$15,2,0) -> P | N121: =CONCATENATE($J121,$M121) -> 2019P | O121: =VLOOKUP($N121,CATEGORIAS!$B$1:$G$245,2,0) -> PRINCIPIANTES 6 AÑOS Y MENOS | P121: ESTRELLAS BMX | S121: OPEN ELITE VARONES
B122: 122 | C122: MATIAS | D122: RIOS LOPEZ | E122: T.I | F122: 1033203213 | G122: 3105591888 | J122: 2017 | K122: =2025-J122 -> 8 | L122: PRINCIPIANTES | M122: =VLOOKUP($L122,CATEGORIAS!$I$2:$J$15,2,0) -> P | N122: =CONCATENATE($J122,$M122) -> 2017P | O122: =VLOOKUP($N122,CATEGORIAS!$B$1:$G$245,2,0) -> PRINCIPIANTES 7 Y 8 AÑOS | P122: ESTRELLAS BMX | S122: FOUR CROSS
B123: 123 | C123: MARTIN | D123: RUEDA PATIÑO | E123: T.I | F123: 1020326112 | G123: 3105042501 | J123: 2018 | K123: =2025-J123 -> 7 | L123: NOVATOS | M123: =VLOOKUP($L123,CATEGORIAS!$I$2:$J$15,2,0) -> N | N123: =CONCATENATE($J123,$M123) -> 2018N | O123: =VLOOKUP($N123,CATEGORIAS!$B$1:$G$245,2,0) -> NOVATOS 7 Y 8 AÑOS | P123: ESTRELLAS BMX | S123: MINI RIDERS CON PEDALES
B124: 124 | C124: MIGUEL ANGEL | D124: ALVAREZ BEDOYA | E124: T.I | F124: 1033261000 | G124: 3226772946 | J124: 2009 | K124: =2025-J124 -> 16 | L124: NOVATOS | M124: =VLOOKUP($L124,CATEGORIAS!$I$2:$J$15,2,0) -> N | N124: =CONCATENATE($J124,$M124) -> 2009N | O124: =VLOOKUP($N124,CATEGORIAS!$B$1:$G$245,2,0) -> NOVATOS 15 Y 16 AÑOS | P124: LOS PAISITAS | S124: MAMICROSS
B125: 125 | C125: JERONIMO | D125: CARDONA LUNA | E125: T.I | F125: 1110301615 | G125: 3153051984 | J125: 2013 | K125: =2025-J125 -> 12 | L125: PRINCIPIANTES | M125: =VLOOKUP($L125,CATEGORIAS!$I$2:$J$15,2,0) -> P | N125: =CONCATENATE($J125,$M125) -> 2013P | O125: =VLOOKUP($N125,CATEGORIAS!$B$1:$G$245,2,0) -> PRINCIPIANTES 11 Y 12 AÑOS | P125: LOS PAISITAS | S125: MINI RIDERS SIN PEDALES
B126: 126 | C126: JACOBO | D126: CARDONA LUNA | E126: T.I | F126: 1110303263 | G126: 3153051984 | J126: 2016 | K126: =2025-J126 -> 9 | L126: NOVATOS | M126: =VLOOKUP($L126,CATEGORIAS!$I$2:$J$15,2,0) -> N | N126: =CONCATENATE($J126,$M126) -> 2016N | O126: =VLOOKUP($N126,CATEGORIAS!$B$1:$G$245,2,0) -> NOVATOS 9 Y 10 AÑOS | P126: LOS PAISITAS | S126: MASTER
B127: 127 | C127: NICK | D127: DAZA MURIEL | E127: T.I | F127: 1013359867 | G127: 3003229318 | J127: 2016 | K127: =2025-J127 -> 9 | L127: PRINCIPIANTES | M127: =VLOOKUP($L127,CATEGORIAS!$I$2:$J$15,2,0) -> P | N127: =CONCATENATE($J127,$M127) -> 2016P | O127: =VLOOKUP($N127,CATEGORIAS!$B$1:$G$245,2,0) -> PRINCIPIANTES 9 Y 10 AÑOS | P127: FTL RUNNERS
B128: 128 | C128: MATIAS | D128: GOMEZ RENDON | E128: T.I | F128: 1036455186 | G128: 3011850585 | J128: 2011 | K128: =2025-J128 -> 14 | L128: PRINCIPIANTES | M128: =VLOOKUP($L128,CATEGORIAS!$I$2:$J$15,2,0) -> P | N128: =CONCATENATE($J128,$M128) -> 2011P | O128: =VLOOKUP($N128,CATEGORIAS!$B$1:$G$245,2,0) -> PRINCIPIANTES 13 Y 14 AÑOS | P128: FTL RUNNERS
B129: 129 | C129: IOSEF MIGUEL | D129: LOPEZ LOPEZ | E129: T.I | F129: 1021930633 | G129: 3046781695 | J129: 2011 | K129: =2025-J129 -> 14 | L129: NOVATOS | M129: =VLOOKUP($L129,CATEGORIAS!$I$2:$J$15,2,0) -> N | N129: =CONCATENATE($J129,$M129) -> 2011N | O129: =VLOOKUP($N129,CATEGORIAS!$B$1:$G$245,2,0) -> NOVATOS 13 Y 14 AÑOS | P129: LOS PAISITAS
B130: 130 | C130: MATHIAS | D130: OROZCO TORRES | E130: T.I | F130: 1020236216 | G130: 3053267460 | J130: 2017 | K130: =2025-J130 -> 8 | L130: PRINCIPIANTES | M130: =VLOOKUP($L130,CATEGORIAS!$I$2:$J$15,2,0) -> P | N130: =CONCATENATE($J130,$M130) -> 2017P | O130: =VLOOKUP($N130,CATEGORIAS!$B$1:$G$245,2,0) -> PRINCIPIANTES 7 Y 8 AÑOS | P130: LOS PAISITAS
B131: 131 | C131: JUAN MANUEL | D131: RODRIGUEZ CASTAÑO | E131: T.I | F131: 1025542959 | G131: 3147293257 | J131: 2009 | K131: =2025-J131 -> 16 | L131: EXPERTOS | M131: =VLOOKUP($L131,CATEGORIAS!$I$2:$J$15,2,0) -> E | N131: =CONCATENATE($J131,$M131) -> 2009E | O131: =VLOOKUP($N131,CATEGORIAS!$B$1:$G$245,2,0) -> EXPERTOS 16 AÑOS | P131: LOS PAISITAS
B132: 132 | C132: JUAN JOSE | D132: GOMEZ BOLIVAR | E132: RC | F132: 1013378276 | G132: 3152513942 | J132: 2022 | K132: =2025-J132 -> 3 | L132: MINI RIDERS SIN PEDALES | M132: =VLOOKUP($L132,CATEGORIAS!$I$2:$J$15,2,0) -> Z | N132: =CONCATENATE($J132,$M132) -> 2022Z | O132: =VLOOKUP($N132,CATEGORIAS!$B$1:$G$245,2,0) -> MINI RIDERS SIN PEDALES 2 Y 3 AÑOS | P132: FUNDADORA
B133: 133 | C133: EVANS DAVID | D133: RODRIGUEZ RUEDA | E133: RC | F133: 1044235099 | G133: 3152513942 | J133: 2021 | K133: =2025-J133 -> 4 | L133: MINI RIDERS CON PEDALES | M133: =VLOOKUP($L133,CATEGORIAS!$I$2:$J$15,2,0) -> X | N133: =CONCATENATE($J133,$M133) -> 2021X | O133: =VLOOKUP($N133,CATEGORIAS!$B$1:$G$245,2,0) -> MINI RIDERS CON PEDALES 4 Y 5 AÑOS | P133: FUNDADORA
B134: 134 | C134: JOSE MANUEL | D134: ESCUDERO URIBE | E134: RC | F134: 1035018347 | G134: 3122491932 | J134: 2021 | K134: =2025-J134 -> 4 | L134: MINI RIDERS SIN PEDALES | M134: =VLOOKUP($L134,CATEGORIAS!$I$2:$J$15,2,0) -> Z | N134: =CONCATENATE($J134,$M134) -> 2021Z | O134: =VLOOKUP($N134,CATEGORIAS!$B$1:$G$245,2,0) -> MINI RIDERS SIN PEDALES 4 Y 5 AÑOS | P134: INDEPENDIENTES
B135: 135 | C135: ALEJANDRO , | D135: GALVIS RIOS | E135: cc | F135: 1234988387 | G135: 3017471064 | J135: 1995 | K135: =2025-J135 -> 30 | L135: MASTER | M135: =VLOOKUP($L135,CATEGORIAS!$I$2:$J$15,2,0) -> M | N135: =CONCATENATE($J135,$M135) -> 1995M | O135: =VLOOKUP($N135,CATEGORIAS!$B$1:$G$245,2,0) -> MASTER | P135: INDEPENDIENTES | Q135: 1996
B136: 136 | C136: ANTONY ALEJANDRO | D136: RAMIREZ TORRES | E136: RC | F136: 1011109640 | G136: 3192792194 | J136: 2018 | K136: =2025-J136 -> 7 | L136: SEMILLEROS | M136: =VLOOKUP($L136,CATEGORIAS!$I$2:$J$15,2,0) -> S | N136: =CONCATENATE($J136,$M136) -> 2018S | O136: =VLOOKUP($N136,CATEGORIAS!$B$1:$G$245,2,0) -> SEMILLEROS 7 Y 8 AÑOS | P136: INDER MEDELLIN
B137: 137 | C137: MIGUEL ANGEL | D137: SALAZAR CARDONA | E137: RC | F137: 1035016962 | G137: 3016253416 | J137: 2020 | K137: =2025-J137 -> 5 | L137: MINI RIDERS CON PEDALES | M137: =VLOOKUP($L137,CATEGORIAS!$I$2:$J$15,2,0) -> X | N137: =CONCATENATE($J137,$M137) -> 2020X | O137: =VLOOKUP($N137,CATEGORIAS!$B$1:$G$245,2,0) -> MINI RIDERS CON PEDALES 4 Y 5 AÑOS | P137: INDEPENDIENTES
B138: 138 | C138: JESUS DAVID | D138: SALAZAR FRANCO | E138: CC | F138: 1036663881 | G138: 3234027457 | J138: 1995 | K138: =2025-J138 -> 30 | L138: MASTER | M138: =VLOOKUP($L138,CATEGORIAS!$I$2:$J$15,2,0) -> M | N138: =CONCATENATE($J138,$M138) -> 1995M | O138: =VLOOKUP($N138,CATEGORIAS!$B$1:$G$245,2,0) -> MASTER | P138: SALTAMONTES
B139: 139 | C139: JUAN MARTIN | D139: VALDERRAMA MONTENEGRO | E139: RC | F139: 1035018168 | G139: 3146840199 | J139: 2021 | K139: =2025-J139 -> 4 | L139: MINI RIDERS SIN PEDALES | M139: =VLOOKUP($L139,CATEGORIAS!$I$2:$J$15,2,0) -> Z | N139: =CONCATENATE($J139,$M139) -> 2021Z | O139: =VLOOKUP($N139,CATEGORIAS!$B$1:$G$245,2,0) -> MINI RIDERS SIN PEDALES 4 Y 5 AÑOS | P139: INDEPENDIENTES
B140: 140 | C140: SANTIAGO | D140: QUINTERO SEPULVEDA | E140: T.I | F140: 1023641789 | G140: 3146802980 | J140: 2011 | K140: =2025-J140 -> 14 | L140: PRINCIPIANTES | M140: =VLOOKUP($L140,CATEGORIAS!$I$2:$J$15,2,0) -> P | N140: =CONCATENATE($J140,$M140) -> 2011P | O140: =VLOOKUP($N140,CATEGORIAS!$B$1:$G$245,2,0) -> PRINCIPIANTES 13 Y 14 AÑOS | P140: LA DORADA BIKES | S140: EXPERTOS
B141: 141 | C141: Samuel | D141: Hurtado Flury | E141: T.I | F141: 1033263600 | G141: 3006603120 | J141: 2013 | K141: =2025-J141 -> 12 | L141: NOVATOS | M141: =VLOOKUP($L141,CATEGORIAS!$I$2:$J$15,2,0) -> N | N141: =CONCATENATE($J141,$M141) -> 2013N | O141: =VLOOKUP($N141,CATEGORIAS!$B$1:$G$245,2,0) -> NOVATOS 11 Y 12 AÑOS | P141: LOS PAISITAS
B142: 142 | C142: Tomás | D142: Londoño Ríos | E142: T.I | F142: 1011403123 | G142: 3044934732 | J142: 2000 | K142: =2025-J142 -> 25 | L142: FOUR CROSS | M142: =VLOOKUP($L142,CATEGORIAS!$I$2:$J$15,2,0) -> F | N142: =CONCATENATE($J142,$M142) -> 2000F | O142: =VLOOKUP($N142,CATEGORIAS!$B$1:$G$245,2,0) -> FOUR CROSS | P142: LOS PAISITAS
B143: 143 | C143: JUAN EDUARDO | D143: VILLEGAS RESTREPO | E143: T.I | F143: 1020230439 | G143: 3104181317 | J143: 2013 | K143: =2025-J143 -> 12 | L143: PRINCIPIANTES | M143: =VLOOKUP($L143,CATEGORIAS!$I$2:$J$15,2,0) -> P | N143: =CONCATENATE($J143,$M143) -> 2013P | O143: =VLOOKUP($N143,CATEGORIAS!$B$1:$G$245,2,0) -> PRINCIPIANTES 11 Y 12 AÑOS | P143: LOS PAISITAS | S143: DAMAS
B144: 144 | C144: PEDRO | D144: ALVIAR JIMÉNEZ | E144: RC | F144: 1035010957 | G144: 3105332012 | J144: 2017 | K144: =2025-J144 -> 8 | L144: PRINCIPIANTES | M144: =VLOOKUP($L144,CATEGORIAS!$I$2:$J$15,2,0) -> P | N144: =CONCATENATE($J144,$M144) -> 2017P | O144: =VLOOKUP($N144,CATEGORIAS!$B$1:$G$245,2,0) -> PRINCIPIANTES 7 Y 8 AÑOS | P144: MAGIC BMX
B145: 145 | C145: JUAN MARTÍN | D145: GONZÁLEZ GARCÍA | E145: TI | F145: 1027811017 | G145: 3105332012 | J145: 2012 | K145: =2025-J145 -> 13 | L145: EXPERTOS | M145: =VLOOKUP($L145,CATEGORIAS!$I$2:$J$15,2,0) -> E | N145: =CONCATENATE($J145,$M145) -> 2012E | O145: =VLOOKUP($N145,CATEGORIAS!$B$1:$G$245,2,0) -> EXPERTOS 13 AÑOS | P145: MAGIC BMX
B146: 146 | C146: JUAN JOSE | D146: GONZÁLEZ GARCÍA | E146: RC | F146: 1020326943 | G146: 3105332012 | J146: 2018 | K146: =2025-J146 -> 7 | L146: NOVATOS | M146: =VLOOKUP($L146,CATEGORIAS!$I$2:$J$15,2,0) -> N | N146: =CONCATENATE($J146,$M146) -> 2018N | O146: =VLOOKUP($N146,CATEGORIAS!$B$1:$G$245,2,0) -> NOVATOS 7 Y 8 AÑOS | P146: MAGIC BMX
...

Sheet PILOTOS ANTIGUOS
A1: INSCRIPCION ANTIGUOS | N1: X VALIDA
A2: ESCRIBE TU NUMERO DE COMPETENCIA
A3: NUMERO | C3: NOMBRES | D3: APELLIDOS | E3: T. DOC. | F3: NU. DOC. | G3: TELEFONO | H3: DIA | I3: MES | J3: AÑO | K3: FEC | L3: CATEGORIAS | M3: CLUBES | N3: COMENTARIOS
C4: =VLOOKUP($A4,'BASE DE DATOS'!B$2:P$1443,2,0) -> #N/A | D4: =VLOOKUP($A4,'BASE DE DATOS'!$B$1:$P$1443,3,0) -> #N/A | E4: =VLOOKUP($A4,'BASE DE DATOS'!B$2:P$1443,4,0) -> #N/A | F4: =VLOOKUP($A4,'BASE DE DATOS'!$B$2:$P$1443,5,0) -> #N/A | G4: =VLOOKUP($A4,'BASE DE DATOS'!$B$2:$P$1443,6,0) -> #N/A | H4: =VLOOKUP($A4,'BASE DE DATOS'!$B$2:$P$1443,7,0) -> #N/A | I4: =VLOOKUP($A4,'BASE DE DATOS'!$B$2:$P$1443,8,0) -> #N/A | J4: =VLOOKUP($A4,'BASE DE DATOS'!$B$2:$P$1443,9,0) -> #N/A | K4: =CONCATENATE(H4,R4,I4,R4,J4) -> #N/A | L4: =VLOOKUP($A4,'BASE DE DATOS'!$B$2:$P$1443,14,0) -> #N/A | M4: =VLOOKUP($A4,'BASE DE DATOS'!$B$2:$P$1443,15,0) -> #N/A | Q4: CC
C5: =VLOOKUP($A5,'BASE DE DATOS'!B$2:P$1443,2,0) -> #N/A | D5: =VLOOKUP($A5,'BASE DE DATOS'!$B$1:$P$1443,3,0) -> #N/A | E5: =VLOOKUP($A5,'BASE DE DATOS'!B$2:P$1443,4,0) -> #N/A | F5: =VLOOKUP($A5,'BASE DE DATOS'!$B$2:$P$1443,5,0) -> #N/A | G5: =VLOOKUP($A5,'BASE DE DATOS'!$B$2:$P$1443,6,0) -> #N/A | H5: =VLOOKUP($A5,'BASE DE DATOS'!$B$2:$P$1443,7,0) -> #N/A | I5: =VLOOKUP($A5,'BASE DE DATOS'!$B$2:$P$1443,8,0) -> #N/A | J5: =VLOOKUP($A5,'BASE DE DATOS'!$B$2:$P$1443,9,0) -> #N/A | K5: =CONCATENATE(H5,R5,I5,R5,J5) -> #N/A | L5: =VLOOKUP($A5,'BASE DE DATOS'!$B$2:$P$1443,14,0) -> #N/A | M5: =VLOOKUP($A5,'BASE DE DATOS'!$B$2:$P$1443,15,0) -> #N/A | Q5: PERMISO ESPECIAL
C6: =VLOOKUP($A6,'BASE DE DATOS'!B$2:P$1443,2,0) -> #N/A | D6: =VLOOKUP($A6,'BASE DE DATOS'!$B$1:$P$1443,3,0) -> #N/A | E6: =VLOOKUP($A6,'BASE DE DATOS'!B$2:P$1443,4,0) -> #N/A | F6: =VLOOKUP($A6,'BASE DE DATOS'!$B$2:$P$1443,5,0) -> #N/A | G6: =VLOOKUP($A6,'BASE DE DATOS'!$B$2:$P$1443,6,0) -> #N/A | H6: =VLOOKUP($A6,'BASE DE DATOS'!$B$2:$P$1443,7,0) -> #N/A | I6: =VLOOKUP($A6,'BASE DE DATOS'!$B$2:$P$1443,8,0) -> #N/A | J6: =VLOOKUP($A6,'BASE DE DATOS'!$B$2:$P$1443,9,0) -> #N/A | K6: =CONCATENATE(H6,R6,I6,R6,J6) -> #N/A | L6: =VLOOKUP($A6,'BASE DE DATOS'!$B$2:$P$1443,14,0) -> #N/A | M6: =VLOOKUP($A6,'BASE DE DATOS'!$B$2:$P$1443,15,0) -> #N/A | Q6: PASAPORTE
C7: =VLOOKUP($A7,'BASE DE DATOS'!B$2:P$1443,2,0) -> #N/A | D7: =VLOOKUP($A7,'BASE DE DATOS'!$B$1:$P$1443,3,0) -> #N/A | E7: =VLOOKUP($A7,'BASE DE DATOS'!B$2:P$1443,4,0) -> #N/A | F7: =VLOOKUP($A7,'BASE DE DATOS'!$B$2:$P$1443,5,0) -> #N/A | G7: =VLOOKUP($A7,'BASE DE DATOS'!$B$2:$P$1443,6,0) -> #N/A | H7: =VLOOKUP($A7,'BASE DE DATOS'!$B$2:$P$1443,7,0) -> #N/A | I7: =VLOOKUP($A7,'BASE DE DATOS'!$B$2:$P$1443,8,0) -> #N/A | J7: =VLOOKUP($A7,'BASE DE DATOS'!$B$2:$P$1443,9,0) -> #N/A | K7: =CONCATENATE(H7,R7,I7,R7,J7) -> #N/A | L7: =VLOOKUP($A7,'BASE DE DATOS'!$B$2:$P$1443,14,0) -> #N/A | M7: =VLOOKUP($A7,'BASE DE DATOS'!$B$2:$P$1443,15,0) -> #N/A
C8: =VLOOKUP($A8,'BASE DE DATOS'!B$2:P$1443,2,0) -> #N/A | D8: =VLOOKUP($A8,'BASE DE DATOS'!$B$1:$P$1443,3,0) -> #N/A | E8: =VLOOKUP($A8,'BASE DE DATOS'!B$2:P$1443,4,0) -> #N/A | F8: =VLOOKUP($A8,'BASE DE DATOS'!$B$2:$P$1443,5,0) -> #N/A | G8: =VLOOKUP($A8,'BASE DE DATOS'!$B$2:$P$1443,6,0) -> #N/A | H8: =VLOOKUP($A8,'BASE DE DATOS'!$B$2:$P$1443,7,0) -> #N/A | I8: =VLOOKUP($A8,'BASE DE DATOS'!$B$2:$P$1443,8,0) -> #N/A | J8: =VLOOKUP($A8,'BASE DE DATOS'!$B$2:$P$1443,9,0) -> #N/A | K8: =CONCATENATE(H8,R8,I8,R8,J8) -> #N/A | L8: =VLOOKUP($A8,'BASE DE DATOS'!$B$2:$P$1443,14,0) -> #N/A | M8: =VLOOKUP($A8,'BASE DE DATOS'!$B$2:$P$1443,15,0) -> #N/A
C9: =VLOOKUP($A9,'BASE DE DATOS'!B$2:P$1443,2,0) -> #N/A | D9: =VLOOKUP($A9,'BASE DE DATOS'!$B$1:$P$1443,3,0) -> #N/A | E9: =VLOOKUP($A9,'BASE DE DATOS'!B$2:P$1443,4,0) -> #N/A | F9: =VLOOKUP($A9,'BASE DE DATOS'!$B$2:$P$1443,5,0) -> #N/A | G9: =VLOOKUP($A9,'BASE DE DATOS'!$B$2:$P$1443,6,0) -> #N/A | H9: =VLOOKUP($A9,'BASE DE DATOS'!$B$2:$P$1443,7,0) -> #N/A | I9: =VLOOKUP($A9,'BASE DE DATOS'!$B$2:$P$1443,8,0) -> #N/A | J9: =VLOOKUP($A9,'BASE DE DATOS'!$B$2:$P$1443,9,0) -> #N/A | K9: =CONCATENATE(H9,R9,I9,R9,J9) -> #N/A | L9: =VLOOKUP($A9,'BASE DE DATOS'!$B$2:$P$1443,14,0) -> #N/A | M9: =VLOOKUP($A9,'BASE DE DATOS'!$B$2:$P$1443,15,0) -> #N/A
C10: =VLOOKUP($A10,'BASE DE DATOS'!B$2:P$1443,2,0) -> #N/A | D10: =VLOOKUP($A10,'BASE DE DATOS'!$B$1:$P$1443,3,0) -> #N/A | E10: =VLOOKUP($A10,'BASE DE DATOS'!B$2:P$1443,4,0) -> #N/A | F10: =VLOOKUP($A10,'BASE DE DATOS'!$B$2:$P$1443,5,0) -> #N/A | G10: =VLOOKUP($A10,'BASE DE DATOS'!$B$2:$P$1443,6,0) -> #N/A | H10: =VLOOKUP($A10,'BASE DE DATOS'!$B$2:$P$1443,7,0) -> #N/A | I10: =VLOOKUP($A10,'BASE DE DATOS'!$B$2:$P$1443,8,0) -> #N/A | J10: =VLOOKUP($A10,'BASE DE DATOS'!$B$2:$P$1443,9,0) -> #N/A | K10: =CONCATENATE(H10,R10,I10,R10,J10) -> #N/A | L10: =VLOOKUP($A10,'BASE DE DATOS'!$B$2:$P$1443,14,0) -> #N/A | M10: =VLOOKUP($A10,'BASE DE DATOS'!$B$2:$P$1443,15,0) -> #N/A
C11: =VLOOKUP($A11,'BASE DE DATOS'!B$2:P$1443,2,0) -> #N/A | D11: =VLOOKUP($A11,'BASE DE DATOS'!$B$1:$P$1443,3,0) -> #N/A | E11: =VLOOKUP($A11,'BASE DE DATOS'!B$2:P$1443,4,0) -> #N/A | F11: =VLOOKUP($A11,'BASE DE DATOS'!$B$2:$P$1443,5,0) -> #N/A | G11: =VLOOKUP($A11,'BASE DE DATOS'!$B$2:$P$1443,6,0) -> #N/A | H11: =VLOOKUP($A11,'BASE DE DATOS'!$B$2:$P$1443,7,0) -> #N/A | I11: =VLOOKUP($A11,'BASE DE DATOS'!$B$2:$P$1443,8,0) -> #N/A | J11: =VLOOKUP($A11,'BASE DE DATOS'!$B$2:$P$1443,9,0) -> #N/A | K11: =CONCATENATE(H11,R11,I11,R11,J11) -> #N/A | L11: =VLOOKUP($A11,'BASE DE DATOS'!$B$2:$P$1443,14,0) -> #N/A | M11: =VLOOKUP($A11,'BASE DE DATOS'!$B$2:$P$1443,15,0) -> #N/A
C12: =VLOOKUP($A12,'BASE DE DATOS'!B$2:P$1443,2,0) -> #N/A | D12: =VLOOKUP($A12,'BASE DE DATOS'!$B$1:$P$1443,3,0) -> #N/A | E12: =VLOOKUP($A12,'BASE DE DATOS'!B$2:P$1443,4,0) -> #N/A | F12: =VLOOKUP($A12,'BASE DE DATOS'!$B$2:$P$1443,5,0) -> #N/A | G12: =VLOOKUP($A12,'BASE DE DATOS'!$B$2:$P$1443,6,0) -> #N/A | H12: =VLOOKUP($A12,'BASE DE DATOS'!$B$2:$P$1443,7,0) -> #N/A | I12: =VLOOKUP($A12,'BASE DE DATOS'!$B$2:$P$1443,8,0) -> #N/A | J12: =VLOOKUP($A12,'BASE DE DATOS'!$B$2:$P$1443,9,0) -> #N/A | K12: =CONCATENATE(H12,R12,I12,R12,J12) -> #N/A | L12: =VLOOKUP($A12,'BASE DE DATOS'!$B$2:$P$1443,14,0) -> #N/A | M12: =VLOOKUP($A12,'BASE DE DATOS'!$B$2:$P$1443,15,0) -> #N/A
C13: =VLOOKUP($A13,'BASE DE DATOS'!B$2:P$1443,2,0) -> #N/A | D13: =VLOOKUP($A13,'BASE DE DATOS'!$B$1:$P$1443,3,0) -> #N/A | E13: =VLOOKUP($A13,'BASE DE DATOS'!B$2:P$1443,4,0) -> #N/A | F13: =VLOOKUP($A13,'BASE DE DATOS'!$B$2:$P$1443,5,0) -> #N/A | G13: =VLOOKUP($A13,'BASE DE DATOS'!$B$2:$P$1443,6,0) -> #N/A | H13: =VLOOKUP($A13,'BASE DE DATOS'!$B$2:$P$1443,7,0) -> #N/A | I13: =VLOOKUP($A13,'BASE DE DATOS'!$B$2:$P$1443,8,0) -> #N/A | J13: =VLOOKUP($A13,'BASE DE DATOS'!$B$2:$P$1443,9,0) -> #N/A | K13: =CONCATENATE(H13,R13,I13,R13,J13) -> #N/A | L13: =VLOOKUP($A13,'BASE DE DATOS'!$B$2:$P$1443,14,0) -> #N/A | M13: =VLOOKUP($A13,'BASE DE DATOS'!$B$2:$P$1443,15,0) -> #N/A
C14: =VLOOKUP($A14,'BASE DE DATOS'!B$2:P$1443,2,0) -> #N/A | D14: =VLOOKUP($A14,'BASE DE DATOS'!$B$1:$P$1443,3,0) -> #N/A | E14: =VLOOKUP($A14,'BASE DE DATOS'!B$2:P$1443,4,0) -> #N/A | F14: =VLOOKUP($A14,'BASE DE DATOS'!$B$2:$P$1443,5,0) -> #N/A | G14: =VLOOKUP($A14,'BASE DE DATOS'!$B$2:$P$1443,6,0) -> #N/A | H14: =VLOOKUP($A14,'BASE DE DATOS'!$B$2:$P$1443,7,0) -> #N/A | I14: =VLOOKUP($A14,'BASE DE DATOS'!$B$2:$P$1443,8,0) -> #N/A | J14: =VLOOKUP($A14,'BASE DE DATOS'!$B$2:$P$1443,9,0) -> #N/A | K14: =CONCATENATE(H14,R14,I14,R14,J14) -> #N/A | L14: =VLOOKUP($A14,'BASE DE DATOS'!$B$2:$P$1443,14,0) -> #N/A | M14: =VLOOKUP($A14,'BASE DE DATOS'!$B$2:$P$1443,15,0) -> #N/A
C15: =VLOOKUP($A15,'BASE DE DATOS'!B$2:P$1443,2,0) -> #N/A | D15: =VLOOKUP($A15,'BASE DE DATOS'!$B$1:$P$1443,3,0) -> #N/A | E15: =VLOOKUP($A15,'BASE DE DATOS'!B$2:P$1443,4,0) -> #N/A | F15: =VLOOKUP($A15,'BASE DE DATOS'!$B$2:$P$1443,5,0) -> #N/A | G15: =VLOOKUP($A15,'BASE DE DATOS'!$B$2:$P$1443,6,0) -> #N/A | H15: =VLOOKUP($A15,'BASE DE DATOS'!$B$2:$P$1443,7,0) -> #N/A | I15: =VLOOKUP($A15,'BASE DE DATOS'!$B$2:$P$1443,8,0) -> #N/A | J15: =VLOOKUP($A15,'BASE DE DATOS'!$B$2:$P$1443,9,0) -> #N/A | K15: =CONCATENATE(H15,R15,I15,R15,J15) -> #N/A | L15: =VLOOKUP($A15,'BASE DE DATOS'!$B$2:$P$1443,14,0) -> #N/A | M15: =VLOOKUP($A15,'BASE DE DATOS'!$B$2:$P$1443,15,0) -> #N/A
C16: =VLOOKUP($A16,'BASE DE DATOS'!B$2:P$1443,2,0) -> #N/A | D16: =VLOOKUP($A16,'BASE DE DATOS'!$B$1:$P$1443,3,0) -> #N/A | E16: =VLOOKUP($A16,'BASE DE DATOS'!B$2:P$1443,4,0) -> #N/A | F16: =VLOOKUP($A16,'BASE DE DATOS'!$B$2:$P$1443,5,0) -> #N/A | G16: =VLOOKUP($A16,'BASE DE DATOS'!$B$2:$P$1443,6,0) -> #N/A | H16: =VLOOKUP($A16,'BASE DE DATOS'!$B$2:$P$1443,7,0) -> #N/A | I16: =VLOOKUP($A16,'BASE DE DATOS'!$B$2:$P$1443,8,0) -> #N/A | J16: =VLOOKUP($A16,'BASE DE DATOS'!$B$2:$P$1443,9,0) -> #N/A | K16: =CONCATENATE(H16,R16,I16,R16,J16) -> #N/A | L16: =VLOOKUP($A16,'BASE DE DATOS'!$B$2:$P$1443,14,0) -> #N/A | M16: =VLOOKUP($A16,'BASE DE DATOS'!$B$2:$P$1443,15,0) -> #N/A
C17: =VLOOKUP($A17,'BASE DE DATOS'!B$2:P$1443,2,0) -> #N/A | D17: =VLOOKUP($A17,'BASE DE DATOS'!$B$1:$P$1443,3,0) -> #N/A | E17: =VLOOKUP($A17,'BASE DE DATOS'!B$2:P$1443,4,0) -> #N/A | F17: =VLOOKUP($A17,'BASE DE DATOS'!$B$2:$P$1443,5,0) -> #N/A | G17: =VLOOKUP($A17,'BASE DE DATOS'!$B$2:$P$1443,6,0) -> #N/A | H17: =VLOOKUP($A17,'BASE DE DATOS'!$B$2:$P$1443,7,0) -> #N/A | I17: =VLOOKUP($A17,'BASE DE DATOS'!$B$2:$P$1443,8,0) -> #N/A | J17: =VLOOKUP($A17,'BASE DE DATOS'!$B$2:$P$1443,9,0) -> #N/A | K17: =CONCATENATE(H17,R17,I17,R17,J17) -> #N/A | L17: =VLOOKUP($A17,'BASE DE DATOS'!$B$2:$P$1443,14,0) -> #N/A | M17: =VLOOKUP($A17,'BASE DE DATOS'!$B$2:$P$1443,15,0) -> #N/A
C18: =VLOOKUP($A18,'BASE DE DATOS'!B$2:P$1443,2,0) -> #N/A | D18: =VLOOKUP($A18,'BASE DE DATOS'!$B$1:$P$1443,3,0) -> #N/A | E18: =VLOOKUP($A18,'BASE DE DATOS'!B$2:P$1443,4,0) -> #N/A | F18: =VLOOKUP($A18,'BASE DE DATOS'!$B$2:$P$1443,5,0) -> #N/A | G18: =VLOOKUP($A18,'BASE DE DATOS'!$B$2:$P$1443,6,0) -> #N/A | H18: =VLOOKUP($A18,'BASE DE DATOS'!$B$2:$P$1443,7,0) -> #N/A | I18: =VLOOKUP($A18,'BASE DE DATOS'!$B$2:$P$1443,8,0) -> #N/A | J18: =VLOOKUP($A18,'BASE DE DATOS'!$B$2:$P$1443,9,0) -> #N/A | K18: =CONCATENATE(H18,R18,I18,R18,J18) -> #N/A | L18: =VLOOKUP($A18,'BASE DE DATOS'!$B$2:$P$1443,14,0) -> #N/A | M18: =VLOOKUP($A18,'BASE DE DATOS'!$B$2:$P$1443,15,0) -> #N/A
... C29: =VLOOKUP($A29,'BASE DE DATOS'!B$2:P$1443,2,0) -> #N/A | D29: =VLOOKUP($A29,'BASE DE DATOS'!$B$1:$P$1443,3,0) -> #N/A | E29: =VLOOKUP($A29,'BASE DE DATOS'!B$2:P$1443,4,0) -> #N/A | F29: =VLOOKUP($A29,'BASE DE DATOS'!$B$2:$P$1443,5,0) -> #N/A | G29: =VLOOKUP($A29,'BASE DE DATOS'!$B$2:$P$1443,6,0) -> #N/A | H29: =VLOOKUP($A29,'BASE DE DATOS'!$B$2:$P$1443,7,0) -> #N/A | I29: =VLOOKUP($A29,'BASE DE DATOS'!$B$2:$P$1443,8,0) -> #N/A | J29: =VLOOKUP($A29,'BASE DE DATOS'!$B$2:$P$1443,9,0) -> #N/A | K29: =CONCATENATE(H29,R29,I29,R29,J29) -> #N/A | L29: =VLOOKUP($A29,'BASE DE DATOS'!$B$2:$P$1443,14,0) -> #N/A | M29: =VLOOKUP($A29,'BASE DE DATOS'!$B$2:$P$1443,15,0) -> #N/A
C30: =VLOOKUP($A30,'BASE DE DATOS'!B$2:P$1443,2,0) -> #N/A | D30: =VLOOKUP($A30,'BASE DE DATOS'!$B$1:$P$1443,3,0) -> #N/A | E30: =VLOOKUP($A30,'BASE DE DATOS'!B$2:P$1443,4,0) -> #N/A | F30: =VLOOKUP($A30,'BASE DE DATOS'!$B$2:$P$1443,5,0) -> #N/A | G30: =VLOOKUP($A30,'BASE DE DATOS'!$B$2:$P$1443,6,0) -> #N/A | H30: =VLOOKUP($A30,'BASE DE DATOS'!$B$2:$P$1443,7,0) -> #N/A | I30: =VLOOKUP($A30,'BASE DE DATOS'!$B$2:$P$1443,8,0) -> #N/A | J30: =VLOOKUP($A30,'BASE DE DATOS'!$B$2:$P$1443,9,0) -> #N/A | K30: =CONCATENATE(H30,R30,I30,R30,J30) -> #N/A | L30: =VLOOKUP($A30,'BASE DE DATOS'!$B$2:$P$1443,14,0) -> #N/A | M30: =VLOOKUP($A30,'BASE DE DATOS'!$B$2:$P$1443,15,0) -> #N/A | O30: NOVATOS
C31: =VLOOKUP($A31,'BASE DE DATOS'!B$2:P$1443,2,0) -> #N/A | D31: =VLOOKUP($A31,'BASE DE DATOS'!$B$1:$P$1443,3,0) -> #N/A | E31: =VLOOKUP($A31,'BASE DE DATOS'!B$2:P$1443,4,0) -> #N/A | F31: =VLOOKUP($A31,'BASE DE DATOS'!$B$2:$P$1443,5,0) -> #N/A | G31: =VLOOKUP($A31,'BASE DE DATOS'!$B$2:$P$1443,6,0) -> #N/A | H31: =VLOOKUP($A31,'BASE DE DATOS'!$B$2:$P$1443,7,0) -> #N/A | I31: =VLOOKUP($A31,'BASE DE DATOS'!$B$2:$P$1443,8,0) -> #N/A | J31: =VLOOKUP($A31,'BASE DE DATOS'!$B$2:$P$1443,9,0) -> #N/A | K31: =CONCATENATE(H31,R31,I31,R31,J31) -> #N/A | L31: =VLOOKUP($A31,'BASE DE DATOS'!$B$2:$P$1443,14,0) -> #N/A | M31: =VLOOKUP($A31,'BASE DE DATOS'!$B$2:$P$1443,15,0) -> #N/A
C32: =VLOOKUP($A32,'BASE DE DATOS'!B$2:P$1443,2,0) -> #N/A | D32: =VLOOKUP($A32,'BASE DE DATOS'!$B$1:$P$1443,3,0) -> #N/A | E32: =VLOOKUP($A32,'BASE DE DATOS'!B$2:P$1443,4,0) -> #N/A | F32: =VLOOKUP($A32,'BASE DE DATOS'!$B$2:$P$1443,5,0) -> #N/A | G32: =VLOOKUP($A32,'BASE DE DATOS'!$B$2:$P$1443,6,0) -> #N/A | H32: =VLOOKUP($A32,'BASE DE DATOS'!$B$2:$P$1443,7,0) -> #N/A | I32: =VLOOKUP($A32,'BASE DE DATOS'!$B$2:$P$1443,8,0) -> #N/A | J32: =VLOOKUP($A32,'BASE DE DATOS'!$B$2:$P$1443,9,0) -> #N/A | K32: =CONCATENATE(H32,R32,I32,R32,J32) -> #N/A | L32: =VLOOKUP($A32,'BASE DE DATOS'!$B$2:$P$1443,14,0) -> #N/A | M32: =VLOOKUP($A32,'BASE DE DATOS'!$B$2:$P$1443,15,0) -> #N/A
C33: =VLOOKUP($A33,'BASE DE DATOS'!B$2:P$1443,2,0) -> #N/A | D33: =VLOOKUP($A33,'BASE DE DATOS'!$B$1:$P$1443,3,0) -> #N/A | E33: =VLOOKUP($A33,'BASE DE DATOS'!B$2:P$1443,4,0) -> #N/A | F33: =VLOOKUP($A33,'BASE DE DATOS'!$B$2:$P$1443,5,0) -> #N/A | G33: =VLOOKUP($A33,'BASE DE DATOS'!$B$2:$P$1443,6,0) -> #N/A | H33: =VLOOKUP($A33,'BASE DE DATOS'!$B$2:$P$1443,7,0) -> #N/A | I33: =VLOOKUP($A33,'BASE DE DATOS'!$B$2:$P$1443,8,0) -> #N/A | J33: =VLOOKUP($A33,'BASE DE DATOS'!$B$2:$P$1443,9,0) -> #N/A | K33: =CONCATENATE(H33,R33,I33,R33,J33) -> #N/A | L33: =VLOOKUP($A33,'BASE DE DATOS'!$B$2:$P$1443,14,0) -> #N/A | M33: =VLOOKUP($A33,'BASE DE DATOS'!$B$2:$P$1443,15,0) -> #N/A
C34: =VLOOKUP($A34,'BASE DE DATOS'!B$2:P$1443,2,0) -> #N/A | D34: =VLOOKUP($A34,'BASE DE DATOS'!$B$1:$P$1443,3,0) -> #N/A | E34: =VLOOKUP($A34,'BASE DE DATOS'!B$2:P$1443,4,0) -> #N/A | F34: =VLOOKUP($A34,'BASE DE DATOS'!$B$2:$P$1443,5,0) -> #N/A | G34: =VLOOKUP($A34,'BASE DE DATOS'!$B$2:$P$1443,6,0) -> #N/A | H34: =VLOOKUP($A34,'BASE DE DATOS'!$B$2:$P$1443,7,0) -> #N/A | I34: =VLOOKUP($A34,'BASE DE DATOS'!$B$2:$P$1443,8,0) -> #N/A | J34: =VLOOKUP($A34,'BASE DE DATOS'!$B$2:$P$1443,9,0) -> #N/A | K34: =CONCATENATE(H34,R34,I34,R34,J34) -> #N/A | L34: =VLOOKUP($A34,'BASE DE DATOS'!$B$2:$P$1443,14,0) -> #N/A | M34: =VLOOKUP($A34,'BASE DE DATOS'!$B$2:$P$1443,15,0) -> #N/A
C35: =VLOOKUP($A35,'BASE DE DATOS'!B$2:P$1443,2,0) -> #N/A | D35: =VLOOKUP($A35,'BASE DE DATOS'!$B$1:$P$1443,3,0) -> #N/A | E35: =VLOOKUP($A35,'BASE DE DATOS'!B$2:P$1443,4,0) -> #N/A | F35: =VLOOKUP($A35,'BASE DE DATOS'!$B$2:$P$1443,5,0) -> #N/A | G35: =VLOOKUP($A35,'BASE DE DATOS'!$B$2:$P$1443,6,0) -> #N/A | H35: =VLOOKUP($A35,'BASE DE DATOS'!$B$2:$P$1443,7,0) -> #N/A | I35: =VLOOKUP($A35,'BASE DE DATOS'!$B$2:$P$1443,8,0) -> #N/A | J35: =VLOOKUP($A35,'BASE DE DATOS'!$B$2:$P$1443,9,0) -> #N/A | K35: =CONCATENATE(H35,R35,I35,R35,J35) -> #N/A | L35: =VLOOKUP($A35,'BASE DE DATOS'!$B$2:$P$1443,14,0) -> #N/A | M35: =VLOOKUP($A35,'BASE DE DATOS'!$B$2:$P$1443,15,0) -> #N/A
C36: =VLOOKUP($A36,'BASE DE DATOS'!B$2:P$1443,2,0) -> #N/A | D36: =VLOOKUP($A36,'BASE DE DATOS'!$B$1:$P$1443,3,0) -> #N/A | E36: =VLOOKUP($A36,'BASE DE DATOS'!B$2:P$1443,4,0) -> #N/A | F36: =VLOOKUP($A36,'BASE DE DATOS'!$B$2:$P$1443,5,0) -> #N/A | G36: =VLOOKUP($A36,'BASE DE DATOS'!$B$2:$P$1443,6,0) -> #N/A | H36: =VLOOKUP($A36,'BASE DE DATOS'!$B$2:$P$1443,7,0) -> #N/A | I36: =VLOOKUP($A36,'BASE DE DATOS'!$B$2:$P$1443,8,0) -> #N/A | J36: =VLOOKUP($A36,'BASE DE DATOS'!$B$2:$P$1443,9,0) -> #N/A | K36: =CONCATENATE(H36,R36,I36,R36,J36) -> #N/A | L36: =VLOOKUP($A36,'BASE DE DATOS'!$B$2:$P$1443,14,0) -> #N/A | M36: =VLOOKUP($A36,'BASE DE DATOS'!$B$2:$P$1443,15,0) -> #N/A
C37: =VLOOKUP($A37,'BASE DE DATOS'!B$2:P$1443,2,0) -> #N/A | D37: =VLOOKUP($A37,'BASE DE DATOS'!$B$1:$P$1443,3,0) -> #N/A | E37: =VLOOKUP($A37,'BASE DE DATOS'!B$2:P$1443,4,0) -> #N/A | F37: =VLOOKUP($A37,'BASE DE DATOS'!$B$2:$P$1443,5,0) -> #N/A | G37: =VLOOKUP($A37,'BASE DE DATOS'!$B$2:$P$1443,6,0) -> #N/A | H37: =VLOOKUP($A37,'BASE DE DATOS'!$B$2:$P$1443,7,0) -> #N/A | I37: =VLOOKUP($A37,'BASE DE DATOS'!$B$2:$P$1443,8,0) -> #N/A | J37: =VLOOKUP($A37,'BASE DE DATOS'!$B$2:$P$1443,9,0) -> #N/A | K37: =CONCATENATE(H37,R37,I37,R37,J37) -> #N/A | L37: =VLOOKUP($A37,'BASE DE DATOS'!$B$2:$P$1443,14,0) -> #N/A | M37: =VLOOKUP($A37,'BASE DE DATOS'!$B$2:$P$1443,15,0) -> #N/A
C38: =VLOOKUP($A38,'BASE DE DATOS'!B$2:P$1443,2,0) -> #N/A | D38: =VLOOKUP($A38,'BASE DE DATOS'!$B$1:$P$1443,3,0) -> #N/A | E38: =VLOOKUP($A38,'BASE DE DATOS'!B$2:P$1443,4,0) -> #N/A | F38: =VLOOKUP($A38,'BASE DE DATOS'!$B$2:$P$1443,5,0) -> #N/A | G38: =VLOOKUP($A38,'BASE DE DATOS'!$B$2:$P$1443,6,0) -> #N/A | H38: =VLOOKUP($A38,'BASE DE DATOS'!$B$2:$P$1443,7,0) -> #N/A | I38: =VLOOKUP($A38,'BASE DE DATOS'!$B$2:$P$1443,8,0) -> #N/A | J38: =VLOOKUP($A38,'BASE DE DATOS'!$B$2:$P$1443,9,0) -> #N/A | K38: =CONCATENATE(H38,R38,I38,R38,J38) -> #N/A | L38: =VLOOKUP($A38,'BASE DE DATOS'!$B$2:$P$1443,14,0) -> #N/A | M38: =VLOOKUP($A38,'BASE DE DATOS'!$B$2:$P$1443,15,0) -> #N/A
C39: =VLOOKUP($A39,'BASE DE DATOS'!B$2:P$1443,2,0) -> #N/A | D39: =VLOOKUP($A39,'BASE DE DATOS'!$B$1:$P$1443,3,0) -> #N/A | E39: =VLOOKUP($A39,'BASE DE DATOS'!B$2:P$1443,4,0) -> #N/A | F39: =VLOOKUP($A39,'BASE DE DATOS'!$B$2:$P$1443,5,0) -> #N/A | G39: =VLOOKUP($A39,'BASE DE DATOS'!$B$2:$P$1443,6,0) -> #N/A | H39: =VLOOKUP($A39,'BASE DE DATOS'!$B$2:$P$1443,7,0) -> #N/A | I39: =VLOOKUP($A39,'BASE DE DATOS'!$B$2:$P$1443,8,0) -> #N/A | J39: =VLOOKUP($A39,'BASE DE DATOS'!$B$2:$P$1443,9,0) -> #N/A | K39: =CONCATENATE(H39,R39,I39,R39,J39) -> #N/A | L39: =VLOOKUP($A39,'BASE DE DATOS'!$B$2:$P$1443,14,0) -> #N/A | M39: =VLOOKUP($A39,'BASE DE DATOS'!$B$2:$P$1443,15,0) -> #N/A
C40: =VLOOKUP($A40,'BASE DE DATOS'!B$2:P$1443,2,0) -> #N/A | D40: =VLOOKUP($A40,'BASE DE DATOS'!$B$1:$P$1443,3,0) -> #N/A | E40: =VLOOKUP($A40,'BASE DE DATOS'!B$2:P$1443,4,0) -> #N/A | F40: =VLOOKUP($A40,'BASE DE DATOS'!$B$2:$P$1443,5,0) -> #N/A | G40: =VLOOKUP($A40,'BASE DE DATOS'!$B$2:$P$1443,6,0) -> #N/A | H40: =VLOOKUP($A40,'BASE DE DATOS'!$B$2:$P$1443,7,0) -> #N/A | I40: =VLOOKUP($A40,'BASE DE DATOS'!$B$2:$P$1443,8,0) -> #N/A | J40: =VLOOKUP($A40,'BASE DE DATOS'!$B$2:$P$1443,9,0) -> #N/A | K40: =CONCATENATE(H40,R40,I40,R40,J40) -> #N/A | L40: =VLOOKUP($A40,'BASE DE DATOS'!$B$2:$P$1443,14,0) -> #N/A | M40: =VLOOKUP($A40,'BASE DE DATOS'!$B$2:$P$1443,15,0) -> #N/A
C41: =VLOOKUP($A41,'BASE DE DATOS'!B$2:P$1443,2,0) -> #N/A | D41: =VLOOKUP($A41,'BASE DE DATOS'!$B$1:$P$1443,3,0) -> #N/A | E41: =VLOOKUP($A41,'BASE DE DATOS'!B$2:P$1443,4,0) -> #N/A | F41: =VLOOKUP($A41,'BASE DE DATOS'!$B$2:$P$1443,5,0) -> #N/A | G41: =VLOOKUP($A41,'BASE DE DATOS'!$B$2:$P$1443,6,0) -> #N/A | H41: =VLOOKUP($A41,'BASE DE DATOS'!$B$2:$P$1443,7,0) -> #N/A | I41: =VLOOKUP($A41,'BASE DE DATOS'!$B$2:$P$1443,8,0) -> #N/A | J41: =VLOOKUP($A41,'BASE DE DATOS'!$B$2:$P$1443,9,0) -> #N/A | K41: =CONCATENATE(H41,R41,I41,R41,J41) -> #N/A | L41: =VLOOKUP($A41,'BASE DE DATOS'!$B$2:$P$1443,14,0) -> #N/A | M41: =VLOOKUP($A41,'BASE DE DATOS'!$B$2:$P$1443,15,0) -> #N/A
C42: =VLOOKUP($A42,'BASE DE DATOS'!B$2:P$1443,2,0) -> #N/A | D42: =VLOOKUP($A42,'BASE DE DATOS'!$B$1:$P$1443,3,0) -> #N/A | E42: =VLOOKUP($A42,'BASE DE DATOS'!B$2:P$1443,4,0) -> #N/A | F42: =VLOOKUP($A42,'BASE DE DATOS'!$B$2:$P$1443,5,0) -> #N/A | G42: =VLOOKUP($A42,'BASE DE DATOS'!$B$2:$P$1443,6,0) -> #N/A | H42: =VLOOKUP($A42,'BASE DE DATOS'!$B$2:$P$1443,7,0) -> #N/A | I42: =VLOOKUP($A42,'BASE DE DATOS'!$B$2:$P$1443,8,0) -> #N/A | J42: =VLOOKUP($A42,'BASE DE DATOS'!$B$2:$P$1443,9,0) -> #N/A | K42: =CONCATENATE(H42,R42,I42,R42,J42) -> #N/A | L42: =VLOOKUP($A42,'BASE DE DATOS'!$B$2:$P$1443,14,0) -> #N/A | M42: =VLOOKUP($A42,'BASE DE DATOS'!$B$2:$P$1443,15,0) -> #N/A
... C76: =VLOOKUP($A76,'BASE DE DATOS'!B$2:P$1443,2,0) -> #N/A | D76: =VLOOKUP($A76,'BASE DE DATOS'!$B$1:$P$1443,3,0) -> #N/A | E76: =VLOOKUP($A76,'BASE DE DATOS'!B$2:P$1443,4,0) -> #N/A | F76: =VLOOKUP($A76,'BASE DE DATOS'!$B$2:$P$1443,5,0) -> #N/A | G76: =VLOOKUP($A76,'BASE DE DATOS'!$B$2:$P$1443,6,0) -> #N/A | H76: =VLOOKUP($A76,'BASE DE DATOS'!$B$2:$P$1443,7,0) -> #N/A | I76: =VLOOKUP($A76,'BASE DE DATOS'!$B$2:$P$1443,8,0) -> #N/A | J76: =VLOOKUP($A76,'BASE DE DATOS'!$B$2:$P$1443,9,0) -> #N/A | K76: =CONCATENATE(H76,R76,I76,R76,J76) -> #N/A | L76: =VLOOKUP($A76,'BASE DE DATOS'!$B$2:$P$1443,14,0) -> #N/A | M76: =VLOOKUP($A76,'BASE DE DATOS'!$B$2:$P$1443,15,0) -> #N/A
C77: =VLOOKUP($A77,'BASE DE DATOS'!B$2:P$1443,2,0) -> #N/A | D77: =VLOOKUP($A77,'BASE DE DATOS'!$B$1:$P$1443,3,0) -> #N/A | E77: =VLOOKUP($A77,'BASE DE DATOS'!B$2:P$1443,4,0) -> #N/A | F77: =VLOOKUP($A77,'BASE DE DATOS'!$B$2:$P$1443,5,0) -> #N/A | G77: =VLOOKUP($A77,'BASE DE DATOS'!$B$2:$P$1443,6,0) -> #N/A | H77: =VLOOKUP($A77,'BASE DE DATOS'!$B$2:$P$1443,7,0) -> #N/A | I77: =VLOOKUP($A77,'BASE DE DATOS'!$B$2:$P$1443,8,0) -> #N/A | J77: =VLOOKUP($A77,'BASE DE DATOS'!$B$2:$P$1443,9,0) -> #N/A | K77: =CONCATENATE(H77,R77,I77,R77,J77) -> #N/A | L77: =VLOOKUP($A77,'BASE DE DATOS'!$B$2:$P$1443,14,0) -> #N/A | M77: =VLOOKUP($A77,'BASE DE DATOS'!$B$2:$P$1443,15,0) -> #N/A | O77: FOUR CROSS
C78: =VLOOKUP($A78,'BASE DE DATOS'!B$2:P$1443,2,0) -> #N/A | D78: =VLOOKUP($A78,'BASE DE DATOS'!$B$1:$P$1443,3,0) -> #N/A | E78: =VLOOKUP($A78,'BASE DE DATOS'!B$2:P$1443,4,0) -> #N/A | F78: =VLOOKUP($A78,'BASE DE DATOS'!$B$2:$P$1443,5,0) -> #N/A | G78: =VLOOKUP($A78,'BASE DE DATOS'!$B$2:$P$1443,6,0) -> #N/A | H78: =VLOOKUP($A78,'BASE DE DATOS'!$B$2:$P$1443,7,0) -> #N/A | I78: =VLOOKUP($A78,'BASE DE DATOS'!$B$2:$P$1443,8,0) -> #N/A | J78: =VLOOKUP($A78,'BASE DE DATOS'!$B$2:$P$1443,9,0) -> #N/A | K78: =CONCATENATE(H78,R78,I78,R78,J78) -> #N/A | L78: =VLOOKUP($A78,'BASE DE DATOS'!$B$2:$P$1443,14,0) -> #N/A | M78: =VLOOKUP($A78,'BASE DE DATOS'!$B$2:$P$1443,15,0) -> #N/A
C79: =VLOOKUP($A79,'BASE DE DATOS'!B$2:P$1443,2,0) -> #N/A | D79: =VLOOKUP($A79,'BASE DE DATOS'!$B$1:$P$1443,3,0) -> #N/A | E79: =VLOOKUP($A79,'BASE DE DATOS'!B$2:P$1443,4,0) -> #N/A | F79: =VLOOKUP($A79,'BASE DE DATOS'!$B$2:$P$1443,5,0) -> #N/A | G79: =VLOOKUP($A79,'BASE DE DATOS'!$B$2:$P$1443,6,0) -> #N/A | H79: =VLOOKUP($A79,'BASE DE DATOS'!$B$2:$P$1443,7,0) -> #N/A | I79: =VLOOKUP($A79,'BASE DE DATOS'!$B$2:$P$1443,8,0) -> #N/A | J79: =VLOOKUP($A79,'BASE DE DATOS'!$B$2:$P$1443,9,0) -> #N/A | K79: =CONCATENATE(H79,R79,I79,R79,J79) -> #N/A | L79: =VLOOKUP($A79,'BASE DE DATOS'!$B$2:$P$1443,14,0) -> #N/A | M79: =VLOOKUP($A79,'BASE DE DATOS'!$B$2:$P$1443,15,0) -> #N/A
C80: =VLOOKUP($A80,'BASE DE DATOS'!B$2:P$1443,2,0) -> #N/A | D80: =VLOOKUP($A80,'BASE DE DATOS'!$B$1:$P$1443,3,0) -> #N/A | E80: =VLOOKUP($A80,'BASE DE DATOS'!B$2:P$1443,4,0) -> #N/A | F80: =VLOOKUP($A80,'BASE DE DATOS'!$B$2:$P$1443,5,0) -> #N/A | G80: =VLOOKUP($A80,'BASE DE DATOS'!$B$2:$P$1443,6,0) -> #N/A | H80: =VLOOKUP($A80,'BASE DE DATOS'!$B$2:$P$1443,7,0) -> #N/A | I80: =VLOOKUP($A80,'BASE DE DATOS'!$B$2:$P$1443,8,0) -> #N/A | J80: =VLOOKUP($A80,'BASE DE DATOS'!$B$2:$P$1443,9,0) -> #N/A | K80: =CONCATENATE(H80,R80,I80,R80,J80) -> #N/A | L80: =VLOOKUP($A80,'BASE DE DATOS'!$B$2:$P$1443,14,0) -> #N/A | M80: =VLOOKUP($A80,'BASE DE DATOS'!$B$2:$P$1443,15,0) -> #N/A
C81: =VLOOKUP($A81,'BASE DE DATOS'!B$2:P$1443,2,0) -> #N/A | D81: =VLOOKUP($A81,'BASE DE DATOS'!$B$1:$P$1443,3,0) -> #N/A | E81: =VLOOKUP($A81,'BASE DE DATOS'!B$2:P$1443,4,0) -> #N/A | F81: =VLOOKUP($A81,'BASE DE DATOS'!$B$2:$P$1443,5,0) -> #N/A | G81: =VLOOKUP($A81,'BASE DE DATOS'!$B$2:$P$1443,6,0) -> #N/A | H81: =VLOOKUP($A81,'BASE DE DATOS'!$B$2:$P$1443,7,0) -> #N/A | I81: =VLOOKUP($A81,'BASE DE DATOS'!$B$2:$P$1443,8,0) -> #N/A | J81: =VLOOKUP($A81,'BASE DE DATOS'!$B$2:$P$1443,9,0) -> #N/A | K81: =CONCATENATE(H81,R81,I81,R81,J81) -> #N/A | L81: =VLOOKUP($A81,'BASE DE DATOS'!$B$2:$P$1443,14,0) -> #N/A | M81: =VLOOKUP($A81,'BASE DE DATOS'!$B$2:$P$1443,15,0) -> #N/A
C82: =VLOOKUP($A82,'BASE DE DATOS'!B$2:P$1443,2,0) -> #N/A | D82: =VLOOKUP($A82,'BASE DE DATOS'!$B$1:$P$1443,3,0) -> #N/A | E82: =VLOOKUP($A82,'BASE DE DATOS'!B$2:P$1443,4,0) -> #N/A | F82: =VLOOKUP($A82,'BASE DE DATOS'!$B$2:$P$1443,5,0) -> #N/A | G82: =VLOOKUP($A82,'BASE DE DATOS'!$B$2:$P$1443,6,0) -> #N/A | H82: =VLOOKUP($A82,'BASE DE DATOS'!$B$2:$P$1443,7,0) -> #N/A | I82: =VLOOKUP($A82,'BASE DE DATOS'!$B$2:$P$1443,8,0) -> #N/A | J82: =VLOOKUP($A82,'BASE DE DATOS'!$B$2:$P$1443,9,0) -> #N/A | K82: =CONCATENATE(H82,R82,I82,R82,J82) -> #N/A | L82: =VLOOKUP($A82,'BASE DE DATOS'!$B$2:$P$1443,14,0) -> #N/A | M82: =VLOOKUP($A82,'BASE DE DATOS'!$B$2:$P$1443,15,0) -> #N/A
C83: =VLOOKUP($A83,'BASE DE DATOS'!B$2:P$1443,2,0) -> #N/A | D83: =VLOOKUP($A83,'BASE DE DATOS'!$B$1:$P$1443,3,0) -> #N/A | E83: =VLOOKUP($A83,'BASE DE DATOS'!B$2:P$1443,4,0) -> #N/A | F83: =VLOOKUP($A83,'BASE DE DATOS'!$B$2:$P$1443,5,0) -> #N/A | G83: =VLOOKUP($A83,'BASE DE DATOS'!$B$2:$P$1443,6,0) -> #N/A | H83: =VLOOKUP($A83,'BASE DE DATOS'!$B$2:$P$1443,7,0) -> #N/A | I83: =VLOOKUP($A83,'BASE DE DATOS'!$B$2:$P$1443,8,0) -> #N/A | J83: =VLOOKUP($A83,'BASE DE DATOS'!$B$2:$P$1443,9,0) -> #N/A | K83: =CONCATENATE(H83,R83,I83,R83,J83) -> #N/A | L83: =VLOOKUP($A83,'BASE DE DATOS'!$B$2:$P$1443,14,0) -> #N/A | M83: =VLOOKUP($A83,'BASE DE DATOS'!$B$2:$P$1443,15,0) -> #N/A
C84: =VLOOKUP($A84,'BASE DE DATOS'!B$2:P$1443,2,0) -> #N/A | D84: =VLOOKUP($A84,'BASE DE DATOS'!$B$1:$P$1443,3,0) -> #N/A | E84: =VLOOKUP($A84,'BASE DE DATOS'!B$2:P$1443,4,0) -> #N/A | F84: =VLOOKUP($A84,'BASE DE DATOS'!$B$2:$P$1443,5,0) -> #N/A | G84: =VLOOKUP($A84,'BASE DE DATOS'!$B$2:$P$1443,6,0) -> #N/A | H84: =VLOOKUP($A84,'BASE DE DATOS'!$B$2:$P$1443,7,0) -> #N/A | I84: =VLOOKUP($A84,'BASE DE DATOS'!$B$2:$P$1443,8,0) -> #N/A | J84: =VLOOKUP($A84,'BASE DE DATOS'!$B$2:$P$1443,9,0) -> #N/A | K84: =CONCATENATE(H84,R84,I84,R84,J84) -> #N/A | L84: =VLOOKUP($A84,'BASE DE DATOS'!$B$2:$P$1443,14,0) -> #N/A | M84: =VLOOKUP($A84,'BASE DE DATOS'!$B$2:$P$1443,15,0) -> #N/A
C85: =VLOOKUP($A85,'BASE DE DATOS'!B$2:P$1443,2,0) -> #N/A | D85: =VLOOKUP($A85,'BASE DE DATOS'!$B$1:$P$1443,3,0) -> #N/A | E85: =VLOOKUP($A85,'BASE DE DATOS'!B$2:P$1443,4,0) -> #N/A | F85: =VLOOKUP($A85,'BASE DE DATOS'!$B$2:$P$1443,5,0) -> #N/A | G85: =VLOOKUP($A85,'BASE DE DATOS'!$B$2:$P$1443,6,0) -> #N/A | H85: =VLOOKUP($A85,'BASE DE DATOS'!$B$2:$P$1443,7,0) -> #N/A | I85: =VLOOKUP($A85,'BASE DE DATOS'!$B$2:$P$1443,8,0) -> #N/A | J85: =VLOOKUP($A85,'BASE DE DATOS'!$B$2:$P$1443,9,0) -> #N/A | K85: =CONCATENATE(H85,R85,I85,R85,J85) -> #N/A | L85: =VLOOKUP($A85,'BASE DE DATOS'!$B$2:$P$1443,14,0) -> #N/A | M85: =VLOOKUP($A85,'BASE DE DATOS'!$B$2:$P$1443,15,0) -> #N/A | O85: PAPICROSS
C86: =VLOOKUP($A86,'BASE DE DATOS'!B$2:P$1443,2,0) -> #N/A | D86: =VLOOKUP($A86,'BASE DE DATOS'!$B$1:$P$1443,3,0) -> #N/A | E86: =VLOOKUP($A86,'BASE DE DATOS'!B$2:P$1443,4,0) -> #N/A | F86: =VLOOKUP($A86,'BASE DE DATOS'!$B$2:$P$1443,5,0) -> #N/A | G86: =VLOOKUP($A86,'BASE DE DATOS'!$B$2:$P$1443,6,0) -> #N/A | H86: =VLOOKUP($A86,'BASE DE DATOS'!$B$2:$P$1443,7,0) -> #N/A | I86: =VLOOKUP($A86,'BASE DE DATOS'!$B$2:$P$1443,8,0) -> #N/A | J86: =VLOOKUP($A86,'BASE DE DATOS'!$B$2:$P$1443,9,0) -> #N/A | K86: =CONCATENATE(H86,R86,I86,R86,J86) -> #N/A | L86: =VLOOKUP($A86,'BASE DE DATOS'!$B$2:$P$1443,14,0) -> #N/A | M86: =VLOOKUP($A86,'BASE DE DATOS'!$B$2:$P$1443,15,0) -> #N/A
C87: =VLOOKUP($A87,'BASE DE DATOS'!B$2:P$1443,2,0) -> #N/A | D87: =VLOOKUP($A87,'BASE DE DATOS'!$B$1:$P$1443,3,0) -> #N/A | E87: =VLOOKUP($A87,'BASE DE DATOS'!B$2:P$1443,4,0) -> #N/A | F87: =VLOOKUP($A87,'BASE DE DATOS'!$B$2:$P$1443,5,0) -> #N/A | G87: =VLOOKUP($A87,'BASE DE DATOS'!$B$2:$P$1443,6,0) -> #N/A | H87: =VLOOKUP($A87,'BASE DE DATOS'!$B$2:$P$1443,7,0) -> #N/A | I87: =VLOOKUP($A87,'BASE DE DATOS'!$B$2:$P$1443,8,0) -> #N/A | J87: =VLOOKUP($A87,'BASE DE DATOS'!$B$2:$P$1443,9,0) -> #N/A | K87: =CONCATENATE(H87,R87,I87,R87,J87) -> #N/A | L87: =VLOOKUP($A87,'BASE DE DATOS'!$B$2:$P$1443,14,0) -> #N/A | M87: =VLOOKUP($A87,'BASE DE DATOS'!$B$2:$P$1443,15,0) -> #N/A
C88: =VLOOKUP($A88,'BASE DE DATOS'!B$2:P$1443,2,0) -> #N/A | D88: =VLOOKUP($A88,'BASE DE DATOS'!$B$1:$P$1443,3,0) -> #N/A | E88: =VLOOKUP($A88,'BASE DE DATOS'!B$2:P$1443,4,0) -> #N/A | F88: =VLOOKUP($A88,'BASE DE DATOS'!$B$2:$P$1443,5,0) -> #N/A | G88: =VLOOKUP($A88,'BASE DE DATOS'!$B$2:$P$1443,6,0) -> #N/A | H88: =VLOOKUP($A88,'BASE DE DATOS'!$B$2:$P$1443,7,0) -> #N/A | I88: =VLOOKUP($A88,'BASE DE DATOS'!$B$2:$P$1443,8,0) -> #N/A | J88: =VLOOKUP($A88,'BASE DE DATOS'!$B$2:$P$1443,9,0) -> #N/A | K88: =CONCATENATE(H88,R88,I88,R88,J88) -> #N/A | L88: =VLOOKUP($A88,'BASE DE DATOS'!$B$2:$P$1443,14,0) -> #N/A | M88: =VLOOKUP($A88,'BASE DE DATOS'!$B$2:$P$1443,15,0) -> #N/A
C89: =VLOOKUP($A89,'BASE DE DATOS'!B$2:P$1443,2,0) -> #N/A | D89: =VLOOKUP($A89,'BASE DE DATOS'!$B$1:$P$1443,3,0) -> #N/A | E89: =VLOOKUP($A89,'BASE DE DATOS'!B$2:P$1443,4,0) -> #N/A | F89: =VLOOKUP($A89,'BASE DE DATOS'!$B$2:$P$1443,5,0) -> #N/A | G89: =VLOOKUP($A89,'BASE DE DATOS'!$B$2:$P$1443,6,0) -> #N/A | H89: =VLOOKUP($A89,'BASE DE DATOS'!$B$2:$P$1443,7,0) -> #N/A | I89: =VLOOKUP($A89,'BASE DE DATOS'!$B$2:$P$1443,8,0) -> #N/A | J89: =VLOOKUP($A89,'BASE DE DATOS'!$B$2:$P$1443,9,0) -> #N/A | K89: =CONCATENATE(H89,R89,I89,R89,J89) -> #N/A | L89: =VLOOKUP($A89,'BASE DE DATOS'!$B$2:$P$1443,14,0) -> #N/A | M89: =VLOOKUP($A89,'BASE DE DATOS'!$B$2:$P$1443,15,0) -> #N/A
C90: =VLOOKUP($A90,'BASE DE DATOS'!B$2:P$1443,2,0) -> #N/A | D90: =VLOOKUP($A90,'BASE DE DATOS'!$B$1:$P$1443,3,0) -> #N/A | E90: =VLOOKUP($A90,'BASE DE DATOS'!B$2:P$1443,4,0) -> #N/A | F90: =VLOOKUP($A90,'BASE DE DATOS'!$B$2:$P$1443,5,0) -> #N/A | G90: =VLOOKUP($A90,'BASE DE DATOS'!$B$2:$P$1443,6,0) -> #N/A | H90: =VLOOKUP($A90,'BASE DE DATOS'!$B$2:$P$1443,7,0) -> #N/A | I90: =VLOOKUP($A90,'BASE DE DATOS'!$B$2:$P$1443,8,0) -> #N/A | J90: =VLOOKUP($A90,'BASE DE DATOS'!$B$2:$P$1443,9,0) -> #N/A | K90: =CONCATENATE(H90,R90,I90,R90,J90) -> #N/A | L90: =VLOOKUP($A90,'BASE DE DATOS'!$B$2:$P$1443,14,0) -> #N/A | M90: =VLOOKUP($A90,'BASE DE DATOS'!$B$2:$P$1443,15,0) -> #N/A | O90: SEMILLEROS
C91: =VLOOKUP($A91,'BASE DE DATOS'!B$2:P$1443,2,0) -> #N/A | D91: =VLOOKUP($A91,'BASE DE DATOS'!$B$1:$P$1443,3,0) -> #N/A | E91: =VLOOKUP($A91,'BASE DE DATOS'!B$2:P$1443,4,0) -> #N/A | F91: =VLOOKUP($A91,'BASE DE DATOS'!$B$2:$P$1443,5,0) -> #N/A | G91: =VLOOKUP($A91,'BASE DE DATOS'!$B$2:$P$1443,6,0) -> #N/A | H91: =VLOOKUP($A91,'BASE DE DATOS'!$B$2:$P$1443,7,0) -> #N/A | I91: =VLOOKUP($A91,'BASE DE DATOS'!$B$2:$P$1443,8,0) -> #N/A | J91: =VLOOKUP($A91,'BASE DE DATOS'!$B$2:$P$1443,9,0) -> #N/A | K91: =CONCATENATE(H91,R91,I91,R91,J91) -> #N/A | L91: =VLOOKUP($A91,'BASE DE DATOS'!$B$2:$P$1443,14,0) -> #N/A | M91: =VLOOKUP($A91,'BASE DE DATOS'!$B$2:$P$1443,15,0) -> #N/A
C92: =VLOOKUP($A92,'BASE DE DATOS'!B$2:P$1443,2,0) -> #N/A | D92: =VLOOKUP($A92,'BASE DE DATOS'!$B$1:$P$1443,3,0) -> #N/A | E92: =VLOOKUP($A92,'BASE DE DATOS'!B$2:P$1443,4,0) -> #N/A | F92: =VLOOKUP($A92,'BASE DE DATOS'!$B$2:$P$1443,5,0) -> #N/A | G92: =VLOOKUP($A92,'BASE DE DATOS'!$B$2:$P$1443,6,0) -> #N/A | H92: =VLOOKUP($A92,'BASE DE DATOS'!$B$2:$P$1443,7,0) -> #N/A | I92: =VLOOKUP($A92,'BASE DE DATOS'!$B$2:$P$1443,8,0) -> #N/A | J92: =VLOOKUP($A92,'BASE DE DATOS'!$B$2:$P$1443,9,0) -> #N/A | K92: =CONCATENATE(H92,R92,I92,R92,J92) -> #N/A | L92: =VLOOKUP($A92,'BASE DE DATOS'!$B$2:$P$1443,14,0) -> #N/A | M92: =VLOOKUP($A92,'BASE DE DATOS'!$B$2:$P$1443,15,0) -> #N/A
C93: =VLOOKUP($A93,'BASE DE DATOS'!B$2:P$1443,2,0) -> #N/A | D93: =VLOOKUP($A93,'BASE DE DATOS'!$B$1:$P$1443,3,0) -> #N/A | E93: =VLOOKUP($A93,'BASE DE DATOS'!B$2:P$1443,4,0) -> #N/A | F93: =VLOOKUP($A93,'BASE DE DATOS'!$B$2:$P$1443,5,0) -> #N/A | G93: =VLOOKUP($A93,'BASE DE DATOS'!$B$2:$P$1443,6,0) -> #N/A | H93: =VLOOKUP($A93,'BASE DE DATOS'!$B$2:$P$1443,7,0) -> #N/A | I93: =VLOOKUP($A93,'BASE DE DATOS'!$B$2:$P$1443,8,0) -> #N/A | J93: =VLOOKUP($A93,'BASE DE DATOS'!$B$2:$P$1443,9,0) -> #N/A | K93: =CONCATENATE(H93,R93,I93,R93,J93) -> #N/A | L93: =VLOOKUP($A93,'BASE DE DATOS'!$B$2:$P$1443,14,0) -> #N/A | M93: =VLOOKUP($A93,'BASE DE DATOS'!$B$2:$P$1443,15,0) -> #N/A
C94: =VLOOKUP($A94,'BASE DE DATOS'!B$2:P$1443,2,0) -> #N/A | D94: =VLOOKUP($A94,'BASE DE DATOS'!$B$1:$P$1443,3,0) -> #N/A | E94: =VLOOKUP($A94,'BASE DE DATOS'!B$2:P$1443,4,0) -> #N/A | F94: =VLOOKUP($A94,'BASE DE DATOS'!$B$2:$P$1443,5,0) -> #N/A | G94: =VLOOKUP($A94,'BASE DE DATOS'!$B$2:$P$1443,6,0) -> #N/A | H94: =VLOOKUP($A94,'BASE DE DATOS'!$B$2:$P$1443,7,0) -> #N/A | I94: =VLOOKUP($A94,'BASE DE DATOS'!$B$2:$P$1443,8,0) -> #N/A | J94: =VLOOKUP($A94,'BASE DE DATOS'!$B$2:$P$1443,9,0) -> #N/A | K94: =CONCATENATE(H94,R94,I94,R94,J94) -> #N/A | L94: =VLOOKUP($A94,'BASE DE DATOS'!$B$2:$P$1443,14,0) -> #N/A | M94: =VLOOKUP($A94,'BASE DE DATOS'!$B$2:$P$1443,15,0) -> #N/A
C95: =VLOOKUP($A95,'BASE DE DATOS'!B$2:P$1443,2,0) -> #N/A | D95: =VLOOKUP($A95,'BASE DE DATOS'!$B$1:$P$1443,3,0) -> #N/A | E95: =VLOOKUP($A95,'BASE DE DATOS'!B$2:P$1443,4,0) -> #N/A | F95: =VLOOKUP($A95,'BASE DE DATOS'!$B$2:$P$1443,5,0) -> #N/A | G95: =VLOOKUP($A95,'BASE DE DATOS'!$B$2:$P$1443,6,0) -> #N/A | H95: =VLOOKUP($A95,'BASE DE DATOS'!$B$2:$P$1443,7,0) -> #N/A | I95: =VLOOKUP($A95,'BASE DE DATOS'!$B$2:$P$1443,8,0) -> #N/A | J95: =VLOOKUP($A95,'BASE DE DATOS'!$B$2:$P$1443,9,0) -> #N/A | K95: =CONCATENATE(H95,R95,I95,R95,J95) -> #N/A | L95: =VLOOKUP($A95,'BASE DE DATOS'!$B$2:$P$1443,14,0) -> #N/A | M95: =VLOOKUP($A95,'BASE DE DATOS'!$B$2:$P$1443,15,0) -> #N/A
C96: =VLOOKUP($A96,'BASE DE DATOS'!B$2:P$1443,2,0) -> #N/A | D96: =VLOOKUP($A96,'BASE DE DATOS'!$B$1:$P$1443,3,0) -> #N/A | E96: =VLOOKUP($A96,'BASE DE DATOS'!B$2:P$1443,4,0) -> #N/A | F96: =VLOOKUP($A96,'BASE DE DATOS'!$B$2:$P$1443,5,0) -> #N/A | G96: =VLOOKUP($A96,'BASE DE DATOS'!$B$2:$P$1443,6,0) -> #N/A | H96: =VLOOKUP($A96,'BASE DE DATOS'!$B$2:$P$1443,7,0) -> #N/A | I96: =VLOOKUP($A96,'BASE DE DATOS'!$B$2:$P$1443,8,0) -> #N/A | J96: =VLOOKUP($A96,'BASE DE DATOS'!$B$2:$P$1443,9,0) -> #N/A | K96: =CONCATENATE(H96,R96,I96,R96,J96) -> #N/A | L96: =VLOOKUP($A96,'BASE DE DATOS'!$B$2:$P$1443,14,0) -> #N/A | M96: =VLOOKUP($A96,'BASE DE DATOS'!$B$2:$P$1443,15,0) -> #N/A | O96: OPEN ELITE VARONES
C97: =VLOOKUP($A97,'BASE DE DATOS'!B$2:P$1443,2,0) -> #N/A | D97: =VLOOKUP($A97,'BASE DE DATOS'!$B$1:$P$1443,3,0) -> #N/A | E97: =VLOOKUP($A97,'BASE DE DATOS'!B$2:P$1443,4,0) -> #N/A | F97: =VLOOKUP($A97,'BASE DE DATOS'!$B$2:$P$1443,5,0) -> #N/A | G97: =VLOOKUP($A97,'BASE DE DATOS'!$B$2:$P$1443,6,0) -> #N/A | H97: =VLOOKUP($A97,'BASE DE DATOS'!$B$2:$P$1443,7,0) -> #N/A | I97: =VLOOKUP($A97,'BASE DE DATOS'!$B$2:$P$1443,8,0) -> #N/A | J97: =VLOOKUP($A97,'BASE DE DATOS'!$B$2:$P$1443,9,0) -> #N/A | K97: =CONCATENATE(H97,R97,I97,R97,J97) -> #N/A | L97: =VLOOKUP($A97,'BASE DE DATOS'!$B$2:$P$1443,14,0) -> #N/A | M97: =VLOOKUP($A97,'BASE DE DATOS'!$B$2:$P$1443,15,0) -> #N/A
C98: =VLOOKUP($A98,'BASE DE DATOS'!B$2:P$1443,2,0) -> #N/A | D98: =VLOOKUP($A98,'BASE DE DATOS'!$B$1:$P$1443,3,0) -> #N/A | E98: =VLOOKUP($A98,'BASE DE DATOS'!B$2:P$1443,4,0) -> #N/A | F98: =VLOOKUP($A98,'BASE DE DATOS'!$B$2:$P$1443,5,0) -> #N/A | G98: =VLOOKUP($A98,'BASE DE DATOS'!$B$2:$P$1443,6,0) -> #N/A | H98: =VLOOKUP($A98,'BASE DE DATOS'!$B$2:$P$1443,7,0) -> #N/A | I98: =VLOOKUP($A98,'BASE DE DATOS'!$B$2:$P$1443,8,0) -> #N/A | J98: =VLOOKUP($A98,'BASE DE DATOS'!$B$2:$P$1443,9,0) -> #N/A | K98: =CONCATENATE(H98,R98,I98,R98,J98) -> #N/A | L98: =VLOOKUP($A98,'BASE DE DATOS'!$B$2:$P$1443,14,0) -> #N/A | M98: =VLOOKUP($A98,'BASE DE DATOS'!$B$2:$P$1443,15,0) -> #N/A
C99: =VLOOKUP($A99,'BASE DE DATOS'!B$2:P$1443,2,0) -> #N/A | D99: =VLOOKUP($A99,'BASE DE DATOS'!$B$1:$P$1443,3,0) -> #N/A | E99: =VLOOKUP($A99,'BASE DE DATOS'!B$2:P$1443,4,0) -> #N/A | F99: =VLOOKUP($A99,'BASE DE DATOS'!$B$2:$P$1443,5,0) -> #N/A | G99: =VLOOKUP($A99,'BASE DE DATOS'!$B$2:$P$1443,6,0) -> #N/A | H99: =VLOOKUP($A99,'BASE DE DATOS'!$B$2:$P$1443,7,0) -> #N/A | I99: =VLOOKUP($A99,'BASE DE DATOS'!$B$2:$P$1443,8,0) -> #N/A | J99: =VLOOKUP($A99,'BASE DE DATOS'!$B$2:$P$1443,9,0) -> #N/A | K99: =CONCATENATE(H99,R99,I99,R99,J99) -> #N/A | L99: =VLOOKUP($A99,'BASE DE DATOS'!$B$2:$P$1443,14,0) -> #N/A | M99: =VLOOKUP($A99,'BASE DE DATOS'!$B$2:$P$1443,15,0) -> #N/A
C100: =VLOOKUP($A100,'BASE DE DATOS'!B$2:P$1443,2,0) -> #N/A | D100: =VLOOKUP($A100,'BASE DE DATOS'!$B$1:$P$1443,3,0) -> #N/A | E100: =VLOOKUP($A100,'BASE DE DATOS'!B$2:P$1443,4,0) -> #N/A | F100: =VLOOKUP($A100,'BASE DE DATOS'!$B$2:$P$1443,5,0) -> #N/A | G100: =VLOOKUP($A100,'BASE DE DATOS'!$B$2:$P$1443,6,0) -> #N/A | H100: =VLOOKUP($A100,'BASE DE DATOS'!$B$2:$P$1443,7,0) -> #N/A | I100: =VLOOKUP($A100,'BASE DE DATOS'!$B$2:$P$1443,8,0) -> #N/A | J100: =VLOOKUP($A100,'BASE DE DATOS'!$B$2:$P$1443,9,0) -> #N/A | K100: =CONCATENATE(H100,R100,I100,R100,J100) -> #N/A | L100: =VLOOKUP($A100,'BASE DE DATOS'!$B$2:$P$1443,14,0) -> #N/A | M100: =VLOOKUP($A100,'BASE DE DATOS'!$B$2:$P$1443,15,0) -> #N/A
C101: =VLOOKUP($A101,'BASE DE DATOS'!B$2:P$1443,2,0) -> #N/A | D101: =VLOOKUP($A101,'BASE DE DATOS'!$B$1:$P$1443,3,0) -> #N/A | E101: =VLOOKUP($A101,'BASE DE DATOS'!B$2:P$1443,4,0) -> #N/A | F101: =VLOOKUP($A101,'BASE DE DATOS'!$B$2:$P$1443,5,0) -> #N/A | G101: =VLOOKUP($A101,'BASE DE DATOS'!$B$2:$P$1443,6,0) -> #N/A | H101: =VLOOKUP($A101,'BASE DE DATOS'!$B$2:$P$1443,7,0) -> #N/A | I101: =VLOOKUP($A101,'BASE DE DATOS'!$B$2:$P$1443,8,0) -> #N/A | J101: =VLOOKUP($A101,'BASE DE DATOS'!$B$2:$P$1443,9,0) -> #N/A | K101: =CONCATENATE(H101,R101,I101,R101,J101) -> #N/A | L101: =VLOOKUP($A101,'BASE DE DATOS'!$B$2:$P$1443,14,0) -> #N/A | M101: =VLOOKUP($A101,'BASE DE DATOS'!$B$2:$P$1443,15,0) -> #N/A
C102: =VLOOKUP($A102,'BASE DE DATOS'!B$2:P$1443,2,0) -> #N/A | D102: =VLOOKUP($A102,'BASE DE DATOS'!$B$1:$P$1443,3,0) -> #N/A | E102: =VLOOKUP($A102,'BASE DE DATOS'!B$2:P$1443,4,0) -> #N/A | F102: =VLOOKUP($A102,'BASE DE DATOS'!$B$2:$P$1443,5,0) -> #N/A | G102: =VLOOKUP($A102,'BASE DE DATOS'!$B$2:$P$1443,6,0) -> #N/A | H102: =VLOOKUP($A102,'BASE DE DATOS'!$B$2:$P$1443,7,0) -> #N/A | I102: =VLOOKUP($A102,'BASE DE DATOS'!$B$2:$P$1443,8,0) -> #N/A | J102: =VLOOKUP($A102,'BASE DE DATOS'!$B$2:$P$1443,9,0) -> #N/A | K102: =CONCATENATE(H102,R102,I102,R102,J102) -> #N/A | L102: =VLOOKUP($A102,'BASE DE DATOS'!$B$2:$P$1443,14,0) -> #N/A | M102: =VLOOKUP($A102,'BASE DE DATOS'!$B$2:$P$1443,15,0) -> #N/A
C103: =VLOOKUP($A103,'BASE DE DATOS'!B$2:P$1443,2,0) -> #N/A | D103: =VLOOKUP($A103,'BASE DE DATOS'!$B$1:$P$1443,3,0) -> #N/A | E103: =VLOOKUP($A103,'BASE DE DATOS'!B$2:P$1443,4,0) -> #N/A | F103: =VLOOKUP($A103,'BASE DE DATOS'!$B$2:$P$1443,5,0) -> #N/A | G103: =VLOOKUP($A103,'BASE DE DATOS'!$B$2:$P$1443,6,0) -> #N/A | H103: =VLOOKUP($A103,'BASE DE DATOS'!$B$2:$P$1443,7,0) -> #N/A | I103: =VLOOKUP($A103,'BASE DE DATOS'!$B$2:$P$1443,8,0) -> #N/A | J103: =VLOOKUP($A103,'BASE DE DATOS'!$B$2:$P$1443,9,0) -> #N/A | K103: =CONCATENATE(H103,R103,I103,R103,J103) -> #N/A | L103: =VLOOKUP($A103,'BASE DE DATOS'!$B$2:$P$1443,14,0) -> #N/A | M103: =VLOOKUP($A103,'BASE DE DATOS'!$B$2:$P$1443,15,0) -> #N/A
C104: =VLOOKUP($A104,'BASE DE DATOS'!B$2:P$1443,2,0) -> #N/A | D104: =VLOOKUP($A104,'BASE DE DATOS'!$B$1:$P$1443,3,0) -> #N/A | E104: =VLOOKUP($A104,'BASE DE DATOS'!B$2:P$1443,4,0) -> #N/A | F104: =VLOOKUP($A104,'BASE DE DATOS'!$B$2:$P$1443,5,0) -> #N/A | G104: =VLOOKUP($A104,'BASE DE DATOS'!$B$2:$P$1443,6,0) -> #N/A | H104: =VLOOKUP($A104,'BASE DE DATOS'!$B$2:$P$1443,7,0) -> #N/A | I104: =VLOOKUP($A104,'BASE DE DATOS'!$B$2:$P$1443,8,0) -> #N/A | J104: =VLOOKUP($A104,'BASE DE DATOS'!$B$2:$P$1443,9,0) -> #N/A | K104: =CONCATENATE(H104,R104,I104,R104,J104) -> #N/A | L104: =VLOOKUP($A104,'BASE DE DATOS'!$B$2:$P$1443,14,0) -> #N/A | M104: =VLOOKUP($A104,'BASE DE DATOS'!$B$2:$P$1443,15,0) -> #N/A
C105: =VLOOKUP($A105,'BASE DE DATOS'!B$2:P$1443,2,0) -> #N/A | D105: =VLOOKUP($A105,'BASE DE DATOS'!$B$1:$P$1443,3,0) -> #N/A | E105: =VLOOKUP($A105,'BASE DE DATOS'!B$2:P$1443,4,0) -> #N/A | F105: =VLOOKUP($A105,'BASE DE DATOS'!$B$2:$P$1443,5,0) -> #N/A | G105: =VLOOKUP($A105,'BASE DE DATOS'!$B$2:$P$1443,6,0) -> #N/A | H105: =VLOOKUP($A105,'BASE DE DATOS'!$B$2:$P$1443,7,0) -> #N/A | I105: =VLOOKUP($A105,'BASE DE DATOS'!$B$2:$P$1443,8,0) -> #N/A | J105: =VLOOKUP($A105,'BASE DE DATOS'!$B$2:$P$1443,9,0) -> #N/A | K105: =CONCATENATE(H105,R105,I105,R105,J105) -> #N/A | L105: =VLOOKUP($A105,'BASE DE DATOS'!$B$2:$P$1443,14,0) -> #N/A | M105: =VLOOKUP($A105,'BASE DE DATOS'!$B$2:$P$1443,15,0) -> #N/A
C106: =VLOOKUP($A106,'BASE DE DATOS'!B$2:P$1443,2,0) -> #N/A | D106: =VLOOKUP($A106,'BASE DE DATOS'!$B$1:$P$1443,3,0) -> #N/A | E106: =VLOOKUP($A106,'BASE DE DATOS'!B$2:P$1443,4,0) -> #N/A | F106: =VLOOKUP($A106,'BASE DE DATOS'!$B$2:$P$1443,5,0) -> #N/A | G106: =VLOOKUP($A106,'BASE DE DATOS'!$B$2:$P$1443,6,0) -> #N/A | H106: =VLOOKUP($A106,'BASE DE DATOS'!$B$2:$P$1443,7,0) -> #N/A | I106: =VLOOKUP($A106,'BASE DE DATOS'!$B$2:$P$1443,8,0) -> #N/A | J106: =VLOOKUP($A106,'BASE DE DATOS'!$B$2:$P$1443,9,0) -> #N/A | K106: =CONCATENATE(H106,R106,I106,R106,J106) -> #N/A | L106: =VLOOKUP($A106,'BASE DE DATOS'!$B$2:$P$1443,14,0) -> #N/A | M106: =VLOOKUP($A106,'BASE DE DATOS'!$B$2:$P$1443,15,0) -> #N/A
C107: =VLOOKUP($A107,'BASE DE DATOS'!B$2:P$1443,2,0) -> #N/A | D107: =VLOOKUP($A107,'BASE DE DATOS'!$B$1:$P$1443,3,0) -> #N/A | E107: =VLOOKUP($A107,'BASE DE DATOS'!B$2:P$1443,4,0) -> #N/A | F107: =VLOOKUP($A107,'BASE DE DATOS'!$B$2:$P$1443,5,0) -> #N/A | G107: =VLOOKUP($A107,'BASE DE DATOS'!$B$2:$P$1443,6,0) -> #N/A | H107: =VLOOKUP($A107,'BASE DE DATOS'!$B$2:$P$1443,7,0) -> #N/A | I107: =VLOOKUP($A107,'BASE DE DATOS'!$B$2:$P$1443,8,0) -> #N/A | J107: =VLOOKUP($A107,'BASE DE DATOS'!$B$2:$P$1443,9,0) -> #N/A | K107: =CONCATENATE(H107,R107,I107,R107,J107) -> #N/A | L107: =VLOOKUP($A107,'BASE DE DATOS'!$B$2:$P$1443,14,0) -> #N/A | M107: =VLOOKUP($A107,'BASE DE DATOS'!$B$2:$P$1443,15,0) -> #N/A
C108: =VLOOKUP($A108,'BASE DE DATOS'!B$2:P$1443,2,0) -> #N/A | D108: =VLOOKUP($A108,'BASE DE DATOS'!$B$1:$P$1443,3,0) -> #N/A | E108: =VLOOKUP($A108,'BASE DE DATOS'!B$2:P$1443,4,0) -> #N/A | F108: =VLOOKUP($A108,'BASE DE DATOS'!$B$2:$P$1443,5,0) -> #N/A | G108: =VLOOKUP($A108,'BASE DE DATOS'!$B$2:$P$1443,6,0) -> #N/A | H108: =VLOOKUP($A108,'BASE DE DATOS'!$B$2:$P$1443,7,0) -> #N/A | I108: =VLOOKUP($A108,'BASE DE DATOS'!$B$2:$P$1443,8,0) -> #N/A | J108: =VLOOKUP($A108,'BASE DE DATOS'!$B$2:$P$1443,9,0) -> #N/A | K108: =CONCATENATE(H108,R108,I108,R108,J108) -> #N/A | L108: =VLOOKUP($A108,'BASE DE DATOS'!$B$2:$P$1443,14,0) -> #N/A | M108: =VLOOKUP($A108,'BASE DE DATOS'!$B$2:$P$1443,15,0) -> #N/A
... C213: =VLOOKUP($A213,'BASE DE DATOS'!B$2:P$1443,2,0) -> #N/A | D213: =VLOOKUP($A213,'BASE DE DATOS'!$B$1:$P$1443,3,0) -> #N/A | E213: =VLOOKUP($A213,'BASE DE DATOS'!B$2:P$1443,4,0) -> #N/A | F213: =VLOOKUP($A213,'BASE DE DATOS'!$B$2:$P$1443,5,0) -> #N/A | G213: =VLOOKUP($A213,'BASE DE DATOS'!$B$2:$P$1443,6,0) -> #N/A | H213: =VLOOKUP($A213,'BASE DE DATOS'!$B$2:$P$1443,7,0) -> #N/A | I213: =VLOOKUP($A213,'BASE DE DATOS'!$B$2:$P$1443,8,0) -> #N/A | J213: =VLOOKUP($A213,'BASE DE DATOS'!$B$2:$P$1443,9,0) -> #N/A | K213: =CONCATENATE(H213,R213,I213,R213,J213) -> #N/A | L213: =VLOOKUP($A213,'BASE DE DATOS'!$B$2:$P$1443,14,0) -> #N/A | M213: =VLOOKUP($A213,'BASE DE DATOS'!$B$2:$P$1443,15,0) -> #N/A
C214: =VLOOKUP($A214,'BASE DE DATOS'!B$2:P$1443,2,0) -> #N/A | D214: =VLOOKUP($A214,'BASE DE DATOS'!$B$1:$P$1443,3,0) -> #N/A | E214: =VLOOKUP($A214,'BASE DE DATOS'!B$2:P$1443,4,0) -> #N/A | F214: =VLOOKUP($A214,'BASE DE DATOS'!$B$2:$P$1443,5,0) -> #N/A | G214: =VLOOKUP($A214,'BASE DE DATOS'!$B$2:$P$1443,6,0) -> #N/A | H214: =VLOOKUP($A214,'BASE DE DATOS'!$B$2:$P$1443,7,0) -> #N/A | I214: =VLOOKUP($A214,'BASE DE DATOS'!$B$2:$P$1443,8,0) -> #N/A | J214: =VLOOKUP($A214,'BASE DE DATOS'!$B$2:$P$1443,9,0) -> #N/A | K214: =CONCATENATE(H214,R214,I214,R214,J214) -> #N/A | L214: =VLOOKUP($A214,'BASE DE DATOS'!$B$2:$P$1443,14,0) -> #N/A | M214: =VLOOKUP($A214,'BASE DE DATOS'!$B$2:$P$1443,15,0) -> #N/A | O214: MINI RIDERS SIN PEDALES
C215: =VLOOKUP($A215,'BASE DE DATOS'!B$2:P$1443,2,0) -> #N/A | D215: =VLOOKUP($A215,'BASE DE DATOS'!$B$1:$P$1443,3,0) -> #N/A | E215: =VLOOKUP($A215,'BASE DE DATOS'!B$2:P$1443,4,0) -> #N/A | F215: =VLOOKUP($A215,'BASE DE DATOS'!$B$2:$P$1443,5,0) -> #N/A | G215: =VLOOKUP($A215,'BASE DE DATOS'!$B$2:$P$1443,6,0) -> #N/A | H215: =VLOOKUP($A215,'BASE DE DATOS'!$B$2:$P$1443,7,0) -> #N/A | I215: =VLOOKUP($A215,'BASE DE DATOS'!$B$2:$P$1443,8,0) -> #N/A | J215: =VLOOKUP($A215,'BASE DE DATOS'!$B$2:$P$1443,9,0) -> #N/A | K215: =CONCATENATE(H215,R215,I215,R215,J215) -> #N/A | L215: =VLOOKUP($A215,'BASE DE DATOS'!$B$2:$P$1443,14,0) -> #N/A | M215: =VLOOKUP($A215,'BASE DE DATOS'!$B$2:$P$1443,15,0) -> #N/A
C216: =VLOOKUP($A216,'BASE DE DATOS'!B$2:P$1443,2,0) -> #N/A | D216: =VLOOKUP($A216,'BASE DE DATOS'!$B$1:$P$1443,3,0) -> #N/A | E216: =VLOOKUP($A216,'BASE DE DATOS'!B$2:P$1443,4,0) -> #N/A | F216: =VLOOKUP($A216,'BASE DE DATOS'!$B$2:$P$1443,5,0) -> #N/A | G216: =VLOOKUP($A216,'BASE DE DATOS'!$B$2:$P$1443,6,0) -> #N/A | H216: =VLOOKUP($A216,'BASE DE DATOS'!$B$2:$P$1443,7,0) -> #N/A | I216: =VLOOKUP($A216,'BASE DE DATOS'!$B$2:$P$1443,8,0) -> #N/A | J216: =VLOOKUP($A216,'BASE DE DATOS'!$B$2:$P$1443,9,0) -> #N/A | K216: =CONCATENATE(H216,R216,I216,R216,J216) -> #N/A | L216: =VLOOKUP($A216,'BASE DE DATOS'!$B$2:$P$1443,14,0) -> #N/A | M216: =VLOOKUP($A216,'BASE DE DATOS'!$B$2:$P$1443,15,0) -> #N/A
C217: =VLOOKUP($A217,'BASE DE DATOS'!B$2:P$1443,2,0) -> #N/A | D217: =VLOOKUP($A217,'BASE DE DATOS'!$B$1:$P$1443,3,0) -> #N/A | E217: =VLOOKUP($A217,'BASE DE DATOS'!B$2:P$1443,4,0) -> #N/A | F217: =VLOOKUP($A217,'BASE DE DATOS'!$B$2:$P$1443,5,0) -> #N/A | G217: =VLOOKUP($A217,'BASE DE DATOS'!$B$2:$P$1443,6,0) -> #N/A | H217: =VLOOKUP($A217,'BASE DE DATOS'!$B$2:$P$1443,7,0) -> #N/A | I217: =VLOOKUP($A217,'BASE DE DATOS'!$B$2:$P$1443,8,0) -> #N/A | J217: =VLOOKUP($A217,'BASE DE DATOS'!$B$2:$P$1443,9,0) -> #N/A | K217: =CONCATENATE(H217,R217,I217,R217,J217) -> #N/A | L217: =VLOOKUP($A217,'BASE DE DATOS'!$B$2:$P$1443,14,0) -> #N/A | M217: =VLOOKUP($A217,'BASE DE DATOS'!$B$2:$P$1443,15,0) -> #N/A
C218: =VLOOKUP($A218,'BASE DE DATOS'!B$2:P$1443,2,0) -> #N/A | D218: =VLOOKUP($A218,'BASE DE DATOS'!$B$1:$P$1443,3,0) -> #N/A | E218: =VLOOKUP($A218,'BASE DE DATOS'!B$2:P$1443,4,0) -> #N/A | F218: =VLOOKUP($A218,'BASE DE DATOS'!$B$2:$P$1443,5,0) -> #N/A | G218: =VLOOKUP($A218,'BASE DE DATOS'!$B$2:$P$1443,6,0) -> #N/A | H218: =VLOOKUP($A218,'BASE DE DATOS'!$B$2:$P$1443,7,0) -> #N/A | I218: =VLOOKUP($A218,'BASE DE DATOS'!$B$2:$P$1443,8,0) -> #N/A | J218: =VLOOKUP($A218,'BASE DE DATOS'!$B$2:$P$1443,9,0) -> #N/A | K218: =CONCATENATE(H218,R218,I218,R218,J218) -> #N/A | L218: =VLOOKUP($A218,'BASE DE DATOS'!$B$2:$P$1443,14,0) -> #N/A | M218: =VLOOKUP($A218,'BASE DE DATOS'!$B$2:$P$1443,15,0) -> #N/A
C219: =VLOOKUP($A219,'BASE DE DATOS'!B$2:P$1443,2,0) -> #N/A | D219: =VLOOKUP($A219,'BASE DE DATOS'!$B$1:$P$1443,3,0) -> #N/A | E219: =VLOOKUP($A219,'BASE DE DATOS'!B$2:P$1443,4,0) -> #N/A | F219: =VLOOKUP($A219,'BASE DE DATOS'!$B$2:$P$1443,5,0) -> #N/A | G219: =VLOOKUP($A219,'BASE DE DATOS'!$B$2:$P$1443,6,0) -> #N/A | H219: =VLOOKUP($A219,'BASE DE DATOS'!$B$2:$P$1443,7,0) -> #N/A | I219: =VLOOKUP($A219,'BASE DE DATOS'!$B$2:$P$1443,8,0) -> #N/A | J219: =VLOOKUP($A219,'BASE DE DATOS'!$B$2:$P$1443,9,0) -> #N/A | K219: =CONCATENATE(H219,R219,I219,R219,J219) -> #N/A | L219: =VLOOKUP($A219,'BASE DE DATOS'!$B$2:$P$1443,14,0) -> #N/A | M219: =VLOOKUP($A219,'BASE DE DATOS'!$B$2:$P$1443,15,0) -> #N/A
C220: =VLOOKUP($A220,'BASE DE DATOS'!B$2:P$1443,2,0) -> #N/A | D220: =VLOOKUP($A220,'BASE DE DATOS'!$B$1:$P$1443,3,0) -> #N/A | E220: =VLOOKUP($A220,'BASE DE DATOS'!B$2:P$1443,4,0) -> #N/A | F220: =VLOOKUP($A220,'BASE DE DATOS'!$B$2:$P$1443,5,0) -> #N/A | G220: =VLOOKUP($A220,'BASE DE DATOS'!$B$2:$P$1443,6,0) -> #N/A | H220: =VLOOKUP($A220,'BASE DE DATOS'!$B$2:$P$1443,7,0) -> #N/A | I220: =VLOOKUP($A220,'BASE DE DATOS'!$B$2:$P$1443,8,0) -> #N/A | J220: =VLOOKUP($A220,'BASE DE DATOS'!$B$2:$P$1443,9,0) -> #N/A | K220: =CONCATENATE(H220,R220,I220,R220,J220) -> #N/A | L220: =VLOOKUP($A220,'BASE DE DATOS'!$B$2:$P$1443,14,0) -> #N/A | M220: =VLOOKUP($A220,'BASE DE DATOS'!$B$2:$P$1443,15,0) -> #N/A
C221: =VLOOKUP($A221,'BASE DE DATOS'!B$2:P$1443,2,0) -> #N/A | D221: =VLOOKUP($A221,'BASE DE DATOS'!$B$1:$P$1443,3,0) -> #N/A | E221: =VLOOKUP($A221,'BASE DE DATOS'!B$2:P$1443,4,0) -> #N/A | F221: =VLOOKUP($A221,'BASE DE DATOS'!$B$2:$P$1443,5,0) -> #N/A | G221: =VLOOKUP($A221,'BASE DE DATOS'!$B$2:$P$1443,6,0) -> #N/A | H221: =VLOOKUP($A221,'BASE DE DATOS'!$B$2:$P$1443,7,0) -> #N/A | I221: =VLOOKUP($A221,'BASE DE DATOS'!$B$2:$P$1443,8,0) -> #N/A | J221: =VLOOKUP($A221,'BASE DE DATOS'!$B$2:$P$1443,9,0) -> #N/A | K221: =CONCATENATE(H221,R221,I221,R221,J221) -> #N/A | L221: =VLOOKUP($A221,'BASE DE DATOS'!$B$2:$P$1443,14,0) -> #N/A | M221: =VLOOKUP($A221,'BASE DE DATOS'!$B$2:$P$1443,15,0) -> #N/A | O221: SENIOR MASTER
C222: =VLOOKUP($A222,'BASE DE DATOS'!B$2:P$1443,2,0) -> #N/A | D222: =VLOOKUP($A222,'BASE DE DATOS'!$B$1:$P$1443,3,0) -> #N/A | E222: =VLOOKUP($A222,'BASE DE DATOS'!B$2:P$1443,4,0) -> #N/A | F222: =VLOOKUP($A222,'BASE DE DATOS'!$B$2:$P$1443,5,0) -> #N/A | G222: =VLOOKUP($A222,'BASE DE DATOS'!$B$2:$P$1443,6,0) -> #N/A | H222: =VLOOKUP($A222,'BASE DE DATOS'!$B$2:$P$1443,7,0) -> #N/A | I222: =VLOOKUP($A222,'BASE DE DATOS'!$B$2:$P$1443,8,0) -> #N/A | J222: =VLOOKUP($A222,'BASE DE DATOS'!$B$2:$P$1443,9,0) -> #N/A | K222: =CONCATENATE(H222,R222,I222,R222,J222) -> #N/A | L222: =VLOOKUP($A222,'BASE DE DATOS'!$B$2:$P$1443,14,0) -> #N/A | M222: =VLOOKUP($A222,'BASE DE DATOS'!$B$2:$P$1443,15,0) -> #N/A
C223: =VLOOKUP($A223,'BASE DE DATOS'!B$2:P$1443,2,0) -> #N/A | D223: =VLOOKUP($A223,'BASE DE DATOS'!$B$1:$P$1443,3,0) -> #N/A | E223: =VLOOKUP($A223,'BASE DE DATOS'!B$2:P$1443,4,0) -> #N/A | F223: =VLOOKUP($A223,'BASE DE DATOS'!$B$2:$P$1443,5,0) -> #N/A | G223: =VLOOKUP($A223,'BASE DE DATOS'!$B$2:$P$1443,6,0) -> #N/A | H223: =VLOOKUP($A223,'BASE DE DATOS'!$B$2:$P$1443,7,0) -> #N/A | I223: =VLOOKUP($A223,'BASE DE DATOS'!$B$2:$P$1443,8,0) -> #N/A | J223: =VLOOKUP($A223,'BASE DE DATOS'!$B$2:$P$1443,9,0) -> #N/A | K223: =CONCATENATE(H223,R223,I223,R223,J223) -> #N/A | L223: =VLOOKUP($A223,'BASE DE DATOS'!$B$2:$P$1443,14,0) -> #N/A | M223: =VLOOKUP($A223,'BASE DE DATOS'!$B$2:$P$1443,15,0) -> #N/A | O223: MAMICROSS
C224: =VLOOKUP($A224,'BASE DE DATOS'!B$2:P$1443,2,0) -> #N/A | D224: =VLOOKUP($A224,'BASE DE DATOS'!$B$1:$P$1443,3,0) -> #N/A | E224: =VLOOKUP($A224,'BASE DE DATOS'!B$2:P$1443,4,0) -> #N/A | F224: =VLOOKUP($A224,'BASE DE DATOS'!$B$2:$P$1443,5,0) -> #N/A | G224: =VLOOKUP($A224,'BASE DE DATOS'!$B$2:$P$1443,6,0) -> #N/A | H224: =VLOOKUP($A224,'BASE DE DATOS'!$B$2:$P$1443,7,0) -> #N/A | I224: =VLOOKUP($A224,'BASE DE DATOS'!$B$2:$P$1443,8,0) -> #N/A | J224: =VLOOKUP($A224,'BASE DE DATOS'!$B$2:$P$1443,9,0) -> #N/A | K224: =CONCATENATE(H224,R224,I224,R224,J224) -> #N/A | L224: =VLOOKUP($A224,'BASE DE DATOS'!$B$2:$P$1443,14,0) -> #N/A | M224: =VLOOKUP($A224,'BASE DE DATOS'!$B$2:$P$1443,15,0) -> #N/A
C225: =VLOOKUP($A225,'BASE DE DATOS'!B$2:P$1443,2,0) -> #N/A | D225: =VLOOKUP($A225,'BASE DE DATOS'!$B$1:$P$1443,3,0) -> #N/A | E225: =VLOOKUP($A225,'BASE DE DATOS'!B$2:P$1443,4,0) -> #N/A | F225: =VLOOKUP($A225,'BASE DE DATOS'!$B$2:$P$1443,5,0) -> #N/A | G225: =VLOOKUP($A225,'BASE DE DATOS'!$B$2:$P$1443,6,0) -> #N/A | H225: =VLOOKUP($A225,'BASE DE DATOS'!$B$2:$P$1443,7,0) -> #N/A | I225: =VLOOKUP($A225,'BASE DE DATOS'!$B$2:$P$1443,8,0) -> #N/A | J225: =VLOOKUP($A225,'BASE DE DATOS'!$B$2:$P$1443,9,0) -> #N/A | K225: =CONCATENATE(H225,R225,I225,R225,J225) -> #N/A | L225: =VLOOKUP($A225,'BASE DE DATOS'!$B$2:$P$1443,14,0) -> #N/A | M225: =VLOOKUP($A225,'BASE DE DATOS'!$B$2:$P$1443,15,0) -> #N/A
C226: =VLOOKUP($A226,'BASE DE DATOS'!B$2:P$1443,2,0) -> #N/A | D226: =VLOOKUP($A226,'BASE DE DATOS'!$B$1:$P$1443,3,0) -> #N/A | E226: =VLOOKUP($A226,'BASE DE DATOS'!B$2:P$1443,4,0) -> #N/A | F226: =VLOOKUP($A226,'BASE DE DATOS'!$B$2:$P$1443,5,0) -> #N/A | G226: =VLOOKUP($A226,'BASE DE DATOS'!$B$2:$P$1443,6,0) -> #N/A | H226: =VLOOKUP($A226,'BASE DE DATOS'!$B$2:$P$1443,7,0) -> #N/A | I226: =VLOOKUP($A226,'BASE DE DATOS'!$B$2:$P$1443,8,0) -> #N/A | J226: =VLOOKUP($A226,'BASE DE DATOS'!$B$2:$P$1443,9,0) -> #N/A | K226: =CONCATENATE(H226,R226,I226,R226,J226) -> #N/A | L226: =VLOOKUP($A226,'BASE DE DATOS'!$B$2:$P$1443,14,0) -> #N/A | M226: =VLOOKUP($A226,'BASE DE DATOS'!$B$2:$P$1443,15,0) -> #N/A
C227: =VLOOKUP($A227,'BASE DE DATOS'!B$2:P$1443,2,0) -> #N/A | D227: =VLOOKUP($A227,'BASE DE DATOS'!$B$1:$P$1443,3,0) -> #N/A | E227: =VLOOKUP($A227,'BASE DE DATOS'!B$2:P$1443,4,0) -> #N/A | F227: =VLOOKUP($A227,'BASE DE DATOS'!$B$2:$P$1443,5,0) -> #N/A | G227: =VLOOKUP($A227,'BASE DE DATOS'!$B$2:$P$1443,6,0) -> #N/A | H227: =VLOOKUP($A227,'BASE DE DATOS'!$B$2:$P$1443,7,0) -> #N/A | I227: =VLOOKUP($A227,'BASE DE DATOS'!$B$2:$P$1443,8,0) -> #N/A | J227: =VLOOKUP($A227,'BASE DE DATOS'!$B$2:$P$1443,9,0) -> #N/A | K227: =CONCATENATE(H227,R227,I227,R227,J227) -> #N/A | L227: =VLOOKUP($A227,'BASE DE DATOS'!$B$2:$P$1443,14,0) -> #N/A | M227: =VLOOKUP($A227,'BASE DE DATOS'!$B$2:$P$1443,15,0) -> #N/A
C228: =VLOOKUP($A228,'BASE DE DATOS'!B$2:P$1443,2,0) -> #N/A | D228: =VLOOKUP($A228,'BASE DE DATOS'!$B$1:$P$1443,3,0) -> #N/A | E228: =VLOOKUP($A228,'BASE DE DATOS'!B$2:P$1443,4,0) -> #N/A | F228: =VLOOKUP($A228,'BASE DE DATOS'!$B$2:$P$1443,5,0) -> #N/A | G228: =VLOOKUP($A228,'BASE DE DATOS'!$B$2:$P$1443,6,0) -> #N/A | H228: =VLOOKUP($A228,'BASE DE DATOS'!$B$2:$P$1443,7,0) -> #N/A | I228: =VLOOKUP($A228,'BASE DE DATOS'!$B$2:$P$1443,8,0) -> #N/A | J228: =VLOOKUP($A228,'BASE DE DATOS'!$B$2:$P$1443,9,0) -> #N/A | K228: =CONCATENATE(H228,R228,I228,R228,J228) -> #N/A | L228: =VLOOKUP($A228,'BASE DE DATOS'!$B$2:$P$1443,14,0) -> #N/A | M228: =VLOOKUP($A228,'BASE DE DATOS'!$B$2:$P$1443,15,0) -> #N/A
C229: =VLOOKUP($A229,'BASE DE DATOS'!B$2:P$1443,2,0) -> #N/A | D229: =VLOOKUP($A229,'BASE DE DATOS'!$B$1:$P$1443,3,0) -> #N/A | E229: =VLOOKUP($A229,'BASE DE DATOS'!B$2:P$1443,4,0) -> #N/A | F229: =VLOOKUP($A229,'BASE DE DATOS'!$B$2:$P$1443,5,0) -> #N/A | G229: =VLOOKUP($A229,'BASE DE DATOS'!$B$2:$P$1443,6,0) -> #N/A | H229: =VLOOKUP($A229,'BASE DE DATOS'!$B$2:$P$1443,7,0) -> #N/A | I229: =VLOOKUP($A229,'BASE DE DATOS'!$B$2:$P$1443,8,0) -> #N/A | J229: =VLOOKUP($A229,'BASE DE DATOS'!$B$2:$P$1443,9,0) -> #N/A | K229: =CONCATENATE(H229,R229,I229,R229,J229) -> #N/A | L229: =VLOOKUP($A229,'BASE DE DATOS'!$B$2:$P$1443,14,0) -> #N/A | M229: =VLOOKUP($A229,'BASE DE DATOS'!$B$2:$P$1443,15,0) -> #N/A
C230: =VLOOKUP($A230,'BASE DE DATOS'!B$2:P$1443,2,0) -> #N/A | D230: =VLOOKUP($A230,'BASE DE DATOS'!$B$1:$P$1443,3,0) -> #N/A | E230: =VLOOKUP($A230,'BASE DE DATOS'!B$2:P$1443,4,0) -> #N/A | F230: =VLOOKUP($A230,'BASE DE DATOS'!$B$2:$P$1443,5,0) -> #N/A | G230: =VLOOKUP($A230,'BASE DE DATOS'!$B$2:$P$1443,6,0) -> #N/A | H230: =VLOOKUP($A230,'BASE DE DATOS'!$B$2:$P$1443,7,0) -> #N/A | I230: =VLOOKUP($A230,'BASE DE DATOS'!$B$2:$P$1443,8,0) -> #N/A | J230: =VLOOKUP($A230,'BASE DE DATOS'!$B$2:$P$1443,9,0) -> #N/A | K230: =CONCATENATE(H230,R230,I230,R230,J230) -> #N/A | L230: =VLOOKUP($A230,'BASE DE DATOS'!$B$2:$P$1443,14,0) -> #N/A | M230: =VLOOKUP($A230,'BASE DE DATOS'!$B$2:$P$1443,15,0) -> #N/A
C231: =VLOOKUP($A231,'BASE DE DATOS'!B$2:P$1443,2,0) -> #N/A | D231: =VLOOKUP($A231,'BASE DE DATOS'!$B$1:$P$1443,3,0) -> #N/A | E231: =VLOOKUP($A231,'BASE DE DATOS'!B$2:P$1443,4,0) -> #N/A | F231: =VLOOKUP($A231,'BASE DE DATOS'!$B$2:$P$1443,5,0) -> #N/A | G231: =VLOOKUP($A231,'BASE DE DATOS'!$B$2:$P$1443,6,0) -> #N/A | H231: =VLOOKUP($A231,'BASE DE DATOS'!$B$2:$P$1443,7,0) -> #N/A | I231: =VLOOKUP($A231,'BASE DE DATOS'!$B$2:$P$1443,8,0) -> #N/A | J231: =VLOOKUP($A231,'BASE DE DATOS'!$B$2:$P$1443,9,0) -> #N/A | K231: =CONCATENATE(H231,R231,I231,R231,J231) -> #N/A | L231: =VLOOKUP($A231,'BASE DE DATOS'!$B$2:$P$1443,14,0) -> #N/A | M231: =VLOOKUP($A231,'BASE DE DATOS'!$B$2:$P$1443,15,0) -> #N/A
C232: =VLOOKUP($A232,'BASE DE DATOS'!B$2:P$1443,2,0) -> #N/A | D232: =VLOOKUP($A232,'BASE DE DATOS'!$B$1:$P$1443,3,0) -> #N/A | E232: =VLOOKUP($A232,'BASE DE DATOS'!B$2:P$1443,4,0) -> #N/A | F232: =VLOOKUP($A232,'BASE DE DATOS'!$B$2:$P$1443,5,0) -> #N/A | G232: =VLOOKUP($A232,'BASE DE DATOS'!$B$2:$P$1443,6,0) -> #N/A | H232: =VLOOKUP($A232,'BASE DE DATOS'!$B$2:$P$1443,7,0) -> #N/A | I232: =VLOOKUP($A232,'BASE DE DATOS'!$B$2:$P$1443,8,0) -> #N/A | J232: =VLOOKUP($A232,'BASE DE DATOS'!$B$2:$P$1443,9,0) -> #N/A | K232: =CONCATENATE(H232,R232,I232,R232,J232) -> #N/A | L232: =VLOOKUP($A232,'BASE DE DATOS'!$B$2:$P$1443,14,0) -> #N/A | M232: =VLOOKUP($A232,'BASE DE DATOS'!$B$2:$P$1443,15,0) -> #N/A
C233: =VLOOKUP($A233,'BASE DE DATOS'!B$2:P$1443,2,0) -> #N/A | D233: =VLOOKUP($A233,'BASE DE DATOS'!$B$1:$P$1443,3,0) -> #N/A | E233: =VLOOKUP($A233,'BASE DE DATOS'!B$2:P$1443,4,0) -> #N/A | F233: =VLOOKUP($A233,'BASE DE DATOS'!$B$2:$P$1443,5,0) -> #N/A | G233: =VLOOKUP($A233,'BASE DE DATOS'!$B$2:$P$1443,6,0) -> #N/A | H233: =VLOOKUP($A233,'BASE DE DATOS'!$B$2:$P$1443,7,0) -> #N/A | I233: =VLOOKUP($A233,'BASE DE DATOS'!$B$2:$P$1443,8,0) -> #N/A | J233: =VLOOKUP($A233,'BASE DE DATOS'!$B$2:$P$1443,9,0) -> #N/A | K233: =CONCATENATE(H233,R233,I233,R233,J233) -> #N/A | L233: =VLOOKUP($A233,'BASE DE DATOS'!$B$2:$P$1443,14,0) -> #N/A | M233: =VLOOKUP($A233,'BASE DE DATOS'!$B$2:$P$1443,15,0) -> #N/A
C234: =VLOOKUP($A234,'BASE DE DATOS'!B$2:P$1443,2,0) -> #N/A | D234: =VLOOKUP($A234,'BASE DE DATOS'!$B$1:$P$1443,3,0) -> #N/A | E234: =VLOOKUP($A234,'BASE DE DATOS'!B$2:P$1443,4,0) -> #N/A | F234: =VLOOKUP($A234,'BASE DE DATOS'!$B$2:$P$1443,5,0) -> #N/A | G234: =VLOOKUP($A234,'BASE DE DATOS'!$B$2:$P$1443,6,0) -> #N/A | H234: =VLOOKUP($A234,'BASE DE DATOS'!$B$2:$P$1443,7,0) -> #N/A | I234: =VLOOKUP($A234,'BASE DE DATOS'!$B$2:$P$1443,8,0) -> #N/A | J234: =VLOOKUP($A234,'BASE DE DATOS'!$B$2:$P$1443,9,0) -> #N/A | K234: =CONCATENATE(H234,R234,I234,R234,J234) -> #N/A | L234: =VLOOKUP($A234,'BASE DE DATOS'!$B$2:$P$1443,14,0) -> #N/A | M234: =VLOOKUP($A234,'BASE DE DATOS'!$B$2:$P$1443,15,0) -> #N/A
C235: =VLOOKUP($A235,'BASE DE DATOS'!B$2:P$1443,2,0) -> #N/A | D235: =VLOOKUP($A235,'BASE DE DATOS'!$B$1:$P$1443,3,0) -> #N/A | E235: =VLOOKUP($A235,'BASE DE DATOS'!B$2:P$1443,4,0) -> #N/A | F235: =VLOOKUP($A235,'BASE DE DATOS'!$B$2:$P$1443,5,0) -> #N/A | G235: =VLOOKUP($A235,'BASE DE DATOS'!$B$2:$P$1443,6,0) -> #N/A | H235: =VLOOKUP($A235,'BASE DE DATOS'!$B$2:$P$1443,7,0) -> #N/A | I235: =VLOOKUP($A235,'BASE DE DATOS'!$B$2:$P$1443,8,0) -> #N/A | J235: =VLOOKUP($A235,'BASE DE DATOS'!$B$2:$P$1443,9,0) -> #N/A | K235: =CONCATENATE(H235,R235,I235,R235,J235) -> #N/A | L235: =VLOOKUP($A235,'BASE DE DATOS'!$B$2:$P$1443,14,0) -> #N/A | M235: =VLOOKUP($A235,'BASE DE DATOS'!$B$2:$P$1443,15,0) -> #N/A
... C324: =VLOOKUP($A324,'BASE DE DATOS'!B$2:P$1443,2,0) -> #N/A | D324: =VLOOKUP($A324,'BASE DE DATOS'!$B$1:$P$1443,3,0) -> #N/A | E324: =VLOOKUP($A324,'BASE DE DATOS'!B$2:P$1443,4,0) -> #N/A | F324: =VLOOKUP($A324,'BASE DE DATOS'!$B$2:$P$1443,5,0) -> #N/A | G324: =VLOOKUP($A324,'BASE DE DATOS'!$B$2:$P$1443,6,0) -> #N/A | H324: =VLOOKUP($A324,'BASE DE DATOS'!$B$2:$P$1443,7,0) -> #N/A | I324: =VLOOKUP($A324,'BASE DE DATOS'!$B$2:$P$1443,8,0) -> #N/A | J324: =VLOOKUP($A324,'BASE DE DATOS'!$B$2:$P$1443,9,0) -> #N/A | K324: =CONCATENATE(H324,R324,I324,R324,J324) -> #N/A | L324: =VLOOKUP($A324,'BASE DE DATOS'!$B$2:$P$1443,14,0) -> #N/A | M324: =VLOOKUP($A324,'BASE DE DATOS'!$B$2:$P$1443,15,0) -> #N/A
C325: =VLOOKUP($A325,'BASE DE DATOS'!B$2:P$1443,2,0) -> #N/A | D325: =VLOOKUP($A325,'BASE DE DATOS'!$B$1:$P$1443,3,0) -> #N/A | E325: =VLOOKUP($A325,'BASE DE DATOS'!B$2:P$1443,4,0) -> #N/A | F325: =VLOOKUP($A325,'BASE DE DATOS'!$B$2:$P$1443,5,0) -> #N/A | G325: =VLOOKUP($A325,'BASE DE DATOS'!$B$2:$P$1443,6,0) -> #N/A | H325: =VLOOKUP($A325,'BASE DE DATOS'!$B$2:$P$1443,7,0) -> #N/A | I325: =VLOOKUP($A325,'BASE DE DATOS'!$B$2:$P$1443,8,0) -> #N/A | J325: =VLOOKUP($A325,'BASE DE DATOS'!$B$2:$P$1443,9,0) -> #N/A | K325: =CONCATENATE(H325,R325,I325,R325,J325) -> #N/A | L325: =VLOOKUP($A325,'BASE DE DATOS'!$B$2:$P$1443,14,0) -> #N/A | M325: =VLOOKUP($A325,'BASE DE DATOS'!$B$2:$P$1443,15,0) -> #N/A | N325: SSSSSSSSSSSSSSSSS
C326: =VLOOKUP($A326,'BASE DE DATOS'!B$2:P$1443,2,0) -> #N/A | D326: =VLOOKUP($A326,'BASE DE DATOS'!$B$1:$P$1443,3,0) -> #N/A | E326: =VLOOKUP($A326,'BASE DE DATOS'!B$2:P$1443,4,0) -> #N/A | F326: =VLOOKUP($A326,'BASE DE DATOS'!$B$2:$P$1443,5,0) -> #N/A | G326: =VLOOKUP($A326,'BASE DE DATOS'!$B$2:$P$1443,6,0) -> #N/A | H326: =VLOOKUP($A326,'BASE DE DATOS'!$B$2:$P$1443,7,0) -> #N/A | I326: =VLOOKUP($A326,'BASE DE DATOS'!$B$2:$P$1443,8,0) -> #N/A | J326: =VLOOKUP($A326,'BASE DE DATOS'!$B$2:$P$1443,9,0) -> #N/A | K326: =CONCATENATE(H326,R326,I326,R326,J326) -> #N/A | L326: =VLOOKUP($A326,'BASE DE DATOS'!$B$2:$P$1443,14,0) -> #N/A | M326: =VLOOKUP($A326,'BASE DE DATOS'!$B$2:$P$1443,15,0) -> #N/A
C327: =VLOOKUP($A327,'BASE DE DATOS'!B$2:P$1443,2,0) -> #N/A | D327: =VLOOKUP($A327,'BASE DE DATOS'!$B$1:$P$1443,3,0) -> #N/A | E327: =VLOOKUP($A327,'BASE DE DATOS'!B$2:P$1443,4,0) -> #N/A | F327: =VLOOKUP($A327,'BASE DE DATOS'!$B$2:$P$1443,5,0) -> #N/A | G327: =VLOOKUP($A327,'BASE DE DATOS'!$B$2:$P$1443,6,0) -> #N/A | H327: =VLOOKUP($A327,'BASE DE DATOS'!$B$2:$P$1443,7,0) -> #N/A | I327: =VLOOKUP($A327,'BASE DE DATOS'!$B$2:$P$1443,8,0) -> #N/A | J327: =VLOOKUP($A327,'BASE DE DATOS'!$B$2:$P$1443,9,0) -> #N/A | K327: =CONCATENATE(H327,R327,I327,R327,J327) -> #N/A | L327: =VLOOKUP($A327,'BASE DE DATOS'!$B$2:$P$1443,14,0) -> #N/A | M327: =VLOOKUP($A327,'BASE DE DATOS'!$B$2:$P$1443,15,0) -> #N/A
C328: =VLOOKUP($A328,'BASE DE DATOS'!B$2:P$1443,2,0) -> #N/A | D328: =VLOOKUP($A328,'BASE DE DATOS'!$B$1:$P$1443,3,0) -> #N/A | E328: =VLOOKUP($A328,'BASE DE DATOS'!B$2:P$1443,4,0) -> #N/A | F328: =VLOOKUP($A328,'BASE DE DATOS'!$B$2:$P$1443,5,0) -> #N/A | G328: =VLOOKUP($A328,'BASE DE DATOS'!$B$2:$P$1443,6,0) -> #N/A | H328: =VLOOKUP($A328,'BASE DE DATOS'!$B$2:$P$1443,7,0) -> #N/A | I328: =VLOOKUP($A328,'BASE DE DATOS'!$B$2:$P$1443,8,0) -> #N/A | J328: =VLOOKUP($A328,'BASE DE DATOS'!$B$2:$P$1443,9,0) -> #N/A | K328: =CONCATENATE(H328,R328,I328,R328,J328) -> #N/A | L328: =VLOOKUP($A328,'BASE DE DATOS'!$B$2:$P$1443,14,0) -> #N/A | M328: =VLOOKUP($A328,'BASE DE DATOS'!$B$2:$P$1443,15,0) -> #N/A
C329: =VLOOKUP($A329,'BASE DE DATOS'!B$2:P$1443,2,0) -> #N/A | D329: =VLOOKUP($A329,'BASE DE DATOS'!$B$1:$P$1443,3,0) -> #N/A | E329: =VLOOKUP($A329,'BASE DE DATOS'!B$2:P$1443,4,0) -> #N/A | F329: =VLOOKUP($A329,'BASE DE DATOS'!$B$2:$P$1443,5,0) -> #N/A | G329: =VLOOKUP($A329,'BASE DE DATOS'!$B$2:$P$1443,6,0) -> #N/A | H329: =VLOOKUP($A329,'BASE DE DATOS'!$B$2:$P$1443,7,0) -> #N/A | I329: =VLOOKUP($A329,'BASE DE DATOS'!$B$2:$P$1443,8,0) -> #N/A | J329: =VLOOKUP($A329,'BASE DE DATOS'!$B$2:$P$1443,9,0) -> #N/A | K329: =CONCATENATE(H329,R329,I329,R329,J329) -> #N/A | L329: =VLOOKUP($A329,'BASE DE DATOS'!$B$2:$P$1443,14,0) -> #N/A | M329: =VLOOKUP($A329,'BASE DE DATOS'!$B$2:$P$1443,15,0) -> #N/A
C330: =VLOOKUP($A330,'BASE DE DATOS'!B$2:P$1443,2,0) -> #N/A | D330: =VLOOKUP($A330,'BASE DE DATOS'!$B$1:$P$1443,3,0) -> #N/A | E330: =VLOOKUP($A330,'BASE DE DATOS'!B$2:P$1443,4,0) -> #N/A | F330: =VLOOKUP($A330,'BASE DE DATOS'!$B$2:$P$1443,5,0) -> #N/A | G330: =VLOOKUP($A330,'BASE DE DATOS'!$B$2:$P$1443,6,0) -> #N/A | H330: =VLOOKUP($A330,'BASE DE DATOS'!$B$2:$P$1443,7,0) -> #N/A | I330: =VLOOKUP($A330,'BASE DE DATOS'!$B$2:$P$1443,8,0) -> #N/A | J330: =VLOOKUP($A330,'BASE DE DATOS'!$B$2:$P$1443,9,0) -> #N/A | K330: =CONCATENATE(H330,R330,I330,R330,J330) -> #N/A | L330: =VLOOKUP($A330,'BASE DE DATOS'!$B$2:$P$1443,14,0) -> #N/A | M330: =VLOOKUP($A330,'BASE DE DATOS'!$B$2:$P$1443,15,0) -> #N/A
C331: =VLOOKUP($A331,'BASE DE DATOS'!B$2:P$1443,2,0) -> #N/A | D331: =VLOOKUP($A331,'BASE DE DATOS'!$B$1:$P$1443,3,0) -> #N/A | E331: =VLOOKUP($A331,'BASE DE DATOS'!B$2:P$1443,4,0) -> #N/A | F331: =VLOOKUP($A331,'BASE DE DATOS'!$B$2:$P$1443,5,0) -> #N/A | G331: =VLOOKUP($A331,'BASE DE DATOS'!$B$2:$P$1443,6,0) -> #N/A | H331: =VLOOKUP($A331,'BASE DE DATOS'!$B$2:$P$1443,7,0) -> #N/A | I331: =VLOOKUP($A331,'BASE DE DATOS'!$B$2:$P$1443,8,0) -> #N/A | J331: =VLOOKUP($A331,'BASE DE DATOS'!$B$2:$P$1443,9,0) -> #N/A | K331: =CONCATENATE(H331,R331,I331,R331,J331) -> #N/A | L331: =VLOOKUP($A331,'BASE DE DATOS'!$B$2:$P$1443,14,0) -> #N/A | M331: =VLOOKUP($A331,'BASE DE DATOS'!$B$2:$P$1443,15,0) -> #N/A
C332: =VLOOKUP($A332,'BASE DE DATOS'!B$2:P$1443,2,0) -> #N/A | D332: =VLOOKUP($A332,'BASE DE DATOS'!$B$1:$P$1443,3,0) -> #N/A | E332: =VLOOKUP($A332,'BASE DE DATOS'!B$2:P$1443,4,0) -> #N/A | F332: =VLOOKUP($A332,'BASE DE DATOS'!$B$2:$P$1443,5,0) -> #N/A | G332: =VLOOKUP($A332,'BASE DE DATOS'!$B$2:$P$1443,6,0) -> #N/A | H332: =VLOOKUP($A332,'BASE DE DATOS'!$B$2:$P$1443,7,0) -> #N/A | I332: =VLOOKUP($A332,'BASE DE DATOS'!$B$2:$P$1443,8,0) -> #N/A | J332: =VLOOKUP($A332,'BASE DE DATOS'!$B$2:$P$1443,9,0) -> #N/A | K332: =CONCATENATE(H332,R332,I332,R332,J332) -> #N/A | L332: =VLOOKUP($A332,'BASE DE DATOS'!$B$2:$P$1443,14,0) -> #N/A | M332: =VLOOKUP($A332,'BASE DE DATOS'!$B$2:$P$1443,15,0) -> #N/A
C333: =VLOOKUP($A333,'BASE DE DATOS'!B$2:P$1443,2,0) -> #N/A | D333: =VLOOKUP($A333,'BASE DE DATOS'!$B$1:$P$1443,3,0) -> #N/A | E333: =VLOOKUP($A333,'BASE DE DATOS'!B$2:P$1443,4,0) -> #N/A | F333: =VLOOKUP($A333,'BASE DE DATOS'!$B$2:$P$1443,5,0) -> #N/A | G333: =VLOOKUP($A333,'BASE DE DATOS'!$B$2:$P$1443,6,0) -> #N/A | H333: =VLOOKUP($A333,'BASE DE DATOS'!$B$2:$P$1443,7,0) -> #N/A | I333: =VLOOKUP($A333,'BASE DE DATOS'!$B$2:$P$1443,8,0) -> #N/A | J333: =VLOOKUP($A333,'BASE DE DATOS'!$B$2:$P$1443,9,0) -> #N/A | K333: =CONCATENATE(H333,R333,I333,R333,J333) -> #N/A | L333: =VLOOKUP($A333,'BASE DE DATOS'!$B$2:$P$1443,14,0) -> #N/A | M333: =VLOOKUP($A333,'BASE DE DATOS'!$B$2:$P$1443,15,0) -> #N/A
C334: =VLOOKUP($A334,'BASE DE DATOS'!B$2:P$1443,2,0) -> #N/A | D334: =VLOOKUP($A334,'BASE DE DATOS'!$B$1:$P$1443,3,0) -> #N/A | E334: =VLOOKUP($A334,'BASE DE DATOS'!B$2:P$1443,4,0) -> #N/A | F334: =VLOOKUP($A334,'BASE DE DATOS'!$B$2:$P$1443,5,0) -> #N/A | G334: =VLOOKUP($A334,'BASE DE DATOS'!$B$2:$P$1443,6,0) -> #N/A | H334: =VLOOKUP($A334,'BASE DE DATOS'!$B$2:$P$1443,7,0) -> #N/A | I334: =VLOOKUP($A334,'BASE DE DATOS'!$B$2:$P$1443,8,0) -> #N/A | J334: =VLOOKUP($A334,'BASE DE DATOS'!$B$2:$P$1443,9,0) -> #N/A | K334: =CONCATENATE(H334,R334,I334,R334,J334) -> #N/A | L334: =VLOOKUP($A334,'BASE DE DATOS'!$B$2:$P$1443,14,0) -> #N/A | M334: =VLOOKUP($A334,'BASE DE DATOS'!$B$2:$P$1443,15,0) -> #N/A
C335: =VLOOKUP($A335,'BASE DE DATOS'!B$2:P$1443,2,0) -> #N/A | D335: =VLOOKUP($A335,'BASE DE DATOS'!$B$1:$P$1443,3,0) -> #N/A | E335: =VLOOKUP($A335,'BASE DE DATOS'!B$2:P$1443,4,0) -> #N/A | F335: =VLOOKUP($A335,'BASE DE DATOS'!$B$2:$P$1443,5,0) -> #N/A | G335: =VLOOKUP($A335,'BASE DE DATOS'!$B$2:$P$1443,6,0) -> #N/A | H335: =VLOOKUP($A335,'BASE DE DATOS'!$B$2:$P$1443,7,0) -> #N/A | I335: =VLOOKUP($A335,'BASE DE DATOS'!$B$2:$P$1443,8,0) -> #N/A | J335: =VLOOKUP($A335,'BASE DE DATOS'!$B$2:$P$1443,9,0) -> #N/A | K335: =CONCATENATE(H335,R335,I335,R335,J335) -> #N/A | L335: =VLOOKUP($A335,'BASE DE DATOS'!$B$2:$P$1443,14,0) -> #N/A | M335: =VLOOKUP($A335,'BASE DE DATOS'!$B$2:$P$1443,15,0) -> #N/A
...

Sheet NUEVO PILOTO
A1: INSCRIPCION NUEVOS PILOTOS | L1: X VALIDA
A2: NUMERO | B2: NOMBRES | C2: APELLIDOS | D2: T. DOC. | E2: NU. DOC. | F2: TELEFONO | G2: DIA DE NACIMIENTO | H2: MES DE NACIMIENTO | I2: AÑO DE NACIMIENTO | J2: EDAD | K2: NIVEL DE HABILIDAD | L2: SNH | M2: SCAT | N2: CATEGORIA | O2: CLUB | P2: COMENTARIOS
J3: =2025-I3 -> 2025 | L3: =VLOOKUP($K3,CATEGORIAS!$I$2:$J$15,2,0) -> #N/A | M3: =CONCATENATE($I3,$L3) -> #N/A | N3: =VLOOKUP($M3,CATEGORIAS!$B$1:$G$245,2,0) -> #N/A | Q3: DAMAS | S3: CC
J4: =2025-I4 -> 2025 | L4: =VLOOKUP($K4,CATEGORIAS!$I$2:$J$15,2,0) -> #N/A | M4: =CONCATENATE($I4,$L4) -> #N/A | N4: =VLOOKUP($M4,CATEGORIAS!$B$1:$G$245,2,0) -> #N/A | Q4: EXPERTOS | S4: PASAPORTE
J5: =2025-I5 -> 2025 | L5: =VLOOKUP($K5,CATEGORIAS!$I$2:$J$15,2,0) -> #N/A | M5: =CONCATENATE($I5,$L5) -> #N/A | N5: =VLOOKUP($M5,CATEGORIAS!$B$1:$G$245,2,0) -> #N/A | Q5: FOUR CROSS | S5: PERMISO ESPECIAL
J6: =2025-I6 -> 2025 | L6: =VLOOKUP($K6,CATEGORIAS!$I$2:$J$15,2,0) -> #N/A | M6: =CONCATENATE($I6,$L6) -> #N/A | N6: =VLOOKUP($M6,CATEGORIAS!$B$1:$G$245,2,0) -> #N/A | Q6: MAMICROSS | S6: RC
J7: =2025-I7 -> 2025 | L7: =VLOOKUP($K7,CATEGORIAS!$I$2:$J$15,2,0) -> #N/A | M7: =CONCATENATE($I7,$L7) -> #N/A | N7: =VLOOKUP($M7,CATEGORIAS!$B$1:$G$245,2,0) -> #N/A | Q7: MASTER | S7: TI
J8: =2025-I8 -> 2025 | L8: =VLOOKUP($K8,CATEGORIAS!$I$2:$J$15,2,0) -> #N/A | M8: =CONCATENATE($I8,$L8) -> #N/A | N8: =VLOOKUP($M8,CATEGORIAS!$B$1:$G$245,2,0) -> #N/A | Q8: MINI RIDERS CON PEDALES
J9: =2025-I9 -> 2025 | L9: =VLOOKUP($K9,CATEGORIAS!$I$2:$J$15,2,0) -> #N/A | M9: =CONCATENATE($I9,$L9) -> #N/A | N9: =VLOOKUP($M9,CATEGORIAS!$B$1:$G$245,2,0) -> #N/A | Q9: MINI RIDERS SIN PEDALES
J10: =2025-I10 -> 2025 | L10: =VLOOKUP($K10,CATEGORIAS!$I$2:$J$15,2,0) -> #N/A | M10: =CONCATENATE($I10,$L10) -> #N/A | N10: =VLOOKUP($M10,CATEGORIAS!$B$1:$G$245,2,0) -> #N/A | Q10: NOVATOS
J11: =2025-I11 -> 2025 | L11: =VLOOKUP($K11,CATEGORIAS!$I$2:$J$15,2,0) -> #N/A | M11: =CONCATENATE($I11,$L11) -> #N/A | N11: =VLOOKUP($M11,CATEGORIAS!$B$1:$G$245,2,0) -> #N/A | Q11: OPEN ELITE DAMAS
J12: =2025-I12 -> 2025 | L12: =VLOOKUP($K12,CATEGORIAS!$I$2:$J$15,2,0) -> #N/A | M12: =CONCATENATE($I12,$L12) -> #N/A | N12: =VLOOKUP($M12,CATEGORIAS!$B$1:$G$245,2,0) -> #N/A | Q12: OPEN ELITE VARONES
J13: =2025-I13 -> 2025 | L13: =VLOOKUP($K13,CATEGORIAS!$I$2:$J$15,2,0) -> #N/A | M13: =CONCATENATE($I13,$L13) -> #N/A | N13: =VLOOKUP($M13,CATEGORIAS!$B$1:$G$245,2,0) -> #N/A | Q13: PAPICROSS
J14: =2025-I14 -> 2025 | L14: =VLOOKUP($K14,CATEGORIAS!$I$2:$J$15,2,0) -> #N/A | M14: =CONCATENATE($I14,$L14) -> #N/A | N14: =VLOOKUP($M14,CATEGORIAS!$B$1:$G$245,2,0) -> #N/A | Q14: PRINCIPIANTES
J15: =2025-I15 -> 2025 | L15: =VLOOKUP($K15,CATEGORIAS!$I$2:$J$15,2,0) -> #N/A | M15: =CONCATENATE($I15,$L15) -> #N/A | N15: =VLOOKUP($M15,CATEGORIAS!$B$1:$G$245,2,0) -> #N/A | Q15: SEMILLEROS
J16: =2025-I16 -> 2025 | L16: =VLOOKUP($K16,CATEGORIAS!$I$2:$J$15,2,0) -> #N/A | M16: =CONCATENATE($I16,$L16) -> #N/A | N16: =VLOOKUP($M16,CATEGORIAS!$B$1:$G$245,2,0) -> #N/A | Q16: SENIOR MASTER
J17: =2025-I17 -> 2025 | L17: =VLOOKUP($K17,CATEGORIAS!$I$2:$J$15,2,0) -> #N/A | M17: =CONCATENATE($I17,$L17) -> #N/A | N17: =VLOOKUP($M17,CATEGORIAS!$B$1:$G$245,2,0) -> #N/A
J18: =2025-I18 -> 2025 | L18: =VLOOKUP($K18,CATEGORIAS!$I$2:$J$15,2,0) -> #N/A | M18: =CONCATENATE($I18,$L18) -> #N/A | N18: =VLOOKUP($M18,CATEGORIAS!$B$1:$G$245,2,0) -> #N/A
J19: =2025-I19 -> 2025 | L19: =VLOOKUP($K19,CATEGORIAS!$I$2:$J$15,2,0) -> #N/A | M19: =CONCATENATE($I19,$L19) -> #N/A | N19: =VLOOKUP($M19,CATEGORIAS!$B$1:$G$245,2,0) -> #N/A
J20: =2025-I20 -> 2025 | L20: =VLOOKUP($K20,CATEGORIAS!$I$2:$J$15,2,0) -> #N/A | M20: =CONCATENATE($I20,$L20) -> #N/A | N20: =VLOOKUP($M20,CATEGORIAS!$B$1:$G$245,2,0) -> #N/A
J21: =2025-I21 -> 2025 | L21: =VLOOKUP($K21,CATEGORIAS!$I$2:$J$15,2,0) -> #N/A | M21: =CONCATENATE($I21,$L21) -> #N/A | N21: =VLOOKUP($M21,CATEGORIAS!$B$1:$G$245,2,0) -> #N/A
J22: =2025-I22 -> 2025 | L22: =VLOOKUP($K22,CATEGORIAS!$I$2:$J$15,2,0) -> #N/A | M22: =CONCATENATE($I22,$L22) -> #N/A | N22: =VLOOKUP($M22,CATEGORIAS!$B$1:$G$245,2,0) -> #N/A
J23: =2025-I23 -> 2025 | L23: =VLOOKUP($K23,CATEGORIAS!$I$2:$J$15,2,0) -> #N/A | M23: =CONCATENATE($I23,$L23) -> #N/A | N23: =VLOOKUP($M23,CATEGORIAS!$B$1:$G$245,2,0) -> #N/A
J24: =2025-I24 -> 2025 | L24: =VLOOKUP($K24,CATEGORIAS!$I$2:$J$15,2,0) -> #N/A | M24: =CONCATENATE($I24,$L24) -> #N/A | N24: =VLOOKUP($M24,CATEGORIAS!$B$1:$G$245,2,0) -> #N/A
J25: =2025-I25 -> 2025 | L25: =VLOOKUP($K25,CATEGORIAS!$I$2:$J$15,2,0) -> #N/A | M25: =CONCATENATE($I25,$L25) -> #N/A | N25: =VLOOKUP($M25,CATEGORIAS!$B$1:$G$245,2,0) -> #N/A
J26: =2025-I26 -> 2025 | L26: =VLOOKUP($K26,CATEGORIAS!$I$2:$J$15,2,0) -> #N/A | M26: =CONCATENATE($I26,$L26) -> #N/A | N26: =VLOOKUP($M26,CATEGORIAS!$B$1:$G$245,2,0) -> #N/A
J27: =2025-I27 -> 2025 | L27: =VLOOKUP($K27,CATEGORIAS!$I$2:$J$15,2,0) -> #N/A | M27: =CONCATENATE($I27,$L27) -> #N/A | N27: =VLOOKUP($M27,CATEGORIAS!$B$1:$G$245,2,0) -> #N/A
J28: =2025-I28 -> 2025 | L28: =VLOOKUP($K28,CATEGORIAS!$I$2:$J$15,2,0) -> #N/A | M28: =CONCATENATE($I28,$L28) -> #N/A | N28: =VLOOKUP($M28,CATEGORIAS!$B$1:$G$245,2,0) -> #N/A
... J200: =2025-I200 -> 2025 | L200: =VLOOKUP($K200,CATEGORIAS!$I$2:$J$15,2,0) -> #N/A | M200: =CONCATENATE($I200,$L200) -> #N/A | N200: =VLOOKUP($M200,CATEGORIAS!$B$1:$G$245,2,0) -> #N/A

Sheet CATEGORIAS
B1: CONCAT | C1: CATEGORIA | D1: RANGO DE EDAD | E1: AÑO NACIMIENTO | F1: NIVEL | I1: NIVEL DE HABILIDAD | J1: LETRA
B2: =CONCATENATE(E2,F2) -> 2023Z | C2: MINI RIDERS SIN PEDALES 2 Y 3 AÑOS | D2: 2 - 3 AÑOS | E2: 2023 | F2: Z | G2: =2025-E2 -> 2 | I2: DAMAS | J2: D
B3: =CONCATENATE(E3,F3) -> 2022Z | C3: MINI RIDERS SIN PEDALES 2 Y 3 AÑOS | E3: 2022 | F3: Z | G3: =2025-E3 -> 3 | I3: EXPERTOS | J3: E
B4: =CONCATENATE(E4,F4) -> 2021Z | C4: MINI RIDERS SIN PEDALES 4 Y 5 AÑOS | D4: 4 - 5 AÑOS | E4: 2021 | F4: Z | G4: =2025-E4 -> 4 | I4: FOUR CROSS | J4: F
B5: =CONCATENATE(E5,F5) -> 2020Z | C5: MINI RIDERS SIN PEDALES 4 Y 5 AÑOS | E5: 2020 | F5: Z | G5: =2025-E5 -> 5 | I5: MAMICROSS | J5: WW
B6: =CONCATENATE(E6,F6) -> 2021X | C6: MINI RIDERS CON PEDALES 4 Y 5 AÑOS | D6: 4 - 5 AÑOS | E6: 2021 | F6: X | G6: =2025-E6 -> 4 | I6: MASTER | J6: M
B7: =CONCATENATE(E7,F7) -> 2020X | C7: MINI RIDERS CON PEDALES 4 Y 5 AÑOS | E7: 2020 | F7: X | G7: =2025-E7 -> 5 | I7: MINI RIDERS CON PEDALES | J7: X
B8: =CONCATENATE(E8,F8) -> 2021S | C8: SEMILLEROS 6 AÑOS Y MENOS | D8: 4-6 AÑOS | E8: 2021 | F8: S | G8: =2025-E8 -> 4 | I8: MINI RIDERS SIN PEDALES | J8: Z
B9: =CONCATENATE(E9,F9) -> 2020S | C9: SEMILLEROS 6 AÑOS Y MENOS | E9: 2020 | F9: S | G9: =2025-E9 -> 5 | I9: NOVATOS | J9: N
B10: =CONCATENATE(E10,F10) -> 2019S | C10: SEMILLEROS 6 AÑOS Y MENOS | E10: 2019 | F10: S | G10: =2025-E10 -> 6 | I10: OPEN ELITE DAMAS | J10: Y
B11: =CONCATENATE(E11,F11) -> 2018S | C11: SEMILLEROS 7 Y 8 AÑOS | D11: 7 - 8 AÑOS | E11: 2018 | F11: S | G11: =2025-E11 -> 7 | I11: OPEN ELITE VARONES | J11: T
B12: =CONCATENATE(E12,F12) -> 2017S | C12: SEMILLEROS 7 Y 8 AÑOS | E12: 2017 | F12: S | G12: =2025-E12 -> 8 | I12: PAPICROSS | J12: V
B13: =CONCATENATE(E13,F13) -> 2016S | C13: SEMILLEROS 9 Y 10 AÑOS | D13: 9 - 10 AÑOS | E13: 2016 | F13: S | G13: =2025-E13 -> 9 | I13: PRINCIPIANTES | J13: P
B14: =CONCATENATE(E14,F14) -> 2015S | C14: SEMILLEROS 9 Y 10 AÑOS | E14: 2015 | F14: S | G14: =2025-E14 -> 10 | I14: SEMILLEROS | J14: S
B15: =CONCATENATE(E15,F15) -> 2014S | C15: SEMILLEROS 11 Y 12 AÑOS | D15: 11 - 12 AÑOS | E15: 2014 | F15: S | G15: =2025-E15 -> 11 | I15: SENIOR MASTER | J15: SM
B16: =CONCATENATE(E16,F16) -> 2013S | C16: SEMILLEROS 11 Y 12 AÑOS | E16: 2013 | F16: S | G16: =2025-E16 -> 12
B17: =CONCATENATE(E17,F17) -> 2012S | C17: SEMILLEROS 13 Y 14 AÑOS | D17: 13 - 14 AÑOS | E17: 2012 | F17: S | G17: =2025-E17 -> 13
B18: =CONCATENATE(E18,F18) -> 2011S | C18: SEMILLEROS 13 Y 14 AÑOS | E18: 2011 | F18: S | G18: =2025-E18 -> 14
B19: =CONCATENATE(E19,F19) -> 2010S | C19: SEMILLEROS 15 Y 16 AÑOS | D19: 15 - 16 AÑOS | E19: 2010 | F19: S | G19: =2025-E19 -> 15
B20: =CONCATENATE(E20,F20) -> 2009S | C20: SEMILLEROS 15 Y 16 AÑOS | E20: 2009 | F20: S | G20: =2025-E20 -> 16
B21: =CONCATENATE(E21,F21) -> 2021D | C21: DAMAS 6 AÑOS Y MENOS | D21: 4-6 AÑOS | E21: 2021 | F21: D | G21: =2025-E21 -> 4
B22: =CONCATENATE(E22,F22) -> 2020D | C22: DAMAS 6 AÑOS Y MENOS | E22: 2020 | F22: D | G22: =2025-E22 -> 5
B23: =CONCATENATE(E23,F23) -> 2019D | C23: DAMAS 6 AÑOS Y MENOS | E23: 2019 | F23: D | G23: =2025-E23 -> 6
B24: =CONCATENATE(E24,F24) -> 2018D | C24: DAMAS 7 Y 8 AÑOS | D24: 7 - 8 AÑOS | E24: 2018 | F24: D | G24: =2025-E24 -> 7
B25: =CONCATENATE(E25,F25) -> 2017D | C25: DAMAS 7 Y 8 AÑOS | E25: 2017 | F25: D | G25: =2025-E25 -> 8
B26: =CONCATENATE(E26,F26) -> 2016D | C26: DAMAS 9 Y 10 AÑOS | D26: 9 - 10 AÑOS | E26: 2016 | F26: D | G26: =2025-E26 -> 9
B27: =CONCATENATE(E27,F27) -> 2015D | C27: DAMAS 9 Y 10 AÑOS | E27: 2015 | F27: D | G27: =2025-E27 -> 10
B28: =CONCATENATE(E28,F28) -> 2014D | C28: DAMAS 11 Y 12 AÑOS | D28: 11 - 12 AÑOS | E28: 2014 | F28: D | G28: =2025-E28 -> 11
B29: =CONCATENATE(E29,F29) -> 2013D | C29: DAMAS 11 Y 12 AÑOS | E29: 2013 | F29: D | G29: =2025-E29 -> 12
B30: =CONCATENATE(E30,F30) -> 2012D | C30: DAMAS 13 Y 14 AÑOS | D30: 13 - 14 AÑOS | E30: 2012 | F30: D | G30: =2025-E30 -> 13
B31: =CONCATENATE(E31,F31) -> 2011D | C31: DAMAS 13 Y 14 AÑOS | E31: 2011 | F31: D | G31: =2025-E31 -> 14
B32: =CONCATENATE(E32,F32) -> 2010D | C32: DAMAS 15 AÑOS Y MAS | D32: 15 - 16 AÑOS | E32: 2010 | F32: D | G32: =2025-E32 -> 15
B33: =CONCATENATE(E33,F33) -> 2009D | C33: DAMAS 15 AÑOS Y MAS | E33: 2009 | F33: D | G33: =2025-E33 -> 16
B34: =CONCATENATE(E34,F34) -> 2008D | C34: DAMAS 15 AÑOS Y MAS | E34: 2008 | F34: D | G34: =2025-E34 -> 17
B35: =CONCATENATE(E35,F35) -> 2007D | C35: DAMAS 15 AÑOS Y MAS | E35: 2007 | F35: D | G35: =2025-E35 -> 18
B36: =CONCATENATE(E36,F36) -> 2006D | C36: DAMAS 15 AÑOS Y MAS | E36: 2006 | F36: D | G36: =2025-E36 -> 19
B37: =CONCATENATE(E37,F37) -> 2005D | C37: DAMAS 15 AÑOS Y MAS | E37: 2005 | F37: D | G37: =2025-E37 -> 20
B38: =CONCATENATE(E38,F38) -> 2004D | C38: DAMAS 15 AÑOS Y MAS | E38: 2004 | F38: D | G38: =2025-E38 -> 21
B39: =CONCATENATE(E39,F39) -> 2003D | C39: DAMAS 15 AÑOS Y MAS | E39: 2003 | F39: D | G39: =2025-E39 -> 22
B40: =CONCATENATE(E40,F40) -> 2002D | C40: DAMAS 15 AÑOS Y MAS | E40: 2002 | F40: D | G40: =2025-E40 -> 23
B41: =CONCATENATE(E41,F41) -> 2001D | C41: DAMAS 15 AÑOS Y MAS | E41: 2001 | F41: D | G41: =2025-E41 -> 24
B42: =CONCATENATE(E42,F42) -> 2000D | C42: DAMAS 15 AÑOS Y MAS | E42: 2000 | F42: D | G42: =2025-E42 -> 25
B43: =CONCATENATE(E43,F43) -> 1999D | C43: DAMAS 15 AÑOS Y MAS | E43: 1999 | F43: D | G43: =2025-E43 -> 26
B44: =CONCATENATE(E44,F44) -> 1998D | C44: DAMAS 15 AÑOS Y MAS | E44: 1998 | F44: D | G44: =2025-E44 -> 27
... B48: =CONCATENATE(E48,F48) -> 1994D | C48: DAMAS 15 AÑOS Y MAS | E48: 1994 | F48: D | G48: =2025-E48 -> 31
B49: =CONCATENATE(E49,F49) -> 2021P | C49: PRINCIPIANTES 6 AÑOS Y MENOS | D49: 4 - 6 AÑOS | E49: 2021 | F49: P | G49: =2025-E49 -> 4
B50: =CONCATENATE(E50,F50) -> 2020P | C50: PRINCIPIANTES 6 AÑOS Y MENOS | E50: 2020 | F50: P | G50: =2025-E50 -> 5
B51: =CONCATENATE(E51,F51) -> 2019P | C51: PRINCIPIANTES 6 AÑOS Y MENOS | E51: 2019 | F51: P | G51: =2025-E51 -> 6
B52: =CONCATENATE(E52,F52) -> 2018P | C52: PRINCIPIANTES 7 Y 8 AÑOS | D52: 7 - 8 AÑOS | E52: 2018 | F52: P | G52: =2025-E52 -> 7
B53: =CONCATENATE(E53,F53) -> 2017P | C53: PRINCIPIANTES 7 Y 8 AÑOS | E53: 2017 | F53: P | G53: =2025-E53 -> 8
B54: =CONCATENATE(E54,F54) -> 2016P | C54: PRINCIPIANTES 9 Y 10 AÑOS | D54: 9 - 10 AÑOS | E54: 2016 | F54: P | G54: =2025-E54 -> 9
B55: =CONCATENATE(E55,F55) -> 2015P | C55: PRINCIPIANTES 9 Y 10 AÑOS | E55: 2015 | F55: P | G55: =2025-E55 -> 10
B56: =CONCATENATE(E56,F56) -> 2014P | C56: PRINCIPIANTES 11 Y 12 AÑOS | D56: 11 - 12 AÑOS | E56: 2014 | F56: P | G56: =2025-E56 -> 11
B57: =CONCATENATE(E57,F57) -> 2013P | C57: PRINCIPIANTES 11 Y 12 AÑOS | E57: 2013 | F57: P | G57: =2025-E57 -> 12
B58: =CONCATENATE(E58,F58) -> 2012P | C58: PRINCIPIANTES 13 Y 14 AÑOS | D58: 13 - 14 AÑOS | E58: 2012 | F58: P | G58: =2025-E58 -> 13
B59: =CONCATENATE(E59,F59) -> 2011P | C59: PRINCIPIANTES 13 Y 14 AÑOS | E59: 2011 | F59: P | G59: =2025-E59 -> 14
B60: =CONCATENATE(E60,F60) -> 2018N | C60: NOVATOS 7 Y 8 AÑOS | D60: 7 - 8 AÑOS | E60: 2018 | F60: N | G60: =2025-E60 -> 7
B61: =CONCATENATE(E61,F61) -> 2017N | C61: NOVATOS 7 Y 8 AÑOS | E61: 2017 | F61: N | G61: =2025-E61 -> 8
B62: =CONCATENATE(E62,F62) -> 2016N | C62: NOVATOS 9 Y 10 AÑOS | D62: 9 - 10 AÑOS | E62: 2016 | F62: N | G62: =2025-E62 -> 9
B63: =CONCATENATE(E63,F63) -> 2015N | C63: NOVATOS 9 Y 10 AÑOS | E63: 2015 | F63: N | G63: =2025-E63 -> 10
B64: =CONCATENATE(E64,F64) -> 2014N | C64: NOVATOS 11 Y 12 AÑOS | D64: 11 - 12 AÑOS | E64: 2014 | F64: N | G64: =2025-E64 -> 11
B65: =CONCATENATE(E65,F65) -> 2013N | C65: NOVATOS 11 Y 12 AÑOS | E65: 2013 | F65: N | G65: =2025-E65 -> 12
B66: =CONCATENATE(E66,F66) -> 2012N | C66: NOVATOS 13 Y 14 AÑOS | D66: 13 - 14 AÑOS | E66: 2012 | F66: N | G66: =2025-E66 -> 13
B67: =CONCATENATE(E67,F67) -> 2011N | C67: NOVATOS 13 Y 14 AÑOS | E67: 2011 | F67: N | G67: =2025-E67 -> 14
B68: =CONCATENATE(E68,F68) -> 2010N | C68: NOVATOS 15 Y 16 AÑOS | D68: 15 - 16 AÑOS | E68: 2010 | F68: N | G68: =2025-E68 -> 15
B69: =CONCATENATE(E69,F69) -> 2009N | C69: NOVATOS 15 Y 16 AÑOS | E69: 2009 | F69: N | G69: =2025-E69 -> 16
B70: =CONCATENATE(E70,F70) -> 2008N | C70: NOVATOS 17 AÑOS Y MAS | D70: 17 - 30 AÑOS | E70: 2008 | F70: N | G70: =2025-E70 -> 17
B71: =CONCATENATE(E71,F71) -> 2007N | C71: NOVATOS 17 AÑOS Y MAS | E71: 2007 | F71: N | G71: =2025-E71 -> 18
B72: =CONCATENATE(E72,F72) -> 2006N | C72: NOVATOS 17 AÑOS Y MAS | E72: 2006 | F72: N | G72: =2025-E72 -> 19
B73: =CONCATENATE(E73,F73) -> 2005N | C73: NOVATOS 17 AÑOS Y MAS | E73: 2005 | F73: N | G73: =2025-E73 -> 20
B74: =CONCATENATE(E74,F74) -> 2004N | C74: NOVATOS 17 AÑOS Y MAS | E74: 2004 | F74: N | G74: =2025-E74 -> 21
B75: =CONCATENATE(E75,F75) -> 2003N | C75: NOVATOS 17 AÑOS Y MAS | E75: 2003 | F75: N | G75: =2025-E75 -> 22
B76: =CONCATENATE(E76,F76) -> 2002N | C76: NOVATOS 17 AÑOS Y MAS | E76: 2002 | F76: N | G76: =2025-E76 -> 23
B77: =CONCATENATE(E77,F77) -> 2001N | C77: NOVATOS 17 AÑOS Y MAS | E77: 2001 | F77: N | G77: =2025-E77 -> 24
B78: =CONCATENATE(E78,F78) -> 2000N | C78: NOVATOS 17 AÑOS Y MAS | E78: 2000 | F78: N | G78: =2025-E78 -> 25
B79: =CONCATENATE(E79,F79) -> 1999N | C79: NOVATOS 17 AÑOS Y MAS | E79: 1999 | F79: N | G79: =2025-E79 -> 26
B80: =CONCATENATE(E80,F80) -> 1998N | C80: NOVATOS 17 AÑOS Y MAS | E80: 1998 | F80: N | G80: =2025-E80 -> 27
B81: =CONCATENATE(E81,F81) -> 1997N | C81: NOVATOS 17 AÑOS Y MAS | E81: 1997 | F81: N | G81: =2025-E81 -> 28
B82: =CONCATENATE(E82,F82) -> 1996N | C82: NOVATOS 17 AÑOS Y MAS | E82: 1996 | F82: N | G82: =2025-E82 -> 29
... B84: =CONCATENATE(E84,F84) -> 1994N | C84: NOVATOS 17 AÑOS Y MAS | E84: 1994 | F84: N | G84: =2025-E84 -> 31
B85: =CONCATENATE(E85,F85) -> 2019E | C85: EXPERTOS 8 AÑOS Y MENOS | D85: 8 AÑOS Y MENOS | E85: 2019 | F85: E | G85: =2025-E85 -> 6
B86: =CONCATENATE(E86,F86) -> 2018E | C86: EXPERTOS 8 AÑOS Y MENOS | E86: 2018 | F86: E | G86: =2025-E86 -> 7
B87: =CONCATENATE(E87,F87) -> 2017E | C87: EXPERTOS 8 AÑOS Y MENOS | E87: 2017 | F87: E | G87: =2025-E87 -> 8
B88: =CONCATENATE(E88,F88) -> 2016E | C88: EXPERTOS 9 AÑOS | D88: 9 AÑOS | E88: 2016 | F88: E | G88: =2025-E88 -> 9
B89: =CONCATENATE(E89,F89) -> 2015E | C89: EXPERTOS 10 AÑOS | D89: 10 AÑOS | E89: 2015 | F89: E | G89: =2025-E89 -> 10
B90: =CONCATENATE(E90,F90) -> 2014E | C90: EXPERTOS 11 AÑOS | D90: 11 AÑOS | E90: 2014 | F90: E | G90: =2025-E90 -> 11
B91: =CONCATENATE(E91,F91) -> 2013E | C91: EXPERTOS 12 AÑOS | D91: 12 AÑOS | E91: 2013 | F91: E | G91: =2025-E91 -> 12
B92: =CONCATENATE(E92,F92) -> 2012E | C92: EXPERTOS 13 AÑOS | D92: 13 AÑOS | E92: 2012 | F92: E | G92: =2025-E92 -> 13
B93: =CONCATENATE(E93,F93) -> 2011E | C93: EXPERTOS 14 AÑOS | D93: 14 AÑOS | E93: 2011 | F93: E | G93: =2025-E93 -> 14
B94: =CONCATENATE(E94,F94) -> 2010E | C94: EXPERTOS 15 AÑOS | D94: 15 AÑOS | E94: 2010 | F94: E | G94: =2025-E94 -> 15
B95: =CONCATENATE(E95,F95) -> 2009E | C95: EXPERTOS 16 AÑOS | D95: 16 AÑOS | E95: 2009 | F95: E | G95: =2025-E95 -> 16
B96: =CONCATENATE(E96,F96) -> 2008E | C96: EXPERTOS 17 AÑOS Y MAS | D96: 17 AÑOS Y MAS | E96: 2008 | F96: E | G96: =2025-E96 -> 17
B97: =CONCATENATE(E97,F97) -> 2007E | C97: EXPERTOS 17 AÑOS Y MAS | E97: 2007 | F97: E | G97: =2025-E97 -> 18
B98: =CONCATENATE(E98,F98) -> 2006E | C98: EXPERTOS 17 AÑOS Y MAS | E98: 2006 | F98: E | G98: =2025-E98 -> 19
B99: =CONCATENATE(E99,F99) -> 2005E | C99: EXPERTOS 17 AÑOS Y MAS | E99: 2005 | F99: E | G99: =2025-E99 -> 20
B100: =CONCATENATE(E100,F100) -> 2004E | C100: EXPERTOS 17 AÑOS Y MAS | E100: 2004 | F100: E | G100: =2025-E100 -> 21
B101: =CONCATENATE(E101,F101) -> 2003E | C101: EXPERTOS 17 AÑOS Y MAS | E101: 2003 | F101: E | G101: =2025-E101 -> 22
B102: =CONCATENATE(E102,F102) -> 2002E | C102: EXPERTOS 17 AÑOS Y MAS | E102: 2002 | F102: E | G102: =2025-E102 -> 23
B103: =CONCATENATE(E103,F103) -> 2001E | C103: EXPERTOS 17 AÑOS Y MAS | E103: 2001 | F103: E | G103: =2025-E103 -> 24
B104: =CONCATENATE(E104,F104) -> 2000E | C104: EXPERTOS 17 AÑOS Y MAS | E104: 2000 | F104: E | G104: =2025-E104 -> 25
...

Sheet FORMATO EQUIPOS
C1: EQUIPOS VALIDA II | F1: 2025
A2: No | B2: PLATE | C2: NOMBRE | D2: APELLIDOS | E2: CATEGORIA | F2: CLUB
A3: 1
A4: 2
A5: 3
A6: 4
A7: 5
C9: EQUIPOS VALIDA II | F9: 2025
A10: No | B10: PLATE | C10: NOMBRE | D10: APELLIDOS | E10: CATEGORIA | F10: CLUB
A11: 1
A12: 2
A13: 3
A14: 4
A15: 5
C17: EQUIPOS VALIDA II | F17: 2025
B18: PLATE | C18: NOMBRE | D18: APELLIDOS | E18: CATEGORIA | F18: CLUB
A19: 1
A20: 2
A21: 3
A22: 4
A23: 5
C25: EQUIPOS VALIDA II | F25: 2025
A26: No | B26: PLATE | C26: NOMBRE | D26: APELLIDOS | E26: CATEGORIA | F26: CLUB
A27: 1
A28: 2
A29: 3
A30: 4
A31: 5
C33: EQUIPOS VALIDA II | F33: 2025
A34: No | B34: PLATE | C34: NOMBRE | D34: APELLIDOS | E34: CATEGORIA | F34: CLUB
A35: 1
A36: 2
A37: 3
A38: 4
A39: 5

Sheet ACUMULADO EQUIPOS
A1: ACUMULADO EQUIPOS 2025 | Q1: RESULTADOS EQUIPOS 2025
A2: PUESTO | B2: NOMBRE CLUB | C2: I | D2: II | E2: III | F2: IV | G2: V | H2: VI | I2: VII | J2: VIII | K2: IX | L2: X | M2: XI | N2: XII | O2: TOTAL
A3: 1 | B3: PUMAS BMX | C3: 154 | D3: 411 | E3: 0 | F3: 268 | G3: 398 | H3: 264 | I3: 335 | J3: 472 | O3: =SUM(C3:N3) -> 2302
A4: 2 | B4: BMX ENVIGADO | C4: 345 | D4: 0 | E4: 500 | F4: 230 | G4: 431 | H4: 335 | I4: 460 | J4: 448 | O4: =SUM(C4:N4) -> 2749
A5: 3 | B5: AGUILAS BMX | C5: 383 | D5: 491 | E5: 490 | F5: 276 | G5: 534 | H5: 468 | I5: 502 | J5: 422 | O5: =SUM(C5:N5) -> 3566
A6: 4 | B6: SALTAMONTES | C6: 281 | D6: 299 | E6: 269 | F6: 204 | G6: 166 | H6: 0 | I6: 229 | J6: 374 | O6: =SUM(C6:N6) -> 1822 | Q6: RESULTADOS EQUIPOS VALIDA VII
A7: 5 | B7: TEAM LYCANS | C7: 454 | D7: 380 | E7: 288 | F7: 172 | G7: 322 | H7: 370 | I7: 386 | J7: 354 | O7: =SUM(C7:N7) -> 2726 | Q7: No | R7: PLATE | S7: NOMBRE | T7: APELLIDOS | U7: CATEGORIA | V7: CLUB | W7: PUNTOS
A8: 6 | B8: TITANES SAN PEDRO | C8: 0 | D8: 0 | E8: 0 | F8: 268 | G8: 257 | H8: 0 | I8: 0 | J8: 321 | O8: =SUM(C8:N8) -> 846 | Q8: 1 | R8: 7 | S8: =VLOOKUP($R8,'BASE DE DATOS'!$B:$R,2,0) -> MARIA ISABELA | T8: =VLOOKUP($R8,'BASE DE DATOS'!$B:$R,3,0) -> GARCÍA ORDOÑEZ | U8: =VLOOKUP($R8,'BASE DE DATOS'!$B:$R,14,0) -> DAMAS 15 AÑOS Y MAS | V8: =VLOOKUP($R8,'BASE DE DATOS'!$B:$R,15,0) -> AGUILAS BMX | X8: =SUM(W8:W12) -> 0
A9: 7 | B9: ESTRELLAS BMX | C9: 219 | D9: =189+70 -> 259 | E9: 371 | F9: 214 | G9: 366 | H9: 361 | I9: 208 | J9: 318 | O9: =SUM(C9:N9) -> 2316 | Q9: 2 | R9: 537 | S9: =VLOOKUP($R9,'BASE DE DATOS'!$B:$R,2,0) -> MIGUEL ANGEL | T9: =VLOOKUP($R9,'BASE DE DATOS'!$B:$R,3,0) -> ZULETA GÓMEZ | U9: =VLOOKUP($R9,'BASE DE DATOS'!$B:$R,14,0) -> PRINCIPIANTES 13 Y 14 AÑOS
A10: 8 | B10: FTL RUNNERS | C10: 375 | D10: 0 | E10: 307 | F10: 0 | G10: 318 | H10: 289 | I10: 0 | J10: 0 | O10: =SUM(C10:N10) -> 1289 | Q10: 3 | R10: 18 | S10: =VLOOKUP($R10,'BASE DE DATOS'!$B:$R,2,0) -> JERONIMO | T10: =VLOOKUP($R10,'BASE DE DATOS'!$B:$R,3,0) -> SANCHEZ RESTREPO | U10: =VLOOKUP($R10,'BASE DE DATOS'!$B:$R,14,0) -> PRINCIPIANTES 9 Y 10 AÑOS
A11: 9 | B11: MAGIC BMX | C11: 232 | D11: 312 | E11: 392 | F11: 218 | G11: 350 | H11: 129 | I11: 0 | J11: 0 | O11: =SUM(C11:N11) -> 1633 | Q11: 4 | R11: 16 | S11: =VLOOKUP($R11,'BASE DE DATOS'!$B:$R,2,0) -> NEILER DAVID | T11: =VLOOKUP($R11,'BASE DE DATOS'!$B:$R,3,0) -> PEREZ UBARNE | U11: =VLOOKUP($R11,'BASE DE DATOS'!$B:$R,14,0) -> EXPERTOS 10 AÑOS
A12: 10 | B12: ELITE BMX | C12: 154 | D12: 0 | E12: 312 | F12: 0 | G12: 412 | H12: 0 | I12: 0 | J12: 0 | O12: =SUM(C12:N12) -> 878 | Q12: 5 | R12: 15 | S12: =VLOOKUP($R12,'BASE DE DATOS'!$B:$R,2,0) -> MATÍAS | T12: =VLOOKUP($R12,'BASE DE DATOS'!$B:$R,3,0) -> PEÑUELA VARGAS | U12: =VLOOKUP($R12,'BASE DE DATOS'!$B:$R,14,0) -> PRINCIPIANTES 7 Y 8 AÑOS
A13: 11 | B13: CORRECAMINOS | C13: 279 | D13: 372 | E13: 0 | F13: 196 | G13: 330 | H13: 0 | I13: 0 | J13: 0 | O13: =SUM(C13:N13) -> 1177
A14: 12 | B14: BMX LAS PALMAS | C14: 0 | D14: 0 | E14: 0 | F14: 0 | G14: 316 | H14: 0 | I14: 0 | J14: 0 | O14: =SUM(C14:N14) -> 316 | Q14: RESULTADOS EQUIPOS VALIDA VII
A15: 13 | B15: BMX RIDERS | C15: 0 | D15: 0 | E15: 297 | F15: 0 | G15: 0 | H15: 0 | I15: 0 | J15: 0 | O15: =SUM(C15:N15) -> 297 | Q15: No | R15: PLATE | S15: NOMBRE | T15: APELLIDOS | U15: CATEGORIA | V15: CLUB | W15: PUNTOS
A16: 14 | B16: ONE BMX | C16: 233 | D16: 0 | E16: 0 | F16: 0 | G16: 0 | H16: 0 | I16: 0 | J16: 0 | O16: =SUM(C16:N16) -> 233 | Q16: 1 | R16: 1034 | S16: =VLOOKUP($R16,'BASE DE DATOS'!$B:$R,2,0) -> EMANUEL | T16: =VLOOKUP($R16,'BASE DE DATOS'!$B:$R,3,0) -> SERNA BEDOYA | U16: =VLOOKUP($R16,'BASE DE DATOS'!$B:$R,14,0) -> EXPERTOS 17 AÑOS Y MAS | V16: =VLOOKUP($R16,'BASE DE DATOS'!$B:$R,15,0) -> TEAM LYCANS | X16: =SUM(W16:W20) -> 0
Q17: 2 | R17: 201 | S17: =VLOOKUP($R17,'BASE DE DATOS'!$B:$R,2,0) -> matias | T17: =VLOOKUP($R17,'BASE DE DATOS'!$B:$R,3,0) -> jimenez tapasco | U17: =VLOOKUP($R17,'BASE DE DATOS'!$B:$R,14,0) -> EXPERTOS 10 AÑOS
Q18: 3 | R18: 199 | S18: =VLOOKUP($R18,'BASE DE DATOS'!$B:$R,2,0) -> emiliano | T18: =VLOOKUP($R18,'BASE DE DATOS'!$B:$R,3,0) -> gonzalez manco | U18: =VLOOKUP($R18,'BASE DE DATOS'!$B:$R,14,0) -> EXPERTOS 11 AÑOS
Q19: 4 | R19: 192 | S19: =VLOOKUP($R19,'BASE DE DATOS'!$B:$R,2,0) -> jacobo | T19: =VLOOKUP($R19,'BASE DE DATOS'!$B:$R,3,0) -> alzate villa | U19: =VLOOKUP($R19,'BASE DE DATOS'!$B:$R,14,0) -> NOVATOS 11 Y 12 AÑOS
Q20: 5 | R20: 245 | S20: =VLOOKUP($R20,'BASE DE DATOS'!$B:$R,2,0) -> Jeronimo | T20: =VLOOKUP($R20,'BASE DE DATOS'!$B:$R,3,0) -> Acevedo Cruz | U20: =VLOOKUP($R20,'BASE DE DATOS'!$B:$R,14,0) -> PRINCIPIANTES 11 Y 12 AÑOS | Y20: 90
Q22: RESULTADOS EQUIPOS VALIDA VII
Q23: No | R23: PLATE | S23: NOMBRE | T23: APELLIDOS | U23: CATEGORIA | V23: CLUB | W23: PUNTOS
Q24: 1 | R24: 1148 | S24: =VLOOKUP($R24,'BASE DE DATOS'!$B:$R,2,0) -> SANTIAGO | T24: =VLOOKUP($R24,'BASE DE DATOS'!$B:$R,3,0) -> MALAGON ATEHORTUA | U24: =VLOOKUP($R24,'BASE DE DATOS'!$B:$R,14,0) -> NOVATOS 13 Y 14 AÑOS | V24: =VLOOKUP($R24,'BASE DE DATOS'!$B:$R,15,0) -> SALTAMONTES | X24: =SUM(W24:W28) -> 0
Q25: 2 | R25: 525 | S25: =VLOOKUP($R25,'BASE DE DATOS'!$B:$R,2,0) -> LUZ SHAIRYS | T25: =VLOOKUP($R25,'BASE DE DATOS'!$B:$R,3,0) -> MOSQUERA LOPEZ | U25: =VLOOKUP($R25,'BASE DE DATOS'!$B:$R,14,0) -> DAMAS 9 Y 10 AÑOS
Q26: 3 | R26: 138 | S26: =VLOOKUP($R26,'BASE DE DATOS'!$B:$R,2,0) -> JESUS DAVID | T26: =VLOOKUP($R26,'BASE DE DATOS'!$B:$R,3,0) -> SALAZAR FRANCO | U26: =VLOOKUP($R26,'BASE DE DATOS'!$B:$R,14,0) -> MASTER
Q27: 4 | R27: 184 | S27: =VLOOKUP($R27,'BASE DE DATOS'!$B:$R,2,0) -> JERONIMO | T27: =VLOOKUP($R27,'BASE DE DATOS'!$B:$R,3,0) -> PIÑARTE GALLEGO | U27: =VLOOKUP($R27,'BASE DE DATOS'!$B:$R,14,0) -> PRINCIPIANTES 7 Y 8 AÑOS
Q28: 5 | R28: 263 | S28: =VLOOKUP($R28,'BASE DE DATOS'!$B:$R,2,0) -> LUCIANA | T28: =VLOOKUP($R28,'BASE DE DATOS'!$B:$R,3,0) -> RUA HERRERA | U28: =VLOOKUP($R28,'BASE DE DATOS'!$B:$R,14,0) -> DAMAS 11 Y 12 AÑOS
Q30: RESULTADOS EQUIPOS VALIDA VII
Q31: No | R31: PLATE | S31: NOMBRE | T31: APELLIDOS | U31: CATEGORIA | V31: CLUB | W31: PUNTOS
Q32: 1 | R32: 170 | S32: =VLOOKUP($R32,'BASE DE DATOS'!$B:$R,2,0) -> MATEO | T32: =VLOOKUP($R32,'BASE DE DATOS'!$B:$R,3,0) -> RIOS TAMAYO | U32: =VLOOKUP($R32,'BASE DE DATOS'!$B:$R,14,0) -> NOVATOS 9 Y 10 AÑOS | V32: =VLOOKUP($R32,'BASE DE DATOS'!$B:$R,15,0) -> PUMAS BMX | X32: =SUM(W32:W36) -> 0
Q33: 2 | R33: 169 | S33: =VLOOKUP($R33,'BASE DE DATOS'!$B:$R,2,0) -> SANTHIAGO | T33: =VLOOKUP($R33,'BASE DE DATOS'!$B:$R,3,0) -> PEREZ LOBO | U33: =VLOOKUP($R33,'BASE DE DATOS'!$B:$R,14,0) -> PRINCIPIANTES 7 Y 8 AÑOS
Q34: 3 | R34: 161 | S34: =VLOOKUP($R34,'BASE DE DATOS'!$B:$R,2,0) -> EMANUEL | T34: =VLOOKUP($R34,'BASE DE DATOS'!$B:$R,3,0) -> CASTAÑEDA RIOS | U34: =VLOOKUP($R34,'BASE DE DATOS'!$B:$R,14,0) -> NOVATOS 13 Y 14 AÑOS
Q35: 4 | R35: 450 | S35: =VLOOKUP($R35,'BASE DE DATOS'!$B:$R,2,0) -> JUAN PABLO | T35: =VLOOKUP($R35,'BASE DE DATOS'!$B:$R,3,0) -> LOAIZA GUTIERREZ | U35: =VLOOKUP($R35,'BASE DE DATOS'!$B:$R,14,0) -> EXPERTOS 13 AÑOS
Q36: 5 | R36: 167 | S36: =VLOOKUP($R36,'BASE DE DATOS'!$B:$R,2,0) -> MATIAS PINEDA | T36: =VLOOKUP($R36,'BASE DE DATOS'!$B:$R,3,0) -> MORALES | U36: =VLOOKUP($R36,'BASE DE DATOS'!$B:$R,14,0) -> EXPERTOS 14 AÑOS
Q38: RESULTADOS EQUIPOS VALIDA VII
Q39: No | R39: PLATE | S39: NOMBRE | T39: APELLIDOS | U39: CATEGORIA | V39: CLUB | W39: PUNTOS
Q40: 1 | R40: 285 | S40: =VLOOKUP($R40,'BASE DE DATOS'!$B:$R,2,0) -> MARIANA | T40: =VLOOKUP($R40,'BASE DE DATOS'!$B:$R,3,0) -> ZULUAGA MARTINEZ | U40: =VLOOKUP($R40,'BASE DE DATOS'!$B:$R,14,0) -> DAMAS 7 Y 8 AÑOS | V40: =VLOOKUP($R40,'BASE DE DATOS'!$B:$R,15,0) -> ESTRELLAS BMX | X40: =SUM(W40:W44) -> 0
Q41: 2 | R41: 413 | S41: =VLOOKUP($R41,'BASE DE DATOS'!$B:$R,2,0) -> LAURA | T41: =VLOOKUP($R41,'BASE DE DATOS'!$B:$R,3,0) -> MONTOYA CANTOR | U41: =VLOOKUP($R41,'BASE DE DATOS'!$B:$R,14,0) -> DAMAS 11 Y 12 AÑOS
Q42: 3 | R42: 116 | S42: =VLOOKUP($R42,'BASE DE DATOS'!$B:$R,2,0) -> ALEJANDRO | T42: =VLOOKUP($R42,'BASE DE DATOS'!$B:$R,3,0) -> CASTAÑO CASTAÑO | U42: =VLOOKUP($R42,'BASE DE DATOS'!$B:$R,14,0) -> EXPERTOS 9 AÑOS
Q43: 4 | R43: 121 | S43: =VLOOKUP($R43,'BASE DE DATOS'!$B:$R,2,0) -> JEAN PAUL | T43: =VLOOKUP($R43,'BASE DE DATOS'!$B:$R,3,0) -> QUINTERO VELASQUEZ | U43: =VLOOKUP($R43,'BASE DE DATOS'!$B:$R,14,0) -> PRINCIPIANTES 6 AÑOS Y MENOS
Q44: 5 | R44: 122 | S44: =VLOOKUP($R44,'BASE DE DATOS'!$B:$R,2,0) -> MATIAS | T44: =VLOOKUP($R44,'BASE DE DATOS'!$B:$R,3,0) -> RIOS LOPEZ | U44: =VLOOKUP($R44,'BASE DE DATOS'!$B:$R,14,0) -> PRINCIPIANTES 7 Y 8 AÑOS
Q47: RESULTADOS EQUIPOS VALIDA VII
Q48: No | R48: PLATE | S48: NOMBRE | T48: APELLIDOS | U48: CATEGORIA | V48: CLUB | W48: PUNTOS
Q49: 1 | R49: 179 | S49: =VLOOKUP($R49,'BASE DE DATOS'!$B:$R,2,0) -> MAXIMILIANO | T49: =VLOOKUP($R49,'BASE DE DATOS'!$B:$R,3,0) -> ALVAREZ RAMIREZ | U49: =VLOOKUP($R49,'BASE DE DATOS'!$B:$R,14,0) -> PRINCIPIANTES 9 Y 10 AÑOS | V49: =VLOOKUP($R49,'BASE DE DATOS'!$B:$R,15,0) -> BMX ENVIGADO | X49: =SUM(W49:W53) -> 0
Q50: 2 | R50: 28 | S50: =VLOOKUP($R50,'BASE DE DATOS'!$B:$R,2,0) -> juan martin | T50: =VLOOKUP($R50,'BASE DE DATOS'!$B:$R,3,0) -> estrada tavera | U50: =VLOOKUP($R50,'BASE DE DATOS'!$B:$R,14,0) -> PRINCIPIANTES 9 Y 10 AÑOS
Q51: 3 | R51: 46 | S51: =VLOOKUP($R51,'BASE DE DATOS'!$B:$R,2,0) -> THOMAS | T51: =VLOOKUP($R51,'BASE DE DATOS'!$B:$R,3,0) -> RIOS ALZATE | U51: =VLOOKUP($R51,'BASE DE DATOS'!$B:$R,14,0) -> PRINCIPIANTES 11 Y 12 AÑOS
Q52: 4 | R52: 39 | S52: =VLOOKUP($R52,'BASE DE DATOS'!$B:$R,2,0) -> matthew | T52: =VLOOKUP($R52,'BASE DE DATOS'!$B:$R,3,0) -> morales giraldo | U52: =VLOOKUP($R52,'BASE DE DATOS'!$B:$R,14,0) -> PRINCIPIANTES 13 Y 14 AÑOS
Q53: 5 | R53: 38 | S53: =VLOOKUP($R53,'BASE DE DATOS'!$B:$R,2,0) -> jeronimo | T53: =VLOOKUP($R53,'BASE DE DATOS'!$B:$R,3,0) -> montoya velez | U53: =VLOOKUP($R53,'BASE DE DATOS'!$B:$R,14,0) -> NOVATOS 9 Y 10 AÑOS
Q55: RESULTADOS EQUIPOS VALIDA VII
Q56: No | R56: PLATE | S56: NOMBRE | T56: APELLIDOS | U56: CATEGORIA | V56: CLUB | W56: PUNTOS
Q57: 1 | R57: 718 | S57: =VLOOKUP($R57,'BASE DE DATOS'!$B:$R,2,0) -> YEREMY | T57: =VLOOKUP($R57,'BASE DE DATOS'!$B:$R,3,0) -> URIBE GUERRA | U57: =VLOOKUP($R57,'BASE DE DATOS'!$B:$R,14,0) -> EXPERTOS 15 AÑOS | V57: =VLOOKUP($R57,'BASE DE DATOS'!$B:$R,15,0) -> TITANES | X57: =SUM(W57:W61) -> 0
Q58: 2 | R58: 719 | S58: =VLOOKUP($R58,'BASE DE DATOS'!$B:$R,2,0) -> YEISSON STIVEN | T58: =VLOOKUP($R58,'BASE DE DATOS'!$B:$R,3,0) -> DUQUE URIBE | U58: =VLOOKUP($R58,'BASE DE DATOS'!$B:$R,14,0) -> EXPERTOS 17 AÑOS Y MAS
Q59: 3 | R59: 715 | S59: =VLOOKUP($R59,'BASE DE DATOS'!$B:$R,2,0) -> KATHERINE | T59: =VLOOKUP($R59,'BASE DE DATOS'!$B:$R,3,0) -> LOPEZ ARANGO | U59: =VLOOKUP($R59,'BASE DE DATOS'!$B:$R,14,0) -> DAMAS 11 Y 12 AÑOS
Q60: 4 | R60: 714 | S60: =VLOOKUP($R60,'BASE DE DATOS'!$B:$R,2,0) -> SANTIAGO | T60: =VLOOKUP($R60,'BASE DE DATOS'!$B:$R,3,0) -> GARCIA ARIAS | U60: =VLOOKUP($R60,'BASE DE DATOS'!$B:$R,14,0) -> PRINCIPIANTES 13 Y 14 AÑOS
Q61: 5 | R61: 940 | S61: =VLOOKUP($R61,'BASE DE DATOS'!$B:$R,2,0) -> EDWIN | T61: =VLOOKUP($R61,'BASE DE DATOS'!$B:$R,3,0) -> TAMAYO AVENDAÑO | U61: =VLOOKUP($R61,'BASE DE DATOS'!$B:$R,14,0) -> NOVATOS 17 AÑOS Y MAS

Sheet Hoja1
A1: NUMERO | B1: NOMBRE | C1: APELLIDOS | D1: CATEGORIA | E1: CLUB
A2: 1167 | B2: ISABELLA | C2: MESTRA GARCIA | D2: PRINCIPIANTES 7 Y 8 AÑOS | E2: INDEPENDIENTES
A3: 1168 | B3: EMILIANI | C3: ALVARES MONSALBE | D3: SEMILLEROS 7 Y 8 AÑOS | E3: INDEPENDIENTES
A4: 1169 | B4: Jair Sebastian | C4: Villadiego Garcés | D4: SEMILLEROS 13 Y 14 AÑOS | E4: MONTERIA BMX
A5: 1170 | B5: Jhoan Reynaldo | C5: Montoya Garcés | D5: SEMILLEROS 15 Y 16 AÑOS | E5: MONTERIA BMX
A6: 1171 | B6: Robert | C6: Álvarez Velásquez | D6: SEMILLEROS 15 Y 16 AÑOS | E6: MONTERIA BMX
A7: 1172 | B7: julian andres | C7: valencia | D7: FOUR CROSS | E7: START RIDERS
A8: 1173 | B8: MATEO | C8: ESPINOSA MONSALVE | D8: SEMILLEROS 9 Y 10 AÑOS | E8: BMX SANTA ROSA
A9: 1174 | B9: JAVIER | C9: VILLA MOLINA | D9: SEMILLEROS 9 Y 10 AÑOS | E9: BMX SANTA ROSA
A10: 1175 | B10: JULIAN | C10: ZAPATA HERNANDEZ | D10: SEMILLEROS 9 Y 10 AÑOS | E10: BMX SANTA ROSA
A11: 1176 | B11: Samuel | C11: Zapata Marin | D11: SEMILLEROS 6 AÑOS Y MENOS | E11: CRANKIDS
A12: 1177 | B12: Jose Miguel | C12: Granada Yepes | D12: SEMILLEROS 11 Y 12 AÑOS | E12: CRANKIDS
A13: 1178 | B13: EMMANUEL | C13: LUJAN CALVO | D13: MINI RIDERS CON PEDALES 4 Y 5 AÑOS | E13: CICLISMO DONMATÍAS
... A91: 1256 | B91: DAVID | C91: GONZALEZ USUGA | D91: PRINCIPIANTES 7 Y 8 AÑOS | E91: TIGERS BMX GIRARDOTA
