Workbook

Sheet BASE DE DATOS
B1: NUMERO | C1: NOMBRES | D1: APELLIDOS | E1: T. DOC. | F1: NU. DOC. | G1: TELEFONO | H1: DIA | I1: MES | J1: AÑO DE NACIMIENTO | K1: EDAD | L1: NIVEL DE HABILIDAD | M1: SNH | N1: SCAT | O1: CATEGORIA | P1: CLUB | Q1: COMENTARIOS | R1: NNUEVO
B2: 1 | C2: DANTE | D2: ÁLVAREZ CADAVID | E2: R.C | F2: 1023546562 | G2: 3007671971 | J2: 2018 | K2: =2025-J2 -> 7 | L2: PRINCIPIANTES | M2: =VLOOKUP($L2,CATEGORIAS!$I$2:$J$15,2,0) -> P | N2: =CONCATENATE($J2,$M2) -> 2018P | O2: =VLOOKUP($N2,CATEGORIAS!$B$1:$G$245,2,0) -> PRINCIPIANTES 7 Y 8 AÑOS | P2: AGUILAS BMX | S2: DAMAS | U2: LA DORADA BIKES
B3: 2 | C3: MATEO | D3: ARROYAVE RAMIREZ | E3: T.I | F3: 1017931522 | G3: 3004257738 | J3: 2008 | K3: =2025-J3 -> 17 | L3: NOVATOS | M3: =VLOOKUP($L3,CATEGORIAS!$I$2:$J$15,2,0) -> N | N3: =CONCATENATE($J3,$M3) -> 2008N | O3: =VLOOKUP($N3,CATEGORIAS!$B$1:$G$245,2,0) -> NOVATOS 17 AÑOS Y MAS | P3: AGUILAS BMX | S3: EXPERTOS | U3: INDEPENDIENTES
B4: 3 | C4: RENATO ADRIAN | D4: CHUNG MIRANDA | E4: DNI | F4: 79396579-1 | G4: 57947319125 | J4: 2015 | K4: =2025-J4 -> 10 | L4: PRINCIPIANTES | M4: =VLOOKUP($L4,CATEGORIAS!$I$2:$J$15,2,0) -> P | N4: =CONCATENATE($J4,$M4) -> 2015P | O4: =VLOOKUP($N4,CATEGORIAS!$B$1:$G$245,2,0) -> PRINCIPIANTES 9 Y 10 AÑOS | P4: AGUILAS BMX | S4: FOUR CROSS | U4: ESTRELLAS BMX
B5: 4 | C5: SAMUEL | D5: CUARTAS ARBELÁEZ | E5: T.I | F5: 1011399697 | G5: 3108363465 | J5: 2008 | K5: =2025-J5 -> 17 | L5: NOVATOS | M5: =VLOOKUP($L5,CATEGORIAS!$I$2:$J$15,2,0) -> N | N5: =CONCATENATE($J5,$M5) -> 2008N | O5: =VLOOKUP($N5,CATEGORIAS!$B$1:$G$245,2,0) -> NOVATOS 17 AÑOS Y MAS | P5: AGUILAS BMX | S5: MAMICROSS | U5: YEPES TEAM
B6: 5 | C6: SANTIAGO | D6: GALLÓN PELAEZ | E6: T.I | F6: 1034922986 | G6: 3023162886 | J6: 2012 | K6: =2025-J6 -> 13 | L6: NOVATOS | M6: =VLOOKUP($L6,CATEGORIAS!$I$2:$J$15,2,0) -> N | N6: =CONCATENATE($J6,$M6) -> 2012N | O6: =VLOOKUP($N6,CATEGORIAS!$B$1:$G$245,2,0) -> NOVATOS 13 Y 14 AÑOS | P6: AGUILAS BMX | S6: MASTER | U6: ROCKETS BMX RIONEGRO
B7: 6 | C7: EMMANUEL | D7: GARCÍA GIRALDO | E7: R.C | F7: 1023595478 | G7: 3186664493 | J7: 2019 | K7: =2025-J7 -> 6 | L7: PRINCIPIANTES | M7: =VLOOKUP($L7,CATEGORIAS!$I$2:$J$15,2,0) -> P | N7: =CONCATENATE($J7,$M7) -> 2019P | O7: =VLOOKUP($N7,CATEGORIAS!$B$1:$G$245,2,0) -> PRINCIPIANTES 6 AÑOS Y MENOS | P7: AGUILAS BMX | S7: MINI RIDERS CON PEDALES | U7: SUEÑOS DEPORTIVOS
B8: 7 | C8: MARIA ISABELA | D8: GARCÍA ORDOÑEZ | E8: T.I | F8: 1125282374 | G8: 3214982338 | J8: 2010 | K8: =2025-J8 -> 15 | L8: DAMAS | M8: =VLOOKUP($L8,CATEGORIAS!$I$2:$J$15,2,0) -> D | N8: =CONCATENATE($J8,$M8) -> 2010D | O8: =VLOOKUP($N8,CATEGORIAS!$B$1:$G$245,2,0) -> DAMAS 15 AÑOS Y MAS | P8: AGUILAS BMX | S8: MINI RIDERS SIN PEDALES | U8: FTL RUNNERS
B9: 8 | C9: SAMUEL | D9: GONZÁLEZ RÚA | E9: C.C | F9: 1020415174 | G9: 3005426668 | J9: 2006 | K9: =2025-J9 -> 19 | L9: EXPERTOS | M9: =VLOOKUP($L9,CATEGORIAS!$I$2:$J$15,2,0) -> E | N9: =CONCATENATE($J9,$M9) -> 2006E | O9: =VLOOKUP($N9,CATEGORIAS!$B$1:$G$245,2,0) -> EXPERTOS 17 AÑOS Y MAS | P9: AGUILAS BMX | S9: NOVATOS | U9: TRIPULACIÓN BMX
A10: 9 | B10: 10 | C10: SAMUEL | D10: HURTADO CASTAÑEDA | E10: T.I | F10: 1011517401 | G10: 3008245424 | J10: 2014 | K10: =2025-J10 -> 11 | L10: NOVATOS | M10: =VLOOKUP($L10,CATEGORIAS!$I$2:$J$15,2,0) -> N | N10: =CONCATENATE($J10,$M10) -> 2014N | O10: =VLOOKUP($N10,CATEGORIAS!$B$1:$G$245,2,0) -> NOVATOS 11 Y 12 AÑOS | P10: AGUILAS BMX | S10: OPEN ELITE DAMAS | U10: CICLISMO DONMATÍAS
B11: 11 | C11: EMILIO | D11: LÓPEZ LONDOÑO | E11: T.I | F11: 1011410073 | G11: 3188271579 | J11: 2014 | K11: =2025-J11 -> 11 | L11: PRINCIPIANTES | M11: =VLOOKUP($L11,CATEGORIAS!$I$2:$J$15,2,0) -> P | N11: =CONCATENATE($J11,$M11) -> 2014P | O11: =VLOOKUP($N11,CATEGORIAS!$B$1:$G$245,2,0) -> PRINCIPIANTES 11 Y 12 AÑOS | P11: AGUILAS BMX | S11: OPEN ELITE VARONES | U11: teambmxsantafedeantioquia
B12: 12 | C12: JUAN JOSÉ | D12: LÓPEZ ROSAS | E12: T.I | F12: 1033200108 | G12: 3185282005 | J12: 2016 | K12: =2025-J12 -> 9 | L12: PRINCIPIANTES | M12: =VLOOKUP($L12,CATEGORIAS!$I$2:$J$15,2,0) -> P | N12: =CONCATENATE($J12,$M12) -> 2016P | O12: =VLOOKUP($N12,CATEGORIAS!$B$1:$G$245,2,0) -> PRINCIPIANTES 9 Y 10 AÑOS | P12: AGUILAS BMX | S12: PAPICROSS | U12: SALTAMONTES
B13: 13 | C13: THIAGO | D13: MORENO MARTÍNEZ | E13: T.I | F13: 1033193537 | G13: 3004003892 | J13: 2012 | K13: =2025-J13 -> 13 | L13: NOVATOS | M13: =VLOOKUP($L13,CATEGORIAS!$I$2:$J$15,2,0) -> N | N13: =CONCATENATE($J13,$M13) -> 2012N | O13: =VLOOKUP($N13,CATEGORIAS!$B$1:$G$245,2,0) -> NOVATOS 13 Y 14 AÑOS | P13: AGUILAS BMX | S13: PRINCIPIANTES | U13: TNT
B14: 14 | C14: JUAN JOSÉ | D14: OSORIO LÓPEZ | E14: T.I | F14: 1023646958 | G14: 3163511094 | J14: 2014 | K14: =2025-J14 -> 11 | L14: EXPERTOS | M14: =VLOOKUP($L14,CATEGORIAS!$I$2:$J$15,2,0) -> E | N14: =CONCATENATE($J14,$M14) -> 2014E | O14: =VLOOKUP($N14,CATEGORIAS!$B$1:$G$245,2,0) -> EXPERTOS 11 AÑOS | P14: AGUILAS BMX | S14: SEMILLEROS | U14: ELITE BMX
B15: 15 | C15: MATÍAS | D15: PEÑUELA VARGAS | E15: R.C | F15: 1031944910 | G15: 3175188452 | J15: 2018 | K15: =2025-J15 -> 7 | L15: PRINCIPIANTES | M15: =VLOOKUP($L15,CATEGORIAS!$I$2:$J$15,2,0) -> P | N15: =CONCATENATE($J15,$M15) -> 2018P | O15: =VLOOKUP($N15,CATEGORIAS!$B$1:$G$245,2,0) -> PRINCIPIANTES 7 Y 8 AÑOS | P15: AGUILAS BMX | S15: SENIOR MASTER
B16: 16 | C16: NEILER DAVID | D16: PEREZ UBARNE | E16: T.I | F16: 1028031038 | G16: 3233266317 | J16: 2015 | K16: =2025-J16 -> 10 | L16: EXPERTOS | M16: =VLOOKUP($L16,CATEGORIAS!$I$2:$J$15,2,0) -> E | N16: =CONCATENATE($J16,$M16) -> 2015E | O16: =VLOOKUP($N16,CATEGORIAS!$B$1:$G$245,2,0) -> EXPERTOS 10 AÑOS | P16: AGUILAS BMX
B17: 17 | C17: MATHIAS | D17: RAMÍREZ ARRAUTT | E17: T.I | F17: 1033266111 | G17: 3009790999 | J17: 2015 | K17: =2025-J17 -> 10 | L17: PRINCIPIANTES | M17: =VLOOKUP($L17,CATEGORIAS!$I$2:$J$15,2,0) -> P | N17: =CONCATENATE($J17,$M17) -> 2015P | O17: =VLOOKUP($N17,CATEGORIAS!$B$1:$G$245,2,0) -> PRINCIPIANTES 9 Y 10 AÑOS | P17: AGUILAS BMX
B18: 18 | C18: JERONIMO | D18: SANCHEZ RESTREPO | E18: T.I | F18: 1032188886 | G18: 3108399040 | J18: 2016 | K18: =2025-J18 -> 9 | L18: PRINCIPIANTES | M18: =VLOOKUP($L18,CATEGORIAS!$I$2:$J$15,2,0) -> P | N18: =CONCATENATE($J18,$M18) -> 2016P | O18: =VLOOKUP($N18,CATEGORIAS!$B$1:$G$245,2,0) -> PRINCIPIANTES 9 Y 10 AÑOS | P18: AGUILAS BMX
B19: 19 | C19: CAMILO | D19: TORRES STAND | E19: R.C | F19: 1033202125 | G19: 3117218762 | J19: 2017 | K19: =2025-J19 -> 8 | L19: PRINCIPIANTES | M19: =VLOOKUP($L19,CATEGORIAS!$I$2:$J$15,2,0) -> P | N19: =CONCATENATE($J19,$M19) -> 2017P | O19: =VLOOKUP($N19,CATEGORIAS!$B$1:$G$245,2,0) -> PRINCIPIANTES 7 Y 8 AÑOS | P19: AGUILAS BMX
B20: 20 | C20: ANDREY | D20: ZULUAGA CANO | E20: T.I | F20: 1023648983 | G20: 3147250623 | J20: 2015 | K20: =2025-J20 -> 10 | L20: PRINCIPIANTES | M20: =VLOOKUP($L20,CATEGORIAS!$I$2:$J$15,2,0) -> P | N20: =CONCATENATE($J20,$M20) -> 2015P | O20: =VLOOKUP($N20,CATEGORIAS!$B$1:$G$245,2,0) -> PRINCIPIANTES 9 Y 10 AÑOS | P20: AGUILAS BMX
B21: 21 | C21: samuel | D21: agudelo echavarria | E21: TI | F21: 1036454717 | G21: 3163091919 | J21: 2011 | K21: =2025-J21 -> 14 | L21: PRINCIPIANTES | M21: =VLOOKUP($L21,CATEGORIAS!$I$2:$J$15,2,0) -> P | N21: =CONCATENATE($J21,$M21) -> 2011P | O21: =VLOOKUP($N21,CATEGORIAS!$B$1:$G$245,2,0) -> PRINCIPIANTES 13 Y 14 AÑOS | P21: BMX ENVIGADO
B22: 22 | C22: antonia | D22: arango sanabria | E22: TI | F22: 1020316359 | G22: 3008138460 | J22: 2013 | K22: =2025-J22 -> 12 | L22: PRINCIPIANTES | M22: =VLOOKUP($L22,CATEGORIAS!$I$2:$J$15,2,0) -> P | N22: =CONCATENATE($J22,$M22) -> 2013P | O22: =VLOOKUP($N22,CATEGORIAS!$B$1:$G$245,2,0) -> PRINCIPIANTES 11 Y 12 AÑOS | P22: BMX ENVIGADO
B23: 23 | C23: SOFIA | D23: ARBOLEDA OCHOA | E23: TI | F23: 1027808402 | G23: 3044728743 | J23: 2009 | K23: =2025-J23 -> 16 | L23: DAMAS | M23: =VLOOKUP($L23,CATEGORIAS!$I$2:$J$15,2,0) -> D | N23: =CONCATENATE($J23,$M23) -> 2009D | O23: =VLOOKUP($N23,CATEGORIAS!$B$1:$G$245,2,0) -> DAMAS 15 AÑOS Y MAS | P23: BMX ENVIGADO
B24: 24 | C24: tomas jose | D24: avella peña | E24: TI | F24: 1054681651 | G24: 3152024427 | J24: 2012 | K24: =2025-J24 -> 13 | L24: expertos | M24: =VLOOKUP($L24,CATEGORIAS!$I$2:$J$15,2,0) -> E | N24: =CONCATENATE($J24,$M24) -> 2012E | O24: =VLOOKUP($N24,CATEGORIAS!$B$1:$G$245,2,0) -> EXPERTOS 13 AÑOS | P24: BMX ENVIGADO
B25: 25 | C25: cristobal | D25: benjumea zapata | E25: TI | F25: 1035005103 | G25: 3174343960 | J25: 2014 | K25: =2025-J25 -> 11 | L25: PRINCIPIANTES | M25: =VLOOKUP($L25,CATEGORIAS!$I$2:$J$15,2,0) -> P | N25: =CONCATENATE($J25,$M25) -> 2014P | O25: =VLOOKUP($N25,CATEGORIAS!$B$1:$G$245,2,0) -> PRINCIPIANTES 11 Y 12 AÑOS | P25: BMX ENVIGADO
B26: 26 | C26: JOSE MANUEL | D26: BERRIO GIRALDO | E26: TI | F26: 1034921912 | G26: 30143450959 | J26: 2011 | K26: =2025-J26 -> 14 | L26: novatos | M26: =VLOOKUP($L26,CATEGORIAS!$I$2:$J$15,2,0) -> N | N26: =CONCATENATE($J26,$M26) -> 2011N | O26: =VLOOKUP($N26,CATEGORIAS!$B$1:$G$245,2,0) -> NOVATOS 13 Y 14 AÑOS | P26: BMX ENVIGADO
B27: 27 | C27: JUAN JOSE | D27: CARDENAS CASTAÑO | E27: CC | F27: 1034986172 | G27: 3226264607 | J27: 2004 | K27: =2025-J27 -> 21 | L27: OPEN ELITE VARONES | M27: =VLOOKUP($L27,CATEGORIAS!$I$2:$J$15,2,0) -> T | N27: =CONCATENATE($J27,$M27) -> 2004T | O27: =VLOOKUP($N27,CATEGORIAS!$B$1:$G$245,2,0) -> OPEN ELITE VARONES | P27: BMX ENVIGADO
... B30: 30 | C30: daniel | D30: garcia dominguez | E30: CC | F30: 1033258008 | G30: 3005100809 | J30: 2005 | K30: =2025-J30 -> 20 | L30: OPEN ELITE VARONES | M30: =VLOOKUP($L30,CATEGORIAS!$I$2:$J$15,2,0) -> T | N30: =CONCATENATE($J30,$M30) -> 2005T | O30: =VLOOKUP($N30,CATEGORIAS!$B$1:$G$245,2,0) -> OPEN ELITE VARONES | P30: BMX ENVIGADO
A31: PIERDE PUNTOS. | B31: 31 | C31: SANTIAGO | D31: GONZALEZ ORTIZ | E31: TI | F31: 1155713940 | G31: 3014398221 | J31: 2013 | K31: =2025-J31 -> 12 | L31: PRINCIPIANTES | M31: =VLOOKUP($L31,CATEGORIAS!$I$2:$J$15,2,0) -> P | N31: =CONCATENATE($J31,$M31) -> 2013P | O31: =VLOOKUP($N31,CATEGORIAS!$B$1:$G$245,2,0) -> PRINCIPIANTES 11 Y 12 AÑOS | P31: BMX ENVIGADO
B32: 32 | C32: ISAAC | D32: GRANDA MONTOYA | E32: TI | F32: 1035006539 | G32: 3007734346 | J32: 2015 | K32: =2025-J32 -> 10 | L32: PRINCIPIANTES | M32: =VLOOKUP($L32,CATEGORIAS!$I$2:$J$15,2,0) -> P | N32: =CONCATENATE($J32,$M32) -> 2015P | O32: =VLOOKUP($N32,CATEGORIAS!$B$1:$G$245,2,0) -> PRINCIPIANTES 9 Y 10 AÑOS | P32: BMX ENVIGADO
B33: 33 | C33: MARIO ANDRES | D33: JIMENEZ CARDENAS | E33: TI | F33: 1123810393 | G33: 3113383616 | J33: 2012 | K33: =2025-J33 -> 13 | L33: NOVATOS | M33: =VLOOKUP($L33,CATEGORIAS!$I$2:$J$15,2,0) -> N | N33: =CONCATENATE($J33,$M33) -> 2012N | O33: =VLOOKUP($N33,CATEGORIAS!$B$1:$G$245,2,0) -> NOVATOS 13 Y 14 AÑOS | P33: BMX ENVIGADO
B34: 34 | C34: sebastian | D34: londoiño henao | E34: TI | F34: 1035002651 | G34: 3128378959 | J34: 2013 | K34: =2025-J34 -> 12 | L34: PRINCIPIANTES | M34: =VLOOKUP($L34,CATEGORIAS!$I$2:$J$15,2,0) -> P | N34: =CONCATENATE($J34,$M34) -> 2013P | O34: =VLOOKUP($N34,CATEGORIAS!$B$1:$G$245,2,0) -> PRINCIPIANTES 11 Y 12 AÑOS | P34: BMX ENVIGADO
B35: 35 | C35: JUAN DAVID | D35: LOZADA GRACIA | E35: TI | F35: 1032799804 | G35: 3243027591 | J35: 2010 | K35: =2025-J35 -> 15 | L35: novatos | M35: =VLOOKUP($L35,CATEGORIAS!$I$2:$J$15,2,0) -> N | N35: =CONCATENATE($J35,$M35) -> 2010N | O35: =VLOOKUP($N35,CATEGORIAS!$B$1:$G$245,2,0) -> NOVATOS 15 Y 16 AÑOS | P35: BMX ENVIGADO
B36: 36 | C36: AMALIA | D36: MARIN GONZALEZ | E36: TI | F36: 1036457209 | G36: 3004405685 | J36: 2014 | K36: =2025-J36 -> 11 | L36: DAMAS | M36: =VLOOKUP($L36,CATEGORIAS!$I$2:$J$15,2,0) -> D | N36: =CONCATENATE($J36,$M36) -> 2014D | O36: =VLOOKUP($N36,CATEGORIAS!$B$1:$G$245,2,0) -> DAMAS 11 Y 12 AÑOS | P36: BMX ENVIGADO
B37: 37 | C37: SIMON | D37: MASSEY | E37: TI | F37: 1035000388 | G37: 3005860657 | J37: 2012 | K37: =2025-J37 -> 13 | L37: NOVATOS | M37: =VLOOKUP($L37,CATEGORIAS!$I$2:$J$15,2,0) -> N | N37: =CONCATENATE($J37,$M37) -> 2012N | O37: =VLOOKUP($N37,CATEGORIAS!$B$1:$G$245,2,0) -> NOVATOS 13 Y 14 AÑOS | P37: BMX ENVIGADO
B38: 38 | C38: jeronimo | D38: montoya velez | E38: TI | F38: 1011410841 | G38: 3017936914 | J38: 2015 | K38: =2025-J38 -> 10 | L38: novatos | M38: =VLOOKUP($L38,CATEGORIAS!$I$2:$J$15,2,0) -> N | N38: =CONCATENATE($J38,$M38) -> 2015N | O38: =VLOOKUP($N38,CATEGORIAS!$B$1:$G$245,2,0) -> NOVATOS 9 Y 10 AÑOS | P38: BMX ENVIGADO
B39: 39 | C39: matthew | D39: morales giraldo | E39: TI | F39: 1053847569 | G39: 3192233620 | J39: 2011 | K39: =2025-J39 -> 14 | L39: PRINCIPIANTES | M39: =VLOOKUP($L39,CATEGORIAS!$I$2:$J$15,2,0) -> P | N39: =CONCATENATE($J39,$M39) -> 2011P | O39: =VLOOKUP($N39,CATEGORIAS!$B$1:$G$245,2,0) -> PRINCIPIANTES 13 Y 14 AÑOS | P39: BMX ENVIGADO
B40: 40 | C40: nicolas | D40: moreno garcia | E40: TI | F40: 1025769956 | G40: 3147193549 | J40: 2014 | K40: =2025-J40 -> 11 | L40: novatos | M40: =VLOOKUP($L40,CATEGORIAS!$I$2:$J$15,2,0) -> N | N40: =CONCATENATE($J40,$M40) -> 2014N | O40: =VLOOKUP($N40,CATEGORIAS!$B$1:$G$245,2,0) -> NOVATOS 11 Y 12 AÑOS | P40: BMX ENVIGADO
B41: 41 | C41: matias | D41: munera | E41: TI | F41: 1035004213 | G41: 3148940891 | J41: 2014 | K41: =2025-J41 -> 11 | L41: PRINCIPIANTES | M41: =VLOOKUP($L41,CATEGORIAS!$I$2:$J$15,2,0) -> P | N41: =CONCATENATE($J41,$M41) -> 2014P | O41: =VLOOKUP($N41,CATEGORIAS!$B$1:$G$245,2,0) -> PRINCIPIANTES 11 Y 12 AÑOS | P41: BMX ENVIGADO
B42: 42 | C42: JUAN SEBASTIAN | D42: MURILLO ZULUAGA | E42: TI | F42: 1038266346 | G42: 3052465638 | J42: 2015 | K42: =2025-J42 -> 10 | L42: PRINCIPIANTES | M42: =VLOOKUP($L42,CATEGORIAS!$I$2:$J$15,2,0) -> P | N42: =CONCATENATE($J42,$M42) -> 2015P | O42: =VLOOKUP($N42,CATEGORIAS!$B$1:$G$245,2,0) -> PRINCIPIANTES 9 Y 10 AÑOS | P42: BMX ENVIGADO
...

Sheet PILOTOS ANTIGUOS
A1: INSCRIPCION ANTIGUOS | N1: X VALIDA
A2: ESCRIBE TU NUMERO DE COMPETENCIA
A3: NUMERO | C3: NOMBRES | D3: APELLIDOS | E3: T. DOC. | F3: NU. DOC. | G3: TELEFONO | H3: DIA | I3: MES | J3: AÑO | K3: FEC | L3: CATEGORIAS | M3: CLUBES | N3: COMENTARIOS
C4: =VLOOKUP($A4,'BASE DE DATOS'!B$2:P$1443,2,0) -> #N/A | D4: =VLOOKUP($A4,'BASE DE DATOS'!$B$1:$P$1443,3,0) -> #N/A | E4: =VLOOKUP($A4,'BASE DE DATOS'!B$2:P$1443,4,0) -> #N/A | F4: =VLOOKUP($A4,'BASE DE DATOS'!$B$2:$P$1443,5,0) -> #N/A | G4: =VLOOKUP($A4,'BASE DE DATOS'!$B$2:$P$1443,6,0) -> #N/A | H4: =VLOOKUP($A4,'BASE DE DATOS'!$B$2:$P$1443,7,0) -> #N/A | I4: =VLOOKUP($A4,'BASE DE DATOS'!$B$2:$P$1443,8,0) -> #N/A | J4: =VLOOKUP($A4,'BASE DE DATOS'!$B$2:$P$1443,9,0) -> #N/A | K4: =CONCATENATE(H4,R4,I4,R4,J4) -> #N/A | L4: =VLOOKUP($A4,'BASE DE DATOS'!$B$2:$P$1443,14,0) -> #N/A | M4: =VLOOKUP($A4,'BASE DE DATOS'!$B$2:$P$1443,15,0) -> #N/A | Q4: CC
C5: =VLOOKUP($A5,'BASE DE DATOS'!B$2:P$1443,2,0) -> #N/A | D5: =VLOOKUP($A5,'BASE DE DATOS'!$B$1:$P$1443,3,0) -> #N/A | E5: =VLOOKUP($A5,'BASE DE DATOS'!B$2:P$1443,4,0) -> #N/A | F5: =VLOOKUP($A5,'BASE DE DATOS'!$B$2:$P$1443,5,0) -> #N/A | G5: =VLOOKUP($A5,'BASE DE DATOS'!$B$2:$P$1443,6,0) -> #N/A | H5: =VLOOKUP($A5,'BASE DE DATOS'!$B$2:$P$1443,7,0) -> #N/A | I5: =VLOOKUP($A5,'BASE DE DATOS'!$B$2:$P$1443,8,0) -> #N/A | J5: =VLOOKUP($A5,'BASE DE DATOS'!$B$2:$P$1443,9,0) -> #N/A | K5: =CONCATENATE(H5,R5,I5,R5,J5) -> #N/A | L5: =VLOOKUP($A5,'BASE DE DATOS'!$B$2:$P$1443,14,0) -> #N/A | M5: =VLOOKUP($A5,'BASE DE DATOS'!$B$2:$P$1443,15,0) -> #N/A | Q5: PERMISO ESPECIAL
C6: =VLOOKUP($A6,'BASE DE DATOS'!B$2:P$1443,2,0) -> #N/A | D6: =VLOOKUP($A6,'BASE DE DATOS'!$B$1:$P$1443,3,0) -> #N/A | E6: =VLOOKUP($A6,'BASE DE DATOS'!B$2:P$1443,4,0) -> #N/A | F6: =VLOOKUP($A6,'BASE DE DATOS'!$B$2:$P$1443,5,0) -> #N/A | G6: =VLOOKUP($A6,'BASE DE DATOS'!$B$2:$P$1443,6,0) -> #N/A | H6: =VLOOKUP($A6,'BASE DE DATOS'!$B$2:$P$1443,7,0) -> #N/A | I6: =VLOOKUP($A6,'BASE DE DATOS'!$B$2:$P$1443,8,0) -> #N/A | J6: =VLOOKUP($A6,'BASE DE DATOS'!$B$2:$P$1443,9,0) -> #N/A | K6: =CONCATENATE(H6,R6,I6,R6,J6) -> #N/A | L6: =VLOOKUP($A6,'BASE DE DATOS'!$B$2:$P$1443,14,0) -> #N/A | M6: =VLOOKUP($A6,'BASE DE DATOS'!$B$2:$P$1443,15,0) -> #N/A | Q6: PASAPORTE
C7: =VLOOKUP($A7,'BASE DE DATOS'!B$2:P$1443,2,0) -> #N/A | D7: =VLOOKUP($A7,'BASE DE DATOS'!$B$1:$P$1443,3,0) -> #N/A | E7: =VLOOKUP($A7,'BASE DE DATOS'!B$2:P$1443,4,0) -> #N/A | F7: =VLOOKUP($A7,'BASE DE DATOS'!$B$2:$P$1443,5,0) -> #N/A | G7: =VLOOKUP($A7,'BASE DE DATOS'!$B$2:$P$1443,6,0) -> #N/A | H7: =VLOOKUP($A7,'BASE DE DATOS'!$B$2:$P$1443,7,0) -> #N/A | I7: =VLOOKUP($A7,'BASE DE DATOS'!$B$2:$P$1443,8,0) -> #N/A | J7: =VLOOKUP($A7,'BASE DE DATOS'!$B$2:$P$1443,9,0) -> #N/A | K7: =CONCATENATE(H7,R7,I7,R7,J7) -> #N/A | L7: =VLOOKUP($A7,'BASE DE DATOS'!$B$2:$P$1443,14,0) -> #N/A | M7: =VLOOKUP($A7,'BASE DE DATOS'!$B$2:$P$1443,15,0) -> #N/A
C8: =VLOOKUP($A8,'BASE DE DATOS'!B$2:P$1443,2,0) -> #N/A | D8: =VLOOKUP($A8,'BASE DE DATOS'!$B$1:$P$1443,3,0) -> #N/A | E8: =VLOOKUP($A8,'BASE DE DATOS'!B$2:P$1443,4,0) -> #N/A | F8: =VLOOKUP($A8,'BASE DE DATOS'!$B$2:$P$1443,5,0) -> #N/A | G8: =VLOOKUP($A8,'BASE DE DATOS'!$B$2:$P$1443,6,0) -> #N/A | H8: =VLOOKUP($A8,'BASE DE DATOS'!$B$2:$P$1443,7,0) -> #N/A | I8: =VLOOKUP($A8,'BASE DE DATOS'!$B$2:$P$1443,8,0) -> #N/A | J8: =VLOOKUP($A8,'BASE DE DATOS'!$B$2:$P$1443,9,0) -> #N/A | K8: =CONCATENATE(H8,R8,I8,R8,J8) -> #N/A | L8: =VLOOKUP($A8,'BASE DE DATOS'!$B$2:$P$1443,14,0) -> #N/A | M8: =VLOOKUP($A8,'BASE DE DATOS'!$B$2:$P$1443,15,0) -> #N/A
C9: =VLOOKUP($A9,'BASE DE DATOS'!B$2:P$1443,2,0) -> #N/A | D9: =VLOOKUP($A9,'BASE DE DATOS'!$B$1:$P$1443,3,0) -> #N/A | E9: =VLOOKUP($A9,'BASE DE DATOS'!B$2:P$1443,4,0) -> #N/A | F9: =VLOOKUP($A9,'BASE DE DATOS'!$B$2:$P$1443,5,0) -> #N/A | G9: =VLOOKUP($A9,'BASE DE DATOS'!$B$2:$P$1443,6,0) -> #N/A | H9: =VLOOKUP($A9,'BASE DE DATOS'!$B$2:$P$1443,7,0) -> #N/A | I9: =VLOOKUP($A9,'BASE DE DATOS'!$B$2:$P$1443,8,0) -> #N/A | J9: =VLOOKUP($A9,'BASE DE DATOS'!$B$2:$P$1443,9,0) -> #N/A | K9: =CONCATENATE(H9,R9,I9,R9,J9) -> #N/A | L9: =VLOOKUP($A9,'BASE DE DATOS'!$B$2:$P$1443,14,0) -> #N/A | M9: =VLOOKUP($A9,'BASE DE DATOS'!$B$2:$P$1443,15,0) -> #N/A
C10: =VLOOKUP($A10,'BASE DE DATOS'!B$2:P$1443,2,0) -> #N/A | D10: =VLOOKUP($A10,'BASE DE DATOS'!$B$1:$P$1443,3,0) -> #N/A | E10: =VLOOKUP($A10,'BASE DE DATOS'!B$2:P$1443,4,0) -> #N/A | F10: =VLOOKUP($A10,'BASE DE DATOS'!$B$2:$P$1443,5,0) -> #N/A | G10: =VLOOKUP($A10,'BASE DE DATOS'!$B$2:$P$1443,6,0) -> #N/A | H10: =VLOOKUP($A10,'BASE DE DATOS'!$B$2:$P$1443,7,0) -> #N/A | I10: =VLOOKUP($A10,'BASE DE DATOS'!$B$2:$P$1443,8,0) -> #N/A | J10: =VLOOKUP($A10,'BASE DE DATOS'!$B$2:$P$1443,9,0) -> #N/A | K10: =CONCATENATE(H10,R10,I10,R10,J10) -> #N/A | L10: =VLOOKUP($A10,'BASE DE DATOS'!$B$2:$P$1443,14,0) -> #N/A | M10: =VLOOKUP($A10,'BASE DE DATOS'!$B$2:$P$1443,15,0) -> #N/A
C11: =VLOOKUP($A11,'BASE DE DATOS'!B$2:P$1443,2,0) -> #N/A | D11: =VLOOKUP($A11,'BASE DE DATOS'!$B$1:$P$1443,3,0) -> #N/A | E11: =VLOOKUP($A11,'BASE DE DATOS'!B$2:P$1443,4,0) -> #N/A | F11: =VLOOKUP($A11,'BASE DE DATOS'!$B$2:$P$1443,5,0) -> #N/A | G11: =VLOOKUP($A11,'BASE DE DATOS'!$B$2:$P$1443,6,0) -> #N/A | H11: =VLOOKUP($A11,'BASE DE DATOS'!$B$2:$P$1443,7,0) -> #N/A | I11: =VLOOKUP($A11,'BASE DE DATOS'!$B$2:$P$1443,8,0) -> #N/A | J11: =VLOOKUP($A11,'BASE DE DATOS'!$B$2:$P$1443,9,0) -> #N/A | K11: =CONCATENATE(H11,R11,I11,R11,J11) -> #N/A | L11: =VLOOKUP($A11,'BASE DE DATOS'!$B$2:$P$1443,14,0) -> #N/A | M11: =VLOOKUP($A11,'BASE DE DATOS'!$B$2:$P$1443,15,0) -> #N/A
C12: =VLOOKUP($A12,'BASE DE DATOS'!B$2:P$1443,2,0) -> #N/A | D12: =VLOOKUP($A12,'BASE DE DATOS'!$B$1:$P$1443,3,0) -> #N/A | E12: =VLOOKUP($A12,'BASE DE DATOS'!B$2:P$1443,4,0) -> #N/A | F12: =VLOOKUP($A12,'BASE DE DATOS'!$B$2:$P$1443,5,0) -> #N/A | G12: =VLOOKUP($A12,'BASE DE DATOS'!$B$2:$P$1443,6,0) -> #N/A | H12: =VLOOKUP($A12,'BASE DE DATOS'!$B$2:$P$1443,7,0) -> #N/A | I12: =VLOOKUP($A12,'BASE DE DATOS'!$B$2:$P$1443,8,0) -> #N/A | J12: =VLOOKUP($A12,'BASE DE DATOS'!$B$2:$P$1443,9,0) -> #N/A | K12: =CONCATENATE(H12,R12,I12,R12,J12) -> #N/A | L12: =VLOOKUP($A12,'BASE DE DATOS'!$B$2:$P$1443,14,0) -> #N/A | M12: =VLOOKUP($A12,'BASE DE DATOS'!$B$2:$P$1443,15,0) -> #N/A
C13: =VLOOKUP($A13,'BASE DE DATOS'!B$2:P$1443,2,0) -> #N/A | D13: =VLOOKUP($A13,'BASE DE DATOS'!$B$1:$P$1443,3,0) -> #N/A | E13: =VLOOKUP($A13,'BASE DE DATOS'!B$2:P$1443,4,0) -> #N/A | F13: =VLOOKUP($A13,'BASE DE DATOS'!$B$2:$P$1443,5,0) -> #N/A | G13: =VLOOKUP($A13,'BASE DE DATOS'!$B$2:$P$1443,6,0) -> #N/A | H13: =VLOOKUP($A13,'BASE DE DATOS'!$B$2:$P$1443,7,0) -> #N/A | I13: =VLOOKUP($A13,'BASE DE DATOS'!$B$2:$P$1443,8,0) -> #N/A | J13: =VLOOKUP($A13,'BASE DE DATOS'!$B$2:$P$1443,9,0) -> #N/A | K13: =CONCATENATE(H13,R13,I13,R13,J13) -> #N/A | L13: =VLOOKUP($A13,'BASE DE DATOS'!$B$2:$P$1443,14,0) -> #N/A | M13: =VLOOKUP($A13,'BASE DE DATOS'!$B$2:$P$1443,15,0) -> #N/A
C14: =VLOOKUP($A14,'BASE DE DATOS'!B$2:P$1443,2,0) -> #N/A | D14: =VLOOKUP($A14,'BASE DE DATOS'!$B$1:$P$1443,3,0) -> #N/A | E14: =VLOOKUP($A14,'BASE DE DATOS'!B$2:P$1443,4,0) -> #N/A | F14: =VLOOKUP($A14,'BASE DE DATOS'!$B$2:$P$1443,5,0) -> #N/A | G14: =VLOOKUP($A14,'BASE DE DATOS'!$B$2:$P$1443,6,0) -> #N/A | H14: =VLOOKUP($A14,'BASE DE DATOS'!$B$2:$P$1443,7,0) -> #N/A | I14: =VLOOKUP($A14,'BASE DE DATOS'!$B$2:$P$1443,8,0) -> #N/A | J14: =VLOOKUP($A14,'BASE DE DATOS'!$B$2:$P$1443,9,0) -> #N/A | K14: =CONCATENATE(H14,R14,I14,R14,J14) -> #N/A | L14: =VLOOKUP($A14,'BASE DE DATOS'!$B$2:$P$1443,14,0) -> #N/A | M14: =VLOOKUP($A14,'BASE DE DATOS'!$B$2:$P$1443,15,0) -> #N/A
C15: =VLOOKUP($A15,'BASE DE DATOS'!B$2:P$1443,2,0) -> #N/A | D15: =VLOOKUP($A15,'BASE DE DATOS'!$B$1:$P$1443,3,0) -> #N/A | E15: =VLOOKUP($A15,'BASE DE DATOS'!B$2:P$1443,4,0) -> #N/A | F15: =VLOOKUP($A15,'BASE DE DATOS'!$B$2:$P$1443,5,0) -> #N/A | G15: =VLOOKUP($A15,'BASE DE DATOS'!$B$2:$P$1443,6,0) -> #N/A | H15: =VLOOKUP($A15,'BASE DE DATOS'!$B$2:$P$1443,7,0) -> #N/A | I15: =VLOOKUP($A15,'BASE DE DATOS'!$B$2:$P$1443,8,0) -> #N/A | J15: =VLOOKUP($A15,'BASE DE DATOS'!$B$2:$P$1443,9,0) -> #N/A | K15: =CONCATENATE(H15,R15,I15,R15,J15) -> #N/A | L15: =VLOOKUP($A15,'BASE DE DATOS'!$B$2:$P$1443,14,0) -> #N/A | M15: =VLOOKUP($A15,'BASE DE DATOS'!$B$2:$P$1443,15,0) -> #N/A
C16: =VLOOKUP($A16,'BASE DE DATOS'!B$2:P$1443,2,0) -> #N/A | D16: =VLOOKUP($A16,'BASE DE DATOS'!$B$1:$P$1443,3,0) -> #N/A | E16: =VLOOKUP($A16,'BASE DE DATOS'!B$2:P$1443,4,0) -> #N/A | F16: =VLOOKUP($A16,'BASE DE DATOS'!$B$2:$P$1443,5,0) -> #N/A | G16: =VLOOKUP($A16,'BASE DE DATOS'!$B$2:$P$1443,6,0) -> #N/A | H16: =VLOOKUP($A16,'BASE DE DATOS'!$B$2:$P$1443,7,0) -> #N/A | I16: =VLOOKUP($A16,'BASE DE DATOS'!$B$2:$P$1443,8,0) -> #N/A | J16: =VLOOKUP($A16,'BASE DE DATOS'!$B$2:$P$1443,9,0) -> #N/A | K16: =CONCATENATE(H16,R16,I16,R16,J16) -> #N/A | L16: =VLOOKUP($A16,'BASE DE DATOS'!$B$2:$P$1443,14,0) -> #N/A | M16: =VLOOKUP($A16,'BASE DE DATOS'!$B$2:$P$1443,15,0) -> #N/A
C17: =VLOOKUP($A17,'BASE DE DATOS'!B$2:P$1443,2,0) -> #N/A | D17: =VLOOKUP($A17,'BASE DE DATOS'!$B$1:$P$1443,3,0) -> #N/A | E17: =VLOOKUP($A17,'BASE DE DATOS'!B$2:P$1443,4,0) -> #N/A | F17: =VLOOKUP($A17,'BASE DE DATOS'!$B$2:$P$1443,5,0) -> #N/A | G17: =VLOOKUP($A17,'BASE DE DATOS'!$B$2:$P$1443,6,0) -> #N/A | H17: =VLOOKUP($A17,'BASE DE DATOS'!$B$2:$P$1443,7,0) -> #N/A | I17: =VLOOKUP($A17,'BASE DE DATOS'!$B$2:$P$1443,8,0) -> #N/A | J17: =VLOOKUP($A17,'BASE DE DATOS'!$B$2:$P$1443,9,0) -> #N/A | K17: =CONCATENATE(H17,R17,I17,R17,J17) -> #N/A | L17: =VLOOKUP($A17,'BASE DE DATOS'!$B$2:$P$1443,14,0) -> #N/A | M17: =VLOOKUP($A17,'BASE DE DATOS'!$B$2:$P$1443,15,0) -> #N/A
C18: =VLOOKUP($A18,'BASE DE DATOS'!B$2:P$1443,2,0) -> #N/A | D18: =VLOOKUP($A18,'BASE DE DATOS'!$B$1:$P$1443,3,0) -> #N/A | E18: =VLOOKUP($A18,'BASE DE DATOS'!B$2:P$1443,4,0) -> #N/A | F18: =VLOOKUP($A18,'BASE DE DATOS'!$B$2:$P$1443,5,0) -> #N/A | G18: =VLOOKUP($A18,'BASE DE DATOS'!$B$2:$P$1443,6,0) -> #N/A | H18: =VLOOKUP($A18,'BASE DE DATOS'!$B$2:$P$1443,7,0) -> #N/A | I18: =VLOOKUP($A18,'BASE DE DATOS'!$B$2:$P$1443,8,0) -> #N/A | J18: =VLOOKUP($A18,'BASE DE DATOS'!$B$2:$P$1443,9,0) -> #N/A | K18: =CONCATENATE(H18,R18,I18,R18,J18) -> #N/A | L18: =VLOOKUP($A18,'BASE DE DATOS'!$B$2:$P$1443,14,0) -> #N/A | M18: =VLOOKUP($A18,'BASE DE DATOS'!$B$2:$P$1443,15,0) -> #N/A
... C29: =VLOOKUP($A29,'BASE DE DATOS'!B$2:P$1443,2,0) -> #N/A | D29: =VLOOKUP($A29,'BASE DE DATOS'!$B$1:$P$1443,3,0) -> #N/A | E29: =VLOOKUP($A29,'BASE DE DATOS'!B$2:P$1443,4,0) -> #N/A | F29: =VLOOKUP($A29,'BASE DE DATOS'!$B$2:$P$1443,5,0) -> #N/A | G29: =VLOOKUP($A29,'BASE DE DATOS'!$B$2:$P$1443,6,0) -> #N/A | H29: =VLOOKUP($A29,'BASE DE DATOS'!$B$2:$P$1443,7,0) -> #N/A | I29: =VLOOKUP($A29,'BASE DE DATOS'!$B$2:$P$1443,8,0) -> #N/A | J29: =VLOOKUP($A29,'BASE DE DATOS'!$B$2:$P$1443,9,0) -> #N/A | K29: =CONCATENATE(H29,R29,I29,R29,J29) -> #N/A | L29: =VLOOKUP($A29,'BASE DE DATOS'!$B$2:$P$1443,14,0) -> #N/A | M29: =VLOOKUP($A29,'BASE DE DATOS'!$B$2:$P$1443,15,0) -> #N/A
C30: =VLOOKUP($A30,'BASE DE DATOS'!B$2:P$1443,2,0) -> #N/A | D30: =VLOOKUP($A30,'BASE DE DATOS'!$B$1:$P$1443,3,0) -> #N/A | E30: =VLOOKUP($A30,'BASE DE DATOS'!B$2:P$1443,4,0) -> #N/A | F30: =VLOOKUP($A30,'BASE DE DATOS'!$B$2:$P$1443,5,0) -> #N/A | G30: =VLOOKUP($A30,'BASE DE DATOS'!$B$2:$P$1443,6,0) -> #N/A | H30: =VLOOKUP($A30,'BASE DE DATOS'!$B$2:$P$1443,7,0) -> #N/A | I30: =VLOOKUP($A30,'BASE DE DATOS'!$B$2:$P$1443,8,0) -> #N/A | J30: =VLOOKUP($A30,'BASE DE DATOS'!$B$2:$P$1443,9,0) -> #N/A | K30: =CONCATENATE(H30,R30,I30,R30,J30) -> #N/A | L30: =VLOOKUP($A30,'BASE DE DATOS'!$B$2:$P$1443,14,0) -> #N/A | M30: =VLOOKUP($A30,'BASE DE DATOS'!$B$2:$P$1443,15,0) -> #N/A | O30: NOVATOS
C31: =VLOOKUP($A31,'BASE DE DATOS'!B$2:P$1443,2,0) -> #N/A | D31: =VLOOKUP($A31,'BASE DE DATOS'!$B$1:$P$1443,3,0) -> #N/A | E31: =VLOOKUP($A31,'BASE DE DATOS'!B$2:P$1443,4,0) -> #N/A | F31: =VLOOKUP($A31,'BASE DE DATOS'!$B$2:$P$1443,5,0) -> #N/A | G31: =VLOOKUP($A31,'BASE DE DATOS'!$B$2:$P$1443,6,0) -> #N/A | H31: =VLOOKUP($A31,'BASE DE DATOS'!$B$2:$P$1443,7,0) -> #N/A | I31: =VLOOKUP($A31,'BASE DE DATOS'!$B$2:$P$1443,8,0) -> #N/A | J31: =VLOOKUP($A31,'BASE DE DATOS'!$B$2:$P$1443,9,0) -> #N/A | K31: =CONCATENATE(H31,R31,I31,R31,J31) -> #N/A | L31: =VLOOKUP($A31,'BASE DE DATOS'!$B$2:$P$1443,14,0) -> #N/A | M31: =VLOOKUP($A31,'BASE DE DATOS'!$B$2:$P$1443,15,0) -> #N/A
C32: =VLOOKUP($A32,'BASE DE DATOS'!B$2:P$1443,2,0) -> #N/A | D32: =VLOOKUP($A32,'BASE DE DATOS'!$B$1:$P$1443,3,0) -> #N/A | E32: =VLOOKUP($A32,'BASE DE DATOS'!B$2:P$1443,4,0) -> #N/A | F32: =VLOOKUP($A32,'BASE DE DATOS'!$B$2:$P$1443,5,0) -> #N/A | G32: =VLOOKUP($A32,'BASE DE DATOS'!$B$2:$P$1443,6,0) -> #N/A | H32: =VLOOKUP($A32,'BASE DE DATOS'!$B$2:$P$1443,7,0) -> #N/A | I32: =VLOOKUP($A32,'BASE DE DATOS'!$B$2:$P$1443,8,0) -> #N/A | J32: =VLOOKUP($A32,'BASE DE DATOS'!$B$2:$P$1443,9,0) -> #N/A | K32: =CONCATENATE(H32,R32,I32,R32,J32) -> #N/A | L32: =VLOOKUP($A32,'BASE DE DATOS'!$B$2:$P$1443,14,0) -> #N/A | M32: =VLOOKUP($A32,'BASE DE DATOS'!$B$2:$P$1443,15,0) -> #N/A
C33: =VLOOKUP($A33,'BASE DE DATOS'!B$2:P$1443,2,0) -> #N/A | D33: =VLOOKUP($A33,'BASE DE DATOS'!$B$1:$P$1443,3,0) -> #N/A | E33: =VLOOKUP($A33,'BASE DE DATOS'!B$2:P$1443,4,0) -> #N/A | F33: =VLOOKUP($A33,'BASE DE DATOS'!$B$2:$P$1443,5,0) -> #N/A | G33: =VLOOKUP($A33,'BASE DE DATOS'!$B$2:$P$1443,6,0) -> #N/A | H33: =VLOOKUP($A33,'BASE DE DATOS'!$B$2:$P$1443,7,0) -> #N/A | I33: =VLOOKUP($A33,'BASE DE DATOS'!$B$2:$P$1443,8,0) -> #N/A | J33: =VLOOKUP($A33,'BASE DE DATOS'!$B$2:$P$1443,9,0) -> #N/A | K33: =CONCATENATE(H33,R33,I33,R33,J33) -> #N/A | L33: =VLOOKUP($A33,'BASE DE DATOS'!$B$2:$P$1443,14,0) -> #N/A | M33: =VLOOKUP($A33,'BASE DE DATOS'!$B$2:$P$1443,15,0) -> #N/A
C34: =VLOOKUP($A34,'BASE DE DATOS'!B$2:P$1443,2,0) -> #N/A | D34: =VLOOKUP($A34,'BASE DE DATOS'!$B$1:$P$1443,3,0) -> #N/A | E34: =VLOOKUP($A34,'BASE DE DATOS'!B$2:P$1443,4,0) -> #N/A | F34: =VLOOKUP($A34,'BASE DE DATOS'!$B$2:$P$1443,5,0) -> #N/A | G34: =VLOOKUP($A34,'BASE DE DATOS'!$B$2:$P$1443,6,0) -> #N/A | H34: =VLOOKUP($A34,'BASE DE DATOS'!$B$2:$P$1443,7,0) -> #N/A | I34: =VLOOKUP($A34,'BASE DE DATOS'!$B$2:$P$1443,8,0) -> #N/A | J34: =VLOOKUP($A34,'BASE DE DATOS'!$B$2:$P$1443,9,0) -> #N/A | K34: =CONCATENATE(H34,R34,I34,R34,J34) -> #N/A | L34: =VLOOKUP($A34,'BASE DE DATOS'!$B$2:$P$1443,14,0) -> #N/A | M34: =VLOOKUP($A34,'BASE DE DATOS'!$B$2:$P$1443,15,0) -> #N/A
C35: =VLOOKUP($A35,'BASE DE DATOS'!B$2:P$1443,2,0) -> #N/A | D35: =VLOOKUP($A35,'BASE DE DATOS'!$B$1:$P$1443,3,0) -> #N/A | E35: =VLOOKUP($A35,'BASE DE DATOS'!B$2:P$1443,4,0) -> #N/A | F35: =VLOOKUP($A35,'BASE DE DATOS'!$B$2:$P$1443,5,0) -> #N/A | G35: =VLOOKUP($A35,'BASE DE DATOS'!$B$2:$P$1443,6,0) -> #N/A | H35: =VLOOKUP($A35,'BASE DE DATOS'!$B$2:$P$1443,7,0) -> #N/A | I35: =VLOOKUP($A35,'BASE DE DATOS'!$B$2:$P$1443,8,0) -> #N/A | J35: =VLOOKUP($A35,'BASE DE DATOS'!$B$2:$P$1443,9,0) -> #N/A | K35: =CONCATENATE(H35,R35,I35,R35,J35) -> #N/A | L35: =VLOOKUP($A35,'BASE DE DATOS'!$B$2:$P$1443,14,0) -> #N/A | M35: =VLOOKUP($A35,'BASE DE DATOS'!$B$2:$P$1443,15,0) -> #N/A
C36: =VLOOKUP($A36,'BASE DE DATOS'!B$2:P$1443,2,0) -> #N/A | D36: =VLOOKUP($A36,'BASE DE DATOS'!$B$1:$P$1443,3,0) -> #N/A | E36: =VLOOKUP($A36,'BASE DE DATOS'!B$2:P$1443,4,0) -> #N/A | F36: =VLOOKUP($A36,'BASE DE DATOS'!$B$2:$P$1443,5,0) -> #N/A | G36: =VLOOKUP($A36,'BASE DE DATOS'!$B$2:$P$1443,6,0) -> #N/A | H36: =VLOOKUP($A36,'BASE DE DATOS'!$B$2:$P$1443,7,0) -> #N/A | I36: =VLOOKUP($A36,'BASE DE DATOS'!$B$2:$P$1443,8,0) -> #N/A | J36: =VLOOKUP($A36,'BASE DE DATOS'!$B$2:$P$1443,9,0) -> #N/A | K36: =CONCATENATE(H36,R36,I36,R36,J36) -> #N/A | L36: =VLOOKUP($A36,'BASE DE DATOS'!$B$2:$P$1443,14,0) -> #N/A | M36: =VLOOKUP($A36,'BASE DE DATOS'!$B$2:$P$1443,15,0) -> #N/A
C37: =VLOOKUP($A37,'BASE DE DATOS'!B$2:P$1443,2,0) -> #N/A | D37: =VLOOKUP($A37,'BASE DE DATOS'!$B$1:$P$1443,3,0) -> #N/A | E37: =VLOOKUP($A37,'BASE DE DATOS'!B$2:P$1443,4,0) -> #N/A | F37: =VLOOKUP($A37,'BASE DE DATOS'!$B$2:$P$1443,5,0) -> #N/A | G37: =VLOOKUP($A37,'BASE DE DATOS'!$B$2:$P$1443,6,0) -> #N/A | H37: =VLOOKUP($A37,'BASE DE DATOS'!$B$2:$P$1443,7,0) -> #N/A | I37: =VLOOKUP($A37,'BASE DE DATOS'!$B$2:$P$1443,8,0) -> #N/A | J37: =VLOOKUP($A37,'BASE DE DATOS'!$B$2:$P$1443,9,0) -> #N/A | K37: =CONCATENATE(H37,R37,I37,R37,J37) -> #N/A | L37: =VLOOKUP($A37,'BASE DE DATOS'!$B$2:$P$1443,14,0) -> #N/A | M37: =VLOOKUP($A37,'BASE DE DATOS'!$B$2:$P$1443,15,0) -> #N/A
C38: =VLOOKUP($A38,'BASE DE DATOS'!B$2:P$1443,2,0) -> #N/A | D38: =VLOOKUP($A38,'BASE DE DATOS'!$B$1:$P$1443,3,0) -> #N/A | E38: =VLOOKUP($A38,'BASE DE DATOS'!B$2:P$1443,4,0) -> #N/A | F38: =VLOOKUP($A38,'BASE DE DATOS'!$B$2:$P$1443,5,0) -> #N/A | G38: =VLOOKUP($A38,'BASE DE DATOS'!$B$2:$P$1443,6,0) -> #N/A | H38: =VLOOKUP($A38,'BASE DE DATOS'!$B$2:$P$1443,7,0) -> #N/A | I38: =VLOOKUP($A38,'BASE DE DATOS'!$B$2:$P$1443,8,0) -> #N/A | J38: =VLOOKUP($A38,'BASE DE DATOS'!$B$2:$P$1443,9,0) -> #N/A | K38: =CONCATENATE(H38,R38,I38,R38,J38) -> #N/A | L38: =VLOOKUP($A38,'BASE DE DATOS'!$B$2:$P$1443,14,0) -> #N/A | M38: =VLOOKUP($A38,'BASE DE DATOS'!$B$2:$P$1443,15,0) -> #N/A
C39: =VLOOKUP($A39,'BASE DE DATOS'!B$2:P$1443,2,0) -> #N/A | D39: =VLOOKUP($A39,'BASE DE DATOS'!$B$1:$P$1443,3,0) -> #N/A | E39: =VLOOKUP($A39,'BASE DE DATOS'!B$2:P$1443,4,0) -> #N/A | F39: =VLOOKUP($A39,'BASE DE DATOS'!$B$2:$P$1443,5,0) -> #N/A | G39: =VLOOKUP($A39,'BASE DE DATOS'!$B$2:$P$1443,6,0) -> #N/A | H39: =VLOOKUP($A39,'BASE DE DATOS'!$B$2:$P$1443,7,0) -> #N/A | I39: =VLOOKUP($A39,'BASE DE DATOS'!$B$2:$P$1443,8,0) -> #N/A | J39: =VLOOKUP($A39,'BASE DE DATOS'!$B$2:$P$1443,9,0) -> #N/A | K39: =CONCATENATE(H39,R39,I39,R39,J39) -> #N/A | L39: =VLOOKUP($A39,'BASE DE DATOS'!$B$2:$P$1443,14,0) -> #N/A | M39: =VLOOKUP($A39,'BASE DE DATOS'!$B$2:$P$1443,15,0) -> #N/A
C40: =VLOOKUP($A40,'BASE DE DATOS'!B$2:P$1443,2,0) -> #N/A | D40: =VLOOKUP($A40,'BASE DE DATOS'!$B$1:$P$1443,3,0) -> #N/A | E40: =VLOOKUP($A40,'BASE DE DATOS'!B$2:P$1443,4,0) -> #N/A | F40: =VLOOKUP($A40,'BASE DE DATOS'!$B$2:$P$1443,5,0) -> #N/A | G40: =VLOOKUP($A40,'BASE DE DATOS'!$B$2:$P$1443,6,0) -> #N/A | H40: =VLOOKUP($A40,'BASE DE DATOS'!$B$2:$P$1443,7,0) -> #N/A | I40: =VLOOKUP($A40,'BASE DE DATOS'!$B$2:$P$1443,8,0) -> #N/A | J40: =VLOOKUP($A40,'BASE DE DATOS'!$B$2:$P$1443,9,0) -> #N/A | K40: =CONCATENATE(H40,R40,I40,R40,J40) -> #N/A | L40: =VLOOKUP($A40,'BASE DE DATOS'!$B$2:$P$1443,14,0) -> #N/A | M40: =VLOOKUP($A40,'BASE DE DATOS'!$B$2:$P$1443,15,0) -> #N/A
C41: =VLOOKUP($A41,'BASE DE DATOS'!B$2:P$1443,2,0) -> #N/A | D41: =VLOOKUP($A41,'BASE DE DATOS'!$B$1:$P$1443,3,0) -> #N/A | E41: =VLOOKUP($A41,'BASE DE DATOS'!B$2:P$1443,4,0) -> #N/A | F41: =VLOOKUP($A41,'BASE DE DATOS'!$B$2:$P$1443,5,0) -> #N/A | G41: =VLOOKUP($A41,'BASE DE DATOS'!$B$2:$P$1443,6,0) -> #N/A | H41: =VLOOKUP($A41,'BASE DE DATOS'!$B$2:$P$1443,7,0) -> #N/A | I41: =VLOOKUP($A41,'BASE DE DATOS'!$B$2:$P$1443,8,0) -> #N/A | J41: =VLOOKUP($A41,'BASE DE DATOS'!$B$2:$P$1443,9,0) -> #N/A | K41: =CONCATENATE(H41,R41,I41,R41,J41) -> #N/A | L41: =VLOOKUP($A41,'BASE DE DATOS'!$B$2:$P$1443,14,0) -> #N/A | M41: =VLOOKUP($A41,'BASE DE DATOS'!$B$2:$P$1443,15,0) -> #N/A
C42: =VLOOKUP($A42,'BASE DE DATOS'!B$2:P$1443,2,0) -> #N/A | D42: =VLOOKUP($A42,'BASE DE DATOS'!$B$1:$P$1443,3,0) -> #N/A | E42: =VLOOKUP($A42,'BASE DE DATOS'!B$2:P$1443,4,0) -> #N/A | F42: =VLOOKUP($A42,'BASE DE DATOS'!$B$2:$P$1443,5,0) -> #N/A | G42: =VLOOKUP($A42,'BASE DE DATOS'!$B$2:$P$1443,6,0) -> #N/A | H42: =VLOOKUP($A42,'BASE DE DATOS'!$B$2:$P$1443,7,0) -> #N/A | I42: =VLOOKUP($A42,'BASE DE DATOS'!$B$2:$P$1443,8,0) -> #N/A | J42: =VLOOKUP($A42,'BASE DE DATOS'!$B$2:$P$1443,9,0) -> #N/A | K42: =CONCATENATE(H42,R42,I42,R42,J42) -> #N/A | L42: =VLOOKUP($A42,'BASE DE DATOS'!$B$2:$P$1443,14,0) -> #N/A | M42: =VLOOKUP($A42,'BASE DE DATOS'!$B$2:$P$1443,15,0) -> #N/A
... C76: =VLOOKUP($A76,'BASE DE DATOS'!B$2:P$1443,2,0) -> #N/A | D76: =VLOOKUP($A76,'BASE DE DATOS'!$B$1:$P$1443,3,0) -> #N/A | E76: =VLOOKUP($A76,'BASE DE DATOS'!B$2:P$1443,4,0) -> #N/A | F76: =VLOOKUP($A76,'BASE DE DATOS'!$B$2:$P$1443,5,0) -> #N/A | G76: =VLOOKUP($A76,'BASE DE DATOS'!$B$2:$P$1443,6,0) -> #N/A | H76: =VLOOKUP($A76,'BASE DE DATOS'!$B$2:$P$1443,7,0) -> #N/A | I76: =VLOOKUP($A76,'BASE DE DATOS'!$B$2:$P$1443,8,0) -> #N/A | J76: =VLOOKUP($A76,'BASE DE DATOS'!$B$2:$P$1443,9,0) -> #N/A | K76: =CONCATENATE(H76,R76,I76,R76,J76) -> #N/A | L76: =VLOOKUP($A76,'BASE DE DATOS'!$B$2:$P$1443,14,0) -> #N/A | M76: =VLOOKUP($A76,'BASE DE DATOS'!$B$2:$P$1443,15,0) -> #N/A
C77: =VLOOKUP($A77,'BASE DE DATOS'!B$2:P$1443,2,0) -> #N/A | D77: =VLOOKUP($A77,'BASE DE DATOS'!$B$1:$P$1443,3,0) -> #N/A | E77: =VLOOKUP($A77,'BASE DE DATOS'!B$2:P$1443,4,0) -> #N/A | F77: =VLOOKUP($A77,'BASE DE DATOS'!$B$2:$P$1443,5,0) -> #N/A | G77: =VLOOKUP($A77,'BASE DE DATOS'!$B$2:$P$1443,6,0) -> #N/A | H77: =VLOOKUP($A77,'BASE DE DATOS'!$B$2:$P$1443,7,0) -> #N/A | I77: =VLOOKUP($A77,'BASE DE DATOS'!$B$2:$P$1443,8,0) -> #N/A | J77: =VLOOKUP($A77,'BASE DE DATOS'!$B$2:$P$1443,9,0) -> #N/A | K77: =CONCATENATE(H77,R77,I77,R77,J77) -> #N/A | L77: =VLOOKUP($A77,'BASE DE DATOS'!$B$2:$P$1443,14,0) -> #N/A | M77: =VLOOKUP($A77,'BASE DE DATOS'!$B$2:$P$1443,15,0) -> #N/A | O77: FOUR CROSS
C78: =VLOOKUP($A78,'BASE DE DATOS'!B$2:P$1443,2,0) -> #N/A | D78: =VLOOKUP($A78,'BASE DE DATOS'!$B$1:$P$1443,3,0) -> #N/A | E78: =VLOOKUP($A78,'BASE DE DATOS'!B$2:P$1443,4,0) -> #N/A | F78: =VLOOKUP($A78,'BASE DE DATOS'!$B$2:$P$1443,5,0) -> #N/A | G78: =VLOOKUP($A78,'BASE DE DATOS'!$B$2:$P$1443,6,0) -> #N/A | H78: =VLOOKUP($A78,'BASE DE DATOS'!$B$2:$P$1443,7,0) -> #N/A | I78: =VLOOKUP($A78,'BASE DE DATOS'!$B$2:$P$1443,8,0) -> #N/A | J78: =VLOOKUP($A78,'BASE DE DATOS'!$B$2:$P$1443,9,0) -> #N/A | K78: =CONCATENATE(H78,R78,I78,R78,J78) -> #N/A | L78: =VLOOKUP($A78,'BASE DE DATOS'!$B$2:$P$1443,14,0) -> #N/A | M78: =VLOOKUP($A78,'BASE DE DATOS'!$B$2:$P$1443,15,0) -> #N/A
C79: =VLOOKUP($A79,'BASE DE DATOS'!B$2:P$1443,2,0) -> #N/A | D79: =VLOOKUP($A79,'BASE DE DATOS'!$B$1:$P$1443,3,0) -> #N/A | E79: =VLOOKUP($A79,'BASE DE DATOS'!B$2:P$1443,4,0) -> #N/A | F79: =VLOOKUP($A79,'BASE DE DATOS'!$B$2:$P$1443,5,0) -> #N/A | G79: =VLOOKUP($A79,'BASE DE DATOS'!$B$2:$P$1443,6,0) -> #N/A | H79: =VLOOKUP($A79,'BASE DE DATOS'!$B$2:$P$1443,7,0) -> #N/A | I79: =VLOOKUP($A79,'BASE DE DATOS'!$B$2:$P$1443,8,0) -> #N/A | J79: =VLOOKUP($A79,'BASE DE DATOS'!$B$2:$P$1443,9,0) -> #N/A | K79: =CONCATENATE(H79,R79,I79,R79,J79) -> #N/A | L79: =VLOOKUP($A79,'BASE DE DATOS'!$B$2:$P$1443,14,0) -> #N/A | M79: =VLOOKUP($A79,'BASE DE DATOS'!$B$2:$P$1443,15,0) -> #N/A
C80: =VLOOKUP($A80,'BASE DE DATOS'!B$2:P$1443,2,0) -> #N/A | D80: =VLOOKUP($A80,'BASE DE DATOS'!$B$1:$P$1443,3,0) -> #N/A | E80: =VLOOKUP($A80,'BASE DE DATOS'!B$2:P$1443,4,0) -> #N/A | F80: =VLOOKUP($A80,'BASE DE DATOS'!$B$2:$P$1443,5,0) -> #N/A | G80: =VLOOKUP($A80,'BASE DE DATOS'!$B$2:$P$1443,6,0) -> #N/A | H80: =VLOOKUP($A80,'BASE DE DATOS'!$B$2:$P$1443,7,0) -> #N/A | I80: =VLOOKUP($A80,'BASE DE DATOS'!$B$2:$P$1443,8,0) -> #N/A | J80: =VLOOKUP($A80,'BASE DE DATOS'!$B$2:$P$1443,9,0) -> #N/A | K80: =CONCATENATE(H80,R80,I80,R80,J80) -> #N/A | L80: =VLOOKUP($A80,'BASE DE DATOS'!$B$2:$P$1443,14,0) -> #N/A | M80: =VLOOKUP($A80,'BASE DE DATOS'!$B$2:$P$1443,15,0) -> #N/A
C81: =VLOOKUP($A81,'BASE DE DATOS'!B$2:P$1443,2,0) -> #N/A | D81: =VLOOKUP($A81,'BASE DE DATOS'!$B$1:$P$1443,3,0) -> #N/A | E81: =VLOOKUP($A81,'BASE DE DATOS'!B$2:P$1443,4,0) -> #N/A | F81: =VLOOKUP($A81,'BASE DE DATOS'!$B$2:$P$1443,5,0) -> #N/A | G81: =VLOOKUP($A81,'BASE DE DATOS'!$B$2:$P$1443,6,0) -> #N/A | H81: =VLOOKUP($A81,'BASE DE DATOS'!$B$2:$P$1443,7,0) -> #N/A | I81: =VLOOKUP($A81,'BASE DE DATOS'!$B$2:$P$1443,8,0) -> #N/A | J81: =VLOOKUP($A81,'BASE DE DATOS'!$B$2:$P$1443,9,0) -> #N/A | K81: =CONCATENATE(H81,R81,I81,R81,J81) -> #N/A | L81: =VLOOKUP($A81,'BASE DE DATOS'!$B$2:$P$1443,14,0) -> #N/A | M81: =VLOOKUP($A81,'BASE DE DATOS'!$B$2:$P$1443,15,0) -> #N/A
C82: =VLOOKUP($A82,'BASE DE DATOS'!B$2:P$1443,2,0) -> #N/A | D82: =VLOOKUP($A82,'BASE DE DATOS'!$B$1:$P$1443,3,0) -> #N/A | E82: =VLOOKUP($A82,'BASE DE DATOS'!B$2:P$1443,4,0) -> #N/A | F82: =VLOOKUP($A82,'BASE DE DATOS'!$B$2:$P$1443,5,0) -> #N/A | G82: =VLOOKUP($A82,'BASE DE DATOS'!$B$2:$P$1443,6,0) -> #N/A | H82: =VLOOKUP($A82,'BASE DE DATOS'!$B$2:$P$1443,7,0) -> #N/A | I82: =VLOOKUP($A82,'BASE DE DATOS'!$B$2:$P$1443,8,0) -> #N/A | J82: =VLOOKUP($A82,'BASE DE DATOS'!$B$2:$P$1443,9,0) -> #N/A | K82: =CONCATENATE(H82,R82,I82,R82,J82) -> #N/A | L82: =VLOOKUP($A82,'BASE DE DATOS'!$B$2:$P$1443,14,0) -> #N/A | M82: =VLOOKUP($A82,'BASE DE DATOS'!$B$2:$P$1443,15,0) -> #N/A
C83: =VLOOKUP($A83,'BASE DE DATOS'!B$2:P$1443,2,0) -> #N/A | D83: =VLOOKUP($A83,'BASE DE DATOS'!$B$1:$P$1443,3,0) -> #N/A | E83: =VLOOKUP($A83,'BASE DE DATOS'!B$2:P$1443,4,0) -> #N/A | F83: =VLOOKUP($A83,'BASE DE DATOS'!$B$2:$P$1443,5,0) -> #N/A | G83: =VLOOKUP($A83,'BASE DE DATOS'!$B$2:$P$1443,6,0) -> #N/A | H83: =VLOOKUP($A83,'BASE DE DATOS'!$B$2:$P$1443,7,0) -> #N/A | I83: =VLOOKUP($A83,'BASE DE DATOS'!$B$2:$P$1443,8,0) -> #N/A | J83: =VLOOKUP($A83,'BASE DE DATOS'!$B$2:$P$1443,9,0) -> #N/A | K83: =CONCATENATE(H83,R83,I83,R83,J83) -> #N/A | L83: =VLOOKUP($A83,'BASE DE DATOS'!$B$2:$P$1443,14,0) -> #N/A | M83: =VLOOKUP($A83,'BASE DE DATOS'!$B$2:$P$1443,15,0) -> #N/A
...

Sheet NUEVO PILOTO
A1: INSCRIPCION NUEVOS PILOTOS | L1: X VALIDA
A2: NUMERO | B2: NOMBRES | C2: APELLIDOS | D2: T. DOC. | E2: NU. DOC. | F2: TELEFONO | G2: DIA DE NACIMIENTO | H2: MES DE NACIMIENTO | I2: AÑO DE NACIMIENTO | J2: EDAD | K2: NIVEL DE HABILIDAD | L2: SNH | M2: SCAT | N2: CATEGORIA | O2: CLUB | P2: COMENTARIOS
J3: =2025-I3 -> 2025 | L3: =VLOOKUP($K3,CATEGORIAS!$I$2:$J$15,2,0) -> #N/A | M3: =CONCATENATE($I3,$L3) -> #N/A | N3: =VLOOKUP($M3,CATEGORIAS!$B$1:$G$245,2,0) -> #N/A | Q3: DAMAS | S3: CC
J4: =2025-I4 -> 2025 | L4: =VLOOKUP($K4,CATEGORIAS!$I$2:$J$15,2,0) -> #N/A | M4: =CONCATENATE($I4,$L4) -> #N/A | N4: =VLOOKUP($M4,CATEGORIAS!$B$1:$G$245,2,0) -> #N/A | Q4: EXPERTOS | S4: PASAPORTE
J5: =2025-I5 -> 2025 | L5: =VLOOKUP($K5,CATEGORIAS!$I$2:$J$15,2,0) -> #N/A | M5: =CONCATENATE($I5,$L5) -> #N/A | N5: =VLOOKUP($M5,CATEGORIAS!$B$1:$G$245,2,0) -> #N/A | Q5: FOUR CROSS | S5: PERMISO ESPECIAL
J6: =2025-I6 -> 2025 | L6: =VLOOKUP($K6,CATEGORIAS!$I$2:$J$15,2,0) -> #N/A | M6: =CONCATENATE($I6,$L6) -> #N/A | N6: =VLOOKUP($M6,CATEGORIAS!$B$1:$G$245,2,0) -> #N/A | Q6: MAMICROSS | S6: RC
J7: =2025-I7 -> 2025 | L7: =VLOOKUP($K7,CATEGORIAS!$I$2:$J$15,2,0) -> #N/A | M7: =CONCATENATE($I7,$L7) -> #N/A | N7: =VLOOKUP($M7,CATEGORIAS!$B$1:$G$245,2,0) -> #N/A | Q7: MASTER | S7: TI
J8: =2025-I8 -> 2025 | L8: =VLOOKUP($K8,CATEGORIAS!$I$2:$J$15,2,0) -> #N/A | M8: =CONCATENATE($I8,$L8) -> #N/A | N8: =VLOOKUP($M8,CATEGORIAS!$B$1:$G$245,2,0) -> #N/A | Q8: MINI RIDERS CON PEDALES
J9: =2025-I9 -> 2025 | L9: =VLOOKUP($K9,CATEGORIAS!$I$2:$J$15,2,0) -> #N/A | M9: =CONCATENATE($I9,$L9) -> #N/A | N9: =VLOOKUP($M9,CATEGORIAS!$B$1:$G$245,2,0) -> #N/A | Q9: MINI RIDERS SIN PEDALES
J10: =2025-I10 -> 2025 | L10: =VLOOKUP($K10,CATEGORIAS!$I$2:$J$15,2,0) -> #N/A | M10: =CONCATENATE($I10,$L10) -> #N/A | N10: =VLOOKUP($M10,CATEGORIAS!$B$1:$G$245,2,0) -> #N/A | Q10: NOVATOS
J11: =2025-I11 -> 2025 | L11: =VLOOKUP($K11,CATEGORIAS!$I$2:$J$15,2,0) -> #N/A | M11: =CONCATENATE($I11,$L11) -> #N/A | N11: =VLOOKUP($M11,CATEGORIAS!$B$1:$G$245,2,0) -> #N/A | Q11: OPEN ELITE DAMAS
J12: =2025-I12 -> 2025 | L12: =VLOOKUP($K12,CATEGORIAS!$I$2:$J$15,2,0) -> #N/A | M12: =CONCATENATE($I12,$L12) -> #N/A | N12: =VLOOKUP($M12,CATEGORIAS!$B$1:$G$245,2,0) -> #N/A | Q12: OPEN ELITE VARONES
J13: =2025-I13 -> 2025 | L13: =VLOOKUP($K13,CATEGORIAS!$I$2:$J$15,2,0) -> #N/A | M13: =CONCATENATE($I13,$L13) -> #N/A | N13: =VLOOKUP($M13,CATEGORIAS!$B$1:$G$245,2,0) -> #N/A | Q13: PAPICROSS
J14: =2025-I14 -> 2025 | L14: =VLOOKUP($K14,CATEGORIAS!$I$2:$J$15,2,0) -> #N/A | M14: =CONCATENATE($I14,$L14) -> #N/A | N14: =VLOOKUP($M14,CATEGORIAS!$B$1:$G$245,2,0) -> #N/A | Q14: PRINCIPIANTES
J15: =2025-I15 -> 2025 | L15: =VLOOKUP($K15,CATEGORIAS!$I$2:$J$15,2,0) -> #N/A | M15: =CONCATENATE($I15,$L15) -> #N/A | N15: =VLOOKUP($M15,CATEGORIAS!$B$1:$G$245,2,0) -> #N/A | Q15: SEMILLEROS
J16: =2025-I16 -> 2025 | L16: =VLOOKUP($K16,CATEGORIAS!$I$2:$J$15,2,0) -> #N/A | M16: =CONCATENATE($I16,$L16) -> #N/A | N16: =VLOOKUP($M16,CATEGORIAS!$B$1:$G$245,2,0) -> #N/A | Q16: SENIOR MASTER
J17: =2025-I17 -> 2025 | L17: =VLOOKUP($K17,CATEGORIAS!$I$2:$J$15,2,0) -> #N/A | M17: =CONCATENATE($I17,$L17) -> #N/A | N17: =VLOOKUP($M17,CATEGORIAS!$B$1:$G$245,2,0) -> #N/A
J18: =2025-I18 -> 2025 | L18: =VLOOKUP($K18,CATEGORIAS!$I$2:$J$15,2,0) -> #N/A | M18: =CONCATENATE($I18,$L18) -> #N/A | N18: =VLOOKUP($M18,CATEGORIAS!$B$1:$G$245,2,0) -> #N/A
J19: =2025-I19 -> 2025 | L19: =VLOOKUP($K19,CATEGORIAS!$I$2:$J$15,2,0) -> #N/A | M19: =CONCATENATE($I19,$L19) -> #N/A | N19: =VLOOKUP($M19,CATEGORIAS!$B$1:$G$245,2,0) -> #N/A
J20: =2025-I20 -> 2025 | L20: =VLOOKUP($K20,CATEGORIAS!$I$2:$J$15,2,0) -> #N/A | M20: =CONCATENATE($I20,$L20) -> #N/A | N20: =VLOOKUP($M20,CATEGORIAS!$B$1:$G$245,2,0) -> #N/A
J21: =2025-I21 -> 2025 | L21: =VLOOKUP($K21,CATEGORIAS!$I$2:$J$15,2,0) -> #N/A | M21: =CONCATENATE($I21,$L21) -> #N/A | N21: =VLOOKUP($M21,CATEGORIAS!$B$1:$G$245,2,0) -> #N/A
J22: =2025-I22 -> 2025 | L22: =VLOOKUP($K22,CATEGORIAS!$I$2:$J$15,2,0) -> #N/A | M22: =CONCATENATE($I22,$L22) -> #N/A | N22: =VLOOKUP($M22,CATEGORIAS!$B$1:$G$245,2,0) -> #N/A
J23: =2025-I23 -> 2025 | L23: =VLOOKUP($K23,CATEGORIAS!$I$2:$J$15,2,0) -> #N/A | M23: =CONCATENATE($I23,$L23) -> #N/A | N23: =VLOOKUP($M23,CATEGORIAS!$B$1:$G$245,2,0) -> #N/A
J24: =2025-I24 -> 2025 | L24: =VLOOKUP($K24,CATEGORIAS!$I$2:$J$15,2,0) -> #N/A | M24: =CONCATENATE($I24,$L24) -> #N/A | N24: =VLOOKUP($M24,CATEGORIAS!$B$1:$G$245,2,0) -> #N/A
J25: =2025-I25 -> 2025 | L25: =VLOOKUP($K25,CATEGORIAS!$I$2:$J$15,2,0) -> #N/A | M25: =CONCATENATE($I25,$L25) -> #N/A | N25: =VLOOKUP($M25,CATEGORIAS!$B$1:$G$245,2,0) -> #N/A
J26: =2025-I26 -> 2025 | L26: =VLOOKUP($K26,CATEGORIAS!$I$2:$J$15,2,0) -> #N/A | M26: =CONCATENATE($I26,$L26) -> #N/A | N26: =VLOOKUP($M26,CATEGORIAS!$B$1:$G$245,2,0) -> #N/A
J27: =2025-I27 -> 2025 | L27: =VLOOKUP($K27,CATEGORIAS!$I$2:$J$15,2,0) -> #N/A | M27: =CONCATENATE($I27,$L27) -> #N/A | N27: =VLOOKUP($M27,CATEGORIAS!$B$1:$G$245,2,0) -> #N/A
J28: =2025-I28 -> 2025 | L28: =VLOOKUP($K28,CATEGORIAS!$I$2:$J$15,2,0) -> #N/A | M28: =CONCATENATE($I28,$L28) -> #N/A | N28: =VLOOKUP($M28,CATEGORIAS!$B$1:$G$245,2,0) -> #N/A
... J200: =2025-I200 -> 2025 | L200: =VLOOKUP($K200,CATEGORIAS!$I$2:$J$15,2,0) -> #N/A | M200: =CONCATENATE($I200,$L200) -> #N/A | N200: =VLOOKUP($M200,CATEGORIAS!$B$1:$G$245,2,0) -> #N/A

Sheet CATEGORIAS
B1: CONCAT | C1: CATEGORIA | D1: RANGO DE EDAD | E1: AÑO NACIMIENTO | F1: NIVEL | I1: NIVEL DE HABILIDAD | J1: LETRA
B2: =CONCATENATE(E2,F2) -> 2023Z | C2: MINI RIDERS SIN PEDALES 2 Y 3 AÑOS | D2: 2 - 3 AÑOS | E2: 2023 | F2: Z | G2: =2025-E2 -> 2 | I2: DAMAS | J2: D
B3: =CONCATENATE(E3,F3) -> 2022Z | C3: MINI RIDERS SIN PEDALES 2 Y 3 AÑOS | E3: 2022 | F3: Z | G3: =2025-E3 -> 3 | I3: EXPERTOS | J3: E
B4: =CONCATENATE(E4,F4) -> 2021Z | C4: MINI RIDERS SIN PEDALES 4 Y 5 AÑOS | D4: 4 - 5 AÑOS | E4: 2021 | F4: Z | G4: =2025-E4 -> 4 | I4: FOUR CROSS | J4: F
B5: =CONCATENATE(E5,F5) -> 2020Z | C5: MINI RIDERS SIN PEDALES 4 Y 5 AÑOS | E5: 2020 | F5: Z | G5: =2025-E5 -> 5 | I5: MAMICROSS | J5: WW
B6: =CONCATENATE(E6,F6) -> 2021X | C6: MINI RIDERS CON PEDALES 4 Y 5 AÑOS | D6: 4 - 5 AÑOS | E6: 2021 | F6: X | G6: =2025-E6 -> 4 | I6: MASTER | J6: M
B7: =CONCATENATE(E7,F7) -> 2020X | C7: MINI RIDERS CON PEDALES 4 Y 5 AÑOS | E7: 2020 | F7: X | G7: =2025-E7 -> 5 | I7: MINI RIDERS CON PEDALES | J7: X
B8: =CONCATENATE(E8,F8) -> 2021S | C8: SEMILLEROS 6 AÑOS Y MENOS | D8: 4-6 AÑOS | E8: 2021 | F8: S | G8: =2025-E8 -> 4 | I8: MINI RIDERS SIN PEDALES | J8: Z
B9: =CONCATENATE(E9,F9) -> 2020S | C9: SEMILLEROS 6 AÑOS Y MENOS | E9: 2020 | F9: S | G9: =2025-E9 -> 5 | I9: NOVATOS | J9: N
B10: =CONCATENATE(E10,F10) -> 2019S | C10: SEMILLEROS 6 AÑOS Y MENOS | E10: 2019 | F10: S | G10: =2025-E10 -> 6 | I10: OPEN ELITE DAMAS | J10: Y
B11: =CONCATENATE(E11,F11) -> 2018S | C11: SEMILLEROS 7 Y 8 AÑOS | D11: 7 - 8 AÑOS | E11: 2018 | F11: S | G11: =2025-E11 -> 7 | I11: OPEN ELITE VARONES | J11: T
B12: =CONCATENATE(E12,F12) -> 2017S | C12: SEMILLEROS 7 Y 8 AÑOS | E12: 2017 | F12: S | G12: =2025-E12 -> 8 | I12: PAPICROSS | J12: V
B13: =CONCATENATE(E13,F13) -> 2016S | C13: SEMILLEROS 9 Y 10 AÑOS | D13: 9 - 10 AÑOS | E13: 2016 | F13: S | G13: =2025-E13 -> 9 | I13: PRINCIPIANTES | J13: P
B14: =CONCATENATE(E14,F14) -> 2015S | C14: SEMILLEROS 9 Y 10 AÑOS | E14: 2015 | F14: S | G14: =2025-E14 -> 10 | I14: SEMILLEROS | J14: S
B15: =CONCATENATE(E15,F15) -> 2014S | C15: SEMILLEROS 11 Y 12 AÑOS | D15: 11 - 12 AÑOS | E15: 2014 | F15: S | G15: =2025-E15 -> 11 | I15: SENIOR MASTER | J15: SM
B16: =CONCATENATE(E16,F16) -> 2013S | C16: SEMILLEROS 11 Y 12 AÑOS | E16: 2013 | F16: S | G16: =2025-E16 -> 12
B17: =CONCATENATE(E17,F17) -> 2012S | C17: SEMILLEROS 13 Y 14 AÑOS | D17: 13 - 14 AÑOS | E17: 2012 | F17: S | G17: =2025-E17 -> 13
B18: =CONCATENATE(E18,F18) -> 2011S | C18: SEMILLEROS 13 Y 14 AÑOS | E18: 2011 | F18: S | G18: =2025-E18 -> 14
B19: =CONCATENATE(E19,F19) -> 2010S | C19: SEMILLEROS 15 Y 16 AÑOS | D19: 15 - 16 AÑOS | E19: 2010 | F19: S | G19: =2025-E19 -> 15
B20: =CONCATENATE(E20,F20) -> 2009S | C20: SEMILLEROS 15 Y 16 AÑOS | E20: 2009 | F20: S | G20: =2025-E20 -> 16
B21: =CONCATENATE(E21,F21) -> 2021D | C21: DAMAS 6 AÑOS Y MENOS | D21: 4-6 AÑOS | E21: 2021 | F21: D | G21: =2025-E21 -> 4
B22: =CONCATENATE(E22,F22) -> 2020D | C22: DAMAS 6 AÑOS Y MENOS | E22: 2020 | F22: D | G22: =2025-E22 -> 5
B23: =CONCATENATE(E23,F23) -> 2019D | C23: DAMAS 6 AÑOS Y MENOS | E23: 2019 | F23: D | G23: =2025-E23 -> 6
B24: =CONCATENATE(E24,F24) -> 2018D | C24: DAMAS 7 Y 8 AÑOS | D24: 7 - 8 AÑOS | E24: 2018 | F24: D | G24: =2025-E24 -> 7
B25: =CONCATENATE(E25,F25) -> 2017D | C25: DAMAS 7 Y 8 AÑOS | E25: 2017 | F25: D | G25: =2025-E25 -> 8
B26: =CONCATENATE(E26,F26) -> 2016D | C26: DAMAS 9 Y 10 AÑOS | D26: 9 - 10 AÑOS | E26: 2016 | F26: D | G26: =2025-E26 -> 9
B27: =CONCATENATE(E27,F27) -> 2015D | C27: DAMAS 9 Y 10 AÑOS | E27: 2015 | F27: D | G27: =2025-E27 -> 10
B28: =CONCATENATE(E28,F28) -> 2014D | C28: DAMAS 11 Y 12 AÑOS | D28: 11 - 12 AÑOS | E28: 2014 | F28: D | G28: =2025-E28 -> 11
B29: =CONCATENATE(E29,F29) -> 2013D | C29: DAMAS 11 Y 12 AÑOS | E29: 2013 | F29: D | G29: =2025-E29 -> 12
B30: =CONCATENATE(E30,F30) -> 2012D | C30: DAMAS 13 Y 14 AÑOS | D30: 13 - 14 AÑOS | E30: 2012 | F30: D | G30: =2025-E30 -> 13
B31: =CONCATENATE(E31,F31) -> 2011D | C31: DAMAS 13 Y 14 AÑOS | E31: 2011 | F31: D | G31: =2025-E31 -> 14
B32: =CONCATENATE(E32,F32) -> 2010D | C32: DAMAS 15 AÑOS Y MAS | D32: 15 - 16 AÑOS | E32: 2010 | F32: D | G32: =2025-E32 -> 15
B33: =CONCATENATE(E33,F33) -> 2009D | C33: DAMAS 15 AÑOS Y MAS | E33: 2009 | F33: D | G33: =2025-E33 -> 16
B34: =CONCATENATE(E34,F34) -> 2008D | C34: DAMAS 15 AÑOS Y MAS | E34: 2008 | F34: D | G34: =2025-E34 -> 17
B35: =CONCATENATE(E35,F35) -> 2007D | C35: DAMAS 15 AÑOS Y MAS | E35: 2007 | F35: D | G35: =2025-E35 -> 18
B36: =CONCATENATE(E36,F36) -> 2006D | C36: DAMAS 15 AÑOS Y MAS | E36: 2006 | F36: D | G36: =2025-E36 -> 19
B37: =CONCATENATE(E37,F37) -> 2005D | C37: DAMAS 15 AÑOS Y MAS | E37: 2005 | F37: D | G37: =2025-E37 -> 20
B38: =CONCATENATE(E38,F38) -> 2004D | C38: DAMAS 15 AÑOS Y MAS | E38: 2004 | F38: D | G38: =2025-E38 -> 21
B39: =CONCATENATE(E39,F39) -> 2003D | C39: DAMAS 15 AÑOS Y MAS | E39: 2003 | F39: D | G39: =2025-E39 -> 22
B40: =CONCATENATE(E40,F40) -> 2002D | C40: DAMAS 15 AÑOS Y MAS | E40: 2002 | F40: D | G40: =2025-E40 -> 23
...

Sheet FORMATO EQUIPOS
C1: EQUIPOS VALIDA II | F1: 2025
A2: No | B2: PLATE | C2: NOMBRE | D2: APELLIDOS | E2: CATEGORIA | F2: CLUB
A3: 1
A4: 2
A5: 3
A6: 4
A7: 5
C9: EQUIPOS VALIDA II | F9: 2025
A10: No | B10: PLATE | C10: NOMBRE | D10: APELLIDOS | E10: CATEGORIA | F10: CLUB
A11: 1
A12: 2
A13: 3
A14: 4
A15: 5
C17: EQUIPOS VALIDA II | F17: 2025
B18: PLATE | C18: NOMBRE | D18: APELLIDOS | E18: CATEGORIA | F18: CLUB
A19: 1
A20: 2
A21: 3
A22: 4
A23: 5
C25: EQUIPOS VALIDA II | F25: 2025
A26: No | B26: PLATE | C26: NOMBRE | D26: APELLIDOS | E26: CATEGORIA | F26: CLUB
A27: 1
A28: 2
A29: 3
A30: 4
A31: 5
C33: EQUIPOS VALIDA II | F33: 2025
A34: No | B34: PLATE | C34: NOMBRE | D34: APELLIDOS | E34: CATEGORIA | F34: CLUB
A35: 1
A36: 2
A37: 3
A38: 4
A39: 5

Sheet ACUMULADO EQUIPOS
A1: ACUMULADO EQUIPOS 2025 | Q1: RESULTADOS EQUIPOS 2025
A2: PUESTO | B2: NOMBRE CLUB | C2: I | D2: II | E2: III | F2: IV | G2: V | H2: VI | I2: VII | J2: VIII | K2: IX | L2: X | M2: XI | N2: XII | O2: TOTAL
A3: 1 | B3: PUMAS BMX | C3: 154 | D3: 411 | E3: 0 | F3: 268 | G3: 398 | H3: 264 | I3: 335 | J3: 472 | O3: =SUM(C3:N3) -> 2302
A4: 2 | B4: BMX ENVIGADO | C4: 345 | D4: 0 | E4: 500 | F4: 230 | G4: 431 | H4: 335 | I4: 460 | J4: 448 | O4: =SUM(C4:N4) -> 2749
A5: 3 | B5: AGUILAS BMX | C5: 383 | D5: 491 | E5: 490 | F5: 276 | G5: 534 | H5: 468 | I5: 502 | J5: 422 | O5: =SUM(C5:N5) -> 3566
A6: 4 | B6: SALTAMONTES | C6: 281 | D6: 299 | E6: 269 | F6: 204 | G6: 166 | H6: 0 | I6: 229 | J6: 374 | O6: =SUM(C6:N6) -> 1822 | Q6: RESULTADOS EQUIPOS VALIDA VII
A7: 5 | B7: TEAM LYCANS | C7: 454 | D7: 380 | E7: 288 | F7: 172 | G7: 322 | H7: 370 | I7: 386 | J7: 354 | O7: =SUM(C7:N7) -> 2726 | Q7: No | R7: PLATE | S7: NOMBRE | T7: APELLIDOS | U7: CATEGORIA | V7: CLUB | W7: PUNTOS
A8: 6 | B8: TITANES SAN PEDRO | C8: 0 | D8: 0 | E8: 0 | F8: 268 | G8: 257 | H8: 0 | I8: 0 | J8: 321 | O8: =SUM(C8:N8) -> 846 | Q8: 1 | R8: 7 | S8: =VLOOKUP($R8,'BASE DE DATOS'!$B:$R,2,0) -> MARIA ISABELA | T8: =VLOOKUP($R8,'BASE DE DATOS'!$B:$R,3,0) -> GARCÍA ORDOÑEZ | U8: =VLOOKUP($R8,'BASE DE DATOS'!$B:$R,14,0) -> DAMAS 15 AÑOS Y MAS | V8: =VLOOKUP($R8,'BASE DE DATOS'!$B:$R,15,0) -> AGUILAS BMX | X8: =SUM(W8:W12) -> 0
A9: 7 | B9: ESTRELLAS BMX | C9: 219 | D9: =189+70 -> 259 | E9: 371 | F9: 214 | G9: 366 | H9: 361 | I9: 208 | J9: 318 | O9: =SUM(C9:N9) -> 2316 | Q9: 2 | R9: 537 | S9: =VLOOKUP($R9,'BASE DE DATOS'!$B:$R,2,0) -> MIGUEL ANGEL | T9: =VLOOKUP($R9,'BASE DE DATOS'!$B:$R,3,0) -> ZULETA GÓMEZ | U9: =VLOOKUP($R9,'BASE DE DATOS'!$B:$R,14,0) -> PRINCIPIANTES 13 Y 14 AÑOS
A10: 8 | B10: FTL RUNNERS | C10: 375 | D10: 0 | E10: 307 | F10: 0 | G10: 318 | H10: 289 | I10: 0 | J10: 0 | O10: =SUM(C10:N10) -> 1289 | Q10: 3 | R10: 18 | S10: =VLOOKUP($R10,'BASE DE DATOS'!$B:$R,2,0) -> JERONIMO | T10: =VLOOKUP($R10,'BASE DE DATOS'!$B:$R,3,0) -> SANCHEZ RESTREPO | U10: =VLOOKUP($R10,'BASE DE DATOS'!$B:$R,14,0) -> PRINCIPIANTES 9 Y 10 AÑOS
A11: 9 | B11: MAGIC BMX | C11: 232 | D11: 312 | E11: 392 | F11: 218 | G11: 350 | H11: 129 | I11: 0 | J11: 0 | O11: =SUM(C11:N11) -> 1633 | Q11: 4 | R11: 16 | S11: =VLOOKUP($R11,'BASE DE DATOS'!$B:$R,2,0) -> NEILER DAVID | T11: =VLOOKUP($R11,'BASE DE DATOS'!$B:$R,3,0) -> PEREZ UBARNE | U11: =VLOOKUP($R11,'BASE DE DATOS'!$B:$R,14,0) -> EXPERTOS 10 AÑOS
A12: 10 | B12: ELITE BMX | C12: 154 | D12: 0 | E12: 312 | F12: 0 | G12: 412 | H12: 0 | I12: 0 | J12: 0 | O12: =SUM(C12:N12) -> 878 | Q12: 5 | R12: 15 | S12: =VLOOKUP($R12,'BASE DE DATOS'!$B:$R,2,0) -> MATÍAS | T12: =VLOOKUP($R12,'BASE DE DATOS'!$B:$R,3,0) -> PEÑUELA VARGAS | U12: =VLOOKUP($R12,'BASE DE DATOS'!$B:$R,14,0) -> PRINCIPIANTES 7 Y 8 AÑOS
A13: 11 | B13: CORRECAMINOS | C13: 279 | D13: 372 | E13: 0 | F13: 196 | G13: 330 | H13: 0 | I13: 0 | J13: 0 | O13: =SUM(C13:N13) -> 1177
A14: 12 | B14: BMX LAS PALMAS | C14: 0 | D14: 0 | E14: 0 | F14: 0 | G14: 316 | H14: 0 | I14: 0 | J14: 0 | O14: =SUM(C14:N14) -> 316 | Q14: RESULTADOS EQUIPOS VALIDA VII
A15: 13 | B15: BMX RIDERS | C15: 0 | D15: 0 | E15: 297 | F15: 0 | G15: 0 | H15: 0 | I15: 0 | J15: 0 | O15: =SUM(C15:N15) -> 297 | Q15: No | R15: PLATE | S15: NOMBRE | T15: APELLIDOS | U15: CATEGORIA | V15: CLUB | W15: PUNTOS
A16: 14 | B16: ONE BMX | C16: 233 | D16: 0 | E16: 0 | F16: 0 | G16: 0 | H16: 0 | I16: 0 | J16: 0 | O16: =SUM(C16:N16) -> 233 | Q16: 1 | R16: 1034 | S16: =VLOOKUP($R16,'BASE DE DATOS'!$B:$R,2,0) -> EMANUEL | T16: =VLOOKUP($R16,'BASE DE DATOS'!$B:$R,3,0) -> SERNA BEDOYA | U16: =VLOOKUP($R16,'BASE DE DATOS'!$B:$R,14,0) -> EXPERTOS 17 AÑOS Y MAS | V16: =VLOOKUP($R16,'BASE DE DATOS'!$B:$R,15,0) -> TEAM LYCANS | X16: =SUM(W16:W20) -> 0
Q17: 2 | R17: 201 | S17: =VLOOKUP($R17,'BASE DE DATOS'!$B:$R,2,0) -> matias | T17: =VLOOKUP($R17,'BASE DE DATOS'!$B:$R,3,0) -> jimenez tapasco | U17: =VLOOKUP($R17,'BASE DE DATOS'!$B:$R,14,0) -> EXPERTOS 10 AÑOS
Q18: 3 | R18: 199 | S18: =VLOOKUP($R18,'BASE DE DATOS'!$B:$R,2,0) -> emiliano | T18: =VLOOKUP($R18,'BASE DE DATOS'!$B:$R,3,0) -> gonzalez manco | U18: =VLOOKUP($R18,'BASE DE DATOS'!$B:$R,14,0) -> EXPERTOS 11 AÑOS
Q19: 4 | R19: 192 | S19: =VLOOKUP($R19,'BASE DE DATOS'!$B:$R,2,0) -> jacobo | T19: =VLOOKUP($R19,'BASE DE DATOS'!$B:$R,3,0) -> alzate villa | U19: =VLOOKUP($R19,'BASE DE DATOS'!$B:$R,14,0) -> NOVATOS 11 Y 12 AÑOS
Q20: 5 | R20: 245 | S20: =VLOOKUP($R20,'BASE DE DATOS'!$B:$R,2,0) -> Jeronimo | T20: =VLOOKUP($R20,'BASE DE DATOS'!$B:$R,3,0) -> Acevedo Cruz | U20: =VLOOKUP($R20,'BASE DE DATOS'!$B:$R,14,0) -> PRINCIPIANTES 11 Y 12 AÑOS | Y20: 90
Q22: RESULTADOS EQUIPOS VALIDA VII
Q23: No | R23: PLATE | S23: NOMBRE | T23: APELLIDOS | U23: CATEGORIA | V23: CLUB | W23: PUNTOS
Q24: 1 | R24: 1148 | S24: =VLOOKUP($R24,'BASE DE DATOS'!$B:$R,2,0) -> SANTIAGO | T24: =VLOOKUP($R24,'BASE DE DATOS'!$B:$R,3,0) -> MALAGON ATEHORTUA | U24: =VLOOKUP($R24,'BASE DE DATOS'!$B:$R,14,0) -> NOVATOS 13 Y 14 AÑOS | V24: =VLOOKUP($R24,'BASE DE DATOS'!$B:$R,15,0) -> SALTAMONTES | X24: =SUM(W24:W28) -> 0
Q25: 2 | R25: 525 | S25: =VLOOKUP($R25,'BASE DE DATOS'!$B:$R,2,0) -> LUZ SHAIRYS | T25: =VLOOKUP($R25,'BASE DE DATOS'!$B:$R,3,0) -> MOSQUERA LOPEZ | U25: =VLOOKUP($R25,'BASE DE DATOS'!$B:$R,14,0) -> DAMAS 9 Y 10 AÑOS
Q26: 3 | R26: 138 | S26: =VLOOKUP($R26,'BASE DE DATOS'!$B:$R,2,0) -> JESUS DAVID | T26: =VLOOKUP($R26,'BASE DE DATOS'!$B:$R,3,0) -> SALAZAR FRANCO | U26: =VLOOKUP($R26,'BASE DE DATOS'!$B:$R,14,0) -> MASTER
Q27: 4 | R27: 184 | S27: =VLOOKUP($R27,'BASE DE DATOS'!$B:$R,2,0) -> JERONIMO | T27: =VLOOKUP($R27,'BASE DE DATOS'!$B:$R,3,0) -> PIÑARTE GALLEGO | U27: =VLOOKUP($R27,'BASE DE DATOS'!$B:$R,14,0) -> PRINCIPIANTES 7 Y 8 AÑOS
Q28: 5 | R28: 263 | S28: =VLOOKUP($R28,'BASE DE DATOS'!$B:$R,2,0) -> LUCIANA | T28: =VLOOKUP($R28,'BASE DE DATOS'!$B:$R,3,0) -> RUA HERRERA | U28: =VLOOKUP($R28,'BASE DE DATOS'!$B:$R,14,0) -> DAMAS 11 Y 12 AÑOS
Q30: RESULTADOS EQUIPOS VALIDA VII
Q31: No | R31: PLATE | S31: NOMBRE | T31: APELLIDOS | U31: CATEGORIA | V31: CLUB | W31: PUNTOS
Q32: 1 | R32: 170 | S32: =VLOOKUP($R32,'BASE DE DATOS'!$B:$R,2,0) -> MATEO | T32: =VLOOKUP($R32,'BASE DE DATOS'!$B:$R,3,0) -> RIOS TAMAYO | U32: =VLOOKUP($R32,'BASE DE DATOS'!$B:$R,14,0) -> NOVATOS 9 Y 10 AÑOS | V32: =VLOOKUP($R32,'BASE DE DATOS'!$B:$R,15,0) -> PUMAS BMX | X32: =SUM(W32:W36) -> 0
Q33: 2 | R33: 169 | S33: =VLOOKUP($R33,'BASE DE DATOS'!$B:$R,2,0) -> SANTHIAGO | T33: =VLOOKUP($R33,'BASE DE DATOS'!$B:$R,3,0) -> PEREZ LOBO | U33: =VLOOKUP($R33,'BASE DE DATOS'!$B:$R,14,0) -> PRINCIPIANTES 7 Y 8 AÑOS
Q34: 3 | R34: 161 | S34: =VLOOKUP($R34,'BASE DE DATOS'!$B:$R,2,0) -> EMANUEL | T34: =VLOOKUP($R34,'BASE DE DATOS'!$B:$R,3,0) -> CASTAÑEDA RIOS | U34: =VLOOKUP($R34,'BASE DE DATOS'!$B:$R,14,0) -> NOVATOS 13 Y 14 AÑOS
Q35: 4 | R35: 450 | S35: =VLOOKUP($R35,'BASE DE DATOS'!$B:$R,2,0) -> JUAN PABLO | T35: =VLOOKUP($R35,'BASE DE DATOS'!$B:$R,3,0) -> LOAIZA GUTIERREZ | U35: =VLOOKUP($R35,'BASE DE DATOS'!$B:$R,14,0) -> EXPERTOS 13 AÑOS
Q36: 5 | R36: 167 | S36: =VLOOKUP($R36,'BASE DE DATOS'!$B:$R,2,0) -> MATIAS PINEDA | T36: =VLOOKUP($R36,'BASE DE DATOS'!$B:$R,3,0) -> MORALES | U36: =VLOOKUP($R36,'BASE DE DATOS'!$B:$R,14,0) -> EXPERTOS 14 AÑOS
Q38: RESULTADOS EQUIPOS VALIDA VII
Q39: No | R39: PLATE | S39: NOMBRE | T39: APELLIDOS | U39: CATEGORIA | V39: CLUB | W39: PUNTOS
Q40: 1 | R40: 285 | S40: =VLOOKUP($R40,'BASE DE DATOS'!$B:$R,2,0) -> MARIANA | T40: =VLOOKUP($R40,'BASE DE DATOS'!$B:$R,3,0) -> ZULUAGA MARTINEZ | U40: =VLOOKUP($R40,'BASE DE DATOS'!$B:$R,14,0) -> DAMAS 7 Y 8 AÑOS | V40: =VLOOKUP($R40,'BASE DE DATOS'!$B:$R,15,0) -> ESTRELLAS BMX | X40: =SUM(W40:W44) -> 0
Q41: 2 | R41: 413 | S41: =VLOOKUP($R41,'BASE DE DATOS'!$B:$R,2,0) -> LAURA | T41: =VLOOKUP($R41,'BASE DE DATOS'!$B:$R,3,0) -> MONTOYA CANTOR | U41: =VLOOKUP($R41,'BASE DE DATOS'!$B:$R,14,0) -> DAMAS 11 Y 12 AÑOS
Q42: 3 | R42: 116 | S42: =VLOOKUP($R42,'BASE DE DATOS'!$B:$R,2,0) -> ALEJANDRO | T42: =VLOOKUP($R42,'BASE DE DATOS'!$B:$R,3,0) -> CASTAÑO CASTAÑO | U42: =VLOOKUP($R42,'BASE DE DATOS'!$B:$R,14,0) -> EXPERTOS 9 AÑOS
Q43: 4 | R43: 121 | S43: =VLOOKUP($R43,'BASE DE DATOS'!$B:$R,2,0) -> JEAN PAUL | T43: =VLOOKUP($R43,'BASE DE DATOS'!$B:$R,3,0) -> QUINTERO VELASQUEZ | U43: =VLOOKUP($R43,'BASE DE DATOS'!$B:$R,14,0) -> PRINCIPIANTES 6 AÑOS Y MENOS
...

Sheet Hoja1
A1: NUMERO | B1: NOMBRE | C1: APELLIDOS | D1: CATEGORIA | E1: CLUB
A2: 1167 | B2: ISABELLA | C2: MESTRA GARCIA | D2: PRINCIPIANTES 7 Y 8 AÑOS | E2: INDEPENDIENTES
A3: 1168 | B3: EMILIANI | C3: ALVARES MONSALBE | D3: SEMILLEROS 7 Y 8 AÑOS | E3: INDEPENDIENTES
A4: 1169 | B4: Jair Sebastian | C4: Villadiego Garcés | D4: SEMILLEROS 13 Y 14 AÑOS | E4: MONTERIA BMX
A5: 1170 | B5: Jhoan Reynaldo | C5: Montoya Garcés | D5: SEMILLEROS 15 Y 16 AÑOS | E5: MONTERIA BMX
A6: 1171 | B6: Robert | C6: Álvarez Velásquez | D6: SEMILLEROS 15 Y 16 AÑOS | E6: MONTERIA BMX
A7: 1172 | B7: julian andres | C7: valencia | D7: FOUR CROSS | E7: START RIDERS
A8: 1173 | B8: MATEO | C8: ESPINOSA MONSALVE | D8: SEMILLEROS 9 Y 10 AÑOS | E8: BMX SANTA ROSA
A9: 1174 | B9: JAVIER | C9: VILLA MOLINA | D9: SEMILLEROS 9 Y 10 AÑOS | E9: BMX SANTA ROSA
A10: 1175 | B10: JULIAN | C10: ZAPATA HERNANDEZ | D10: SEMILLEROS 9 Y 10 AÑOS | E10: BMX SANTA ROSA
A11: 1176 | B11: Samuel | C11: Zapata Marin | D11: SEMILLEROS 6 AÑOS Y MENOS | E11: CRANKIDS
A12: 1177 | B12: Jose Miguel | C12: Granada Yepes | D12: SEMILLEROS 11 Y 12 AÑOS | E12: CRANKIDS
A13: 1178 | B13: EMMANUEL | C13: LUJAN CALVO | D13: MINI RIDERS CON PEDALES 4 Y 5 AÑOS | E13: CICLISMO DONMATÍAS
... A91: 1256 | B91: DAVID | C91: GONZALEZ USUGA | D91: PRINCIPIANTES 7 Y 8 AÑOS | E91: TIGERS BMX GIRARDOTA
